BEGIN:VCALENDAR
VERSION:2.0
PRODID:-//YGAMETIME.com//YGT iCal Creator//EN
METHOD:PUBLISH
X-PUBLISHED-TTL:PT6H
REFRESH-INTERVAL;VALUE=DURATION:PT6H
CALSCALE:GREGORIAN
X-WR-CALNAME:YGAMETIME CALENDAR
BEGIN:VTIMEZONE
TZID:America/Chicago
X-LIC-LOCATION:America/Chicago
BEGIN:DAYLIGHT
TZOFFSETFROM:-0600
TZOFFSETTO:-0500
TZNAME:CDT
DTSTART:19700308T020000
RRULE:FREQ=YEARLY;BYMONTH=3;BYDAY=2SU
END:DAYLIGHT
BEGIN:STANDARD
TZOFFSETFROM:-0500
TZOFFSETTO:-0600
TZNAME:CST
DTSTART:19701101T020000
RRULE:FREQ=YEARLY;BYMONTH=11;BYDAY=1SU
END:STANDARD
END:VTIMEZONE
BEGIN:VEVENT
UID:waxahachie-263484@ygametime.com
DTSTAMP:20211204T160000Z
DTSTART;TZID=America/Chicago:20211204T100000
DURATION:PT0H60M0S
SUMMARY:Team Bunting vs Team Holleman
DESCRIPTION:1st/2nd Grade Division | Youth Basketball\nWaxahachie Family YMCA\n
URL;VALUE=URI:https://ygametime.com/branch/waxahachie/sports/2021-winter-youth-basketball/11356/?utm_medium=calendar&utm_source=team_cal&utm_content=league_url#game-263484
LOCATION:Clift Elementary Gym 
BEGIN:VALARM
TRIGGER:-P2H
ACTION:DISPLAY
DESCRIPTION:Team Bunting vs Team Holleman
END:VALARM
END:VEVENT
BEGIN:VEVENT
UID:waxahachie-263494@ygametime.com
DTSTAMP:20211211T160000Z
DTSTART;TZID=America/Chicago:20211211T100000
DURATION:PT0H60M0S
SUMMARY:Team Holleman vs Hawks
DESCRIPTION:1st/2nd Grade Division | Youth Basketball\nWaxahachie Family YMCA\n
URL;VALUE=URI:https://ygametime.com/branch/waxahachie/sports/2021-winter-youth-basketball/11356/?utm_medium=calendar&utm_source=team_cal&utm_content=league_url#game-263494
LOCATION:Waxahachie Family YMCA Main Branch
BEGIN:VALARM
TRIGGER:-P2H
ACTION:DISPLAY
DESCRIPTION:Team Holleman vs Hawks
END:VALARM
END:VEVENT
BEGIN:VEVENT
UID:waxahachie-263504@ygametime.com
DTSTAMP:20211218T160000Z
DTSTART;TZID=America/Chicago:20211218T100000
DURATION:PT0H60M0S
SUMMARY:Team Coates vs Team Holleman
DESCRIPTION:1st/2nd Grade Division | Youth Basketball\nWaxahachie Family YMCA\n
URL;VALUE=URI:https://ygametime.com/branch/waxahachie/sports/2021-winter-youth-basketball/11356/?utm_medium=calendar&utm_source=team_cal&utm_content=league_url#game-263504
LOCATION:Waxahachie Family YMCA Main Branch
BEGIN:VALARM
TRIGGER:-P2H
ACTION:DISPLAY
DESCRIPTION:Team Coates vs Team Holleman
END:VALARM
END:VEVENT
BEGIN:VEVENT
UID:waxahachie-263534@ygametime.com
DTSTAMP:20220108T160000Z
DTSTART;TZID=America/Chicago:20220108T100000
DURATION:PT0H60M0S
SUMMARY:Team Holleman vs Trojans
DESCRIPTION:1st/2nd Grade Division | Youth Basketball\nWaxahachie Family YMCA\n
URL;VALUE=URI:https://ygametime.com/branch/waxahachie/sports/2021-winter-youth-basketball/11356/?utm_medium=calendar&utm_source=team_cal&utm_content=league_url#game-263534
LOCATION:Waxahachie Family YMCA Main Branch
BEGIN:VALARM
TRIGGER:-P2H
ACTION:DISPLAY
DESCRIPTION:Team Holleman vs Trojans
END:VALARM
END:VEVENT
BEGIN:VEVENT
UID:waxahachie-263514@ygametime.com
DTSTAMP:20220115T160000Z
DTSTART;TZID=America/Chicago:20220115T100000
DURATION:PT0H60M0S
SUMMARY:Team Holleman vs Team Collins
DESCRIPTION:1st/2nd Grade Division | Youth Basketball\nWaxahachie Family YMCA\n
URL;VALUE=URI:https://ygametime.com/branch/waxahachie/sports/2021-winter-youth-basketball/11356/?utm_medium=calendar&utm_source=team_cal&utm_content=league_url#game-263514
LOCATION:Waxahachie Family YMCA Main Branch
BEGIN:VALARM
TRIGGER:-P2H
ACTION:DISPLAY
DESCRIPTION:Team Holleman vs Team Collins
END:VALARM
END:VEVENT
BEGIN:VEVENT
UID:waxahachie-263524@ygametime.com
DTSTAMP:20220122T160000Z
DTSTART;TZID=America/Chicago:20220122T100000
DURATION:PT0H60M0S
SUMMARY:Heat vs Team Holleman
DESCRIPTION:1st/2nd Grade Division | Youth Basketball\nWaxahachie Family YMCA\n
URL;VALUE=URI:https://ygametime.com/branch/waxahachie/sports/2021-winter-youth-basketball/11356/?utm_medium=calendar&utm_source=team_cal&utm_content=league_url#game-263524
LOCATION:Waxahachie Family YMCA Main Branch
BEGIN:VALARM
TRIGGER:-P2H
ACTION:DISPLAY
DESCRIPTION:Heat vs Team Holleman
END:VALARM
END:VEVENT
BEGIN:VEVENT
UID:waxahachie-269576@ygametime.com
DTSTAMP:20220212T170000Z
DTSTART;TZID=America/Chicago:20220212T110000
DURATION:PT0H60M0S
SUMMARY:Team Holleman vs Hot Shots 
DESCRIPTION:1st/2nd Grade Division | Youth Basketball\nWaxahachie Family YMCA\nSeed 15 vs Seed 18
URL;VALUE=URI:https://ygametime.com/branch/waxahachie/sports/2021-winter-youth-basketball/11356/?utm_medium=calendar&utm_source=team_cal&utm_content=league_url#game-269576
LOCATION:Clift Elementary Gym 
BEGIN:VALARM
TRIGGER:-P2H
ACTION:DISPLAY
DESCRIPTION:Team Holleman vs Hot Shots 
END:VALARM
END:VEVENT
BEGIN:VEVENT
UID:waxahachie-269582@ygametime.com
DTSTAMP:20220212T180000Z
DTSTART;TZID=America/Chicago:20220212T120000
DURATION:PT0H60M0S
SUMMARY:Mavs vs Team Holleman
DESCRIPTION:1st/2nd Grade Division | Youth Basketball\nWaxahachie Family YMCA\nWinner of Game 3 vs Seed 2
URL;VALUE=URI:https://ygametime.com/branch/waxahachie/sports/2021-winter-youth-basketball/11356/?utm_medium=calendar&utm_source=team_cal&utm_content=league_url#game-269582
LOCATION:Clift Elementary Gym 
BEGIN:VALARM
TRIGGER:-P2H
ACTION:DISPLAY
DESCRIPTION:Mavs vs Team Holleman
END:VALARM
END:VEVENT
END:VCALENDAR

