BEGIN:VCALENDAR
VERSION:2.0
PRODID:-//YGAMETIME.com//YGT iCal Creator//EN
METHOD:PUBLISH
X-PUBLISHED-TTL:PT6H
REFRESH-INTERVAL;VALUE=DURATION:PT6H
CALSCALE:GREGORIAN
X-WR-CALNAME:YGAMETIME CALENDAR
BEGIN:VTIMEZONE
TZID:America/Chicago
X-LIC-LOCATION:America/Chicago
BEGIN:DAYLIGHT
TZOFFSETFROM:-0600
TZOFFSETTO:-0500
TZNAME:CDT
DTSTART:19700308T020000
RRULE:FREQ=YEARLY;BYMONTH=3;BYDAY=2SU
END:DAYLIGHT
BEGIN:STANDARD
TZOFFSETFROM:-0500
TZOFFSETTO:-0600
TZNAME:CST
DTSTART:19701101T020000
RRULE:FREQ=YEARLY;BYMONTH=11;BYDAY=1SU
END:STANDARD
END:VTIMEZONE
BEGIN:VEVENT
UID:waxahachie-263486@ygametime.com
DTSTAMP:20211204T180000Z
DTSTART;TZID=America/Chicago:20211204T120000
DURATION:PT0H60M0S
SUMMARY:Hawks vs Bucks 
DESCRIPTION:1st/2nd Grade Division | Youth Basketball\nWaxahachie Family YMCA\n
URL;VALUE=URI:https://ygametime.com/branch/waxahachie/sports/2021-winter-youth-basketball/11356/?utm_medium=calendar&utm_source=team_cal&utm_content=league_url#game-263486
LOCATION:Clift Elementary Gym 
BEGIN:VALARM
TRIGGER:-P2H
ACTION:DISPLAY
DESCRIPTION:Hawks vs Bucks 
END:VALARM
END:VEVENT
BEGIN:VEVENT
UID:waxahachie-263494@ygametime.com
DTSTAMP:20211211T160000Z
DTSTART;TZID=America/Chicago:20211211T100000
DURATION:PT0H60M0S
SUMMARY:Team Holleman vs Hawks
DESCRIPTION:1st/2nd Grade Division | Youth Basketball\nWaxahachie Family YMCA\n
URL;VALUE=URI:https://ygametime.com/branch/waxahachie/sports/2021-winter-youth-basketball/11356/?utm_medium=calendar&utm_source=team_cal&utm_content=league_url#game-263494
LOCATION:Waxahachie Family YMCA Main Branch
BEGIN:VALARM
TRIGGER:-P2H
ACTION:DISPLAY
DESCRIPTION:Team Holleman vs Hawks
END:VALARM
END:VEVENT
BEGIN:VEVENT
UID:waxahachie-263512@ygametime.com
DTSTAMP:20211218T180000Z
DTSTART;TZID=America/Chicago:20211218T120000
DURATION:PT0H60M0S
SUMMARY:Hawks vs Team Bunting
DESCRIPTION:1st/2nd Grade Division | Youth Basketball\nWaxahachie Family YMCA\n
URL;VALUE=URI:https://ygametime.com/branch/waxahachie/sports/2021-winter-youth-basketball/11356/?utm_medium=calendar&utm_source=team_cal&utm_content=league_url#game-263512
LOCATION:Waxahachie Family YMCA Main Branch
BEGIN:VALARM
TRIGGER:-P2H
ACTION:DISPLAY
DESCRIPTION:Hawks vs Team Bunting
END:VALARM
END:VEVENT
BEGIN:VEVENT
UID:waxahachie-263540@ygametime.com
DTSTAMP:20220108T220000Z
DTSTART;TZID=America/Chicago:20220108T160000
DURATION:PT0H60M0S
SUMMARY:Hawks vs Team Collins
DESCRIPTION:1st/2nd Grade Division | Youth Basketball\nWaxahachie Family YMCA\n
URL;VALUE=URI:https://ygametime.com/branch/waxahachie/sports/2021-winter-youth-basketball/11356/?utm_medium=calendar&utm_source=team_cal&utm_content=league_url#game-263540
LOCATION:Waxahachie Family YMCA Main Branch
BEGIN:VALARM
TRIGGER:-P2H
ACTION:DISPLAY
DESCRIPTION:Hawks vs Team Collins
END:VALARM
END:VEVENT
BEGIN:VEVENT
UID:waxahachie-263520@ygametime.com
DTSTAMP:20220115T220000Z
DTSTART;TZID=America/Chicago:20220115T160000
DURATION:PT0H60M0S
SUMMARY:Game Winners vs Hawks
DESCRIPTION:1st/2nd Grade Division | Youth Basketball\nWaxahachie Family YMCA\n
URL;VALUE=URI:https://ygametime.com/branch/waxahachie/sports/2021-winter-youth-basketball/11356/?utm_medium=calendar&utm_source=team_cal&utm_content=league_url#game-263520
LOCATION:Waxahachie Family YMCA Main Branch
BEGIN:VALARM
TRIGGER:-P2H
ACTION:DISPLAY
DESCRIPTION:Game Winners vs Hawks
END:VALARM
END:VEVENT
BEGIN:VEVENT
UID:waxahachie-263530@ygametime.com
DTSTAMP:20220122T220000Z
DTSTART;TZID=America/Chicago:20220122T160000
DURATION:PT0H60M0S
SUMMARY:Team Coates vs Hawks
DESCRIPTION:1st/2nd Grade Division | Youth Basketball\nWaxahachie Family YMCA\n
URL;VALUE=URI:https://ygametime.com/branch/waxahachie/sports/2021-winter-youth-basketball/11356/?utm_medium=calendar&utm_source=team_cal&utm_content=league_url#game-263530
LOCATION:Waxahachie Family YMCA Main Branch
BEGIN:VALARM
TRIGGER:-P2H
ACTION:DISPLAY
DESCRIPTION:Team Coates vs Hawks
END:VALARM
END:VEVENT
BEGIN:VEVENT
UID:waxahachie-269583@ygametime.com
DTSTAMP:20220212T220000Z
DTSTART;TZID=America/Chicago:20220212T160000
DURATION:PT0H60M0S
SUMMARY:Raiders vs Hawks
DESCRIPTION:1st/2nd Grade Division | Youth Basketball\nWaxahachie Family YMCA\nSeed 7 vs Seed 10
URL;VALUE=URI:https://ygametime.com/branch/waxahachie/sports/2021-winter-youth-basketball/11356/?utm_medium=calendar&utm_source=team_cal&utm_content=league_url#game-269583
LOCATION:Clift Elementary Gym 
BEGIN:VALARM
TRIGGER:-P2H
ACTION:DISPLAY
DESCRIPTION:Raiders vs Hawks
END:VALARM
END:VEVENT
END:VCALENDAR

