BEGIN:VCALENDAR
VERSION:2.0
PRODID:-//YGAMETIME.com//YGT iCal Creator//EN
METHOD:PUBLISH
X-PUBLISHED-TTL:PT6H
REFRESH-INTERVAL;VALUE=DURATION:PT6H
CALSCALE:GREGORIAN
X-WR-CALNAME:YGAMETIME CALENDAR
BEGIN:VTIMEZONE
TZID:America/Chicago
X-LIC-LOCATION:America/Chicago
BEGIN:DAYLIGHT
TZOFFSETFROM:-0600
TZOFFSETTO:-0500
TZNAME:CDT
DTSTART:19700308T020000
RRULE:FREQ=YEARLY;BYMONTH=3;BYDAY=2SU
END:DAYLIGHT
BEGIN:STANDARD
TZOFFSETFROM:-0500
TZOFFSETTO:-0600
TZNAME:CST
DTSTART:19701101T020000
RRULE:FREQ=YEARLY;BYMONTH=11;BYDAY=1SU
END:STANDARD
END:VTIMEZONE
BEGIN:VEVENT
UID:waxahachie-264249@ygametime.com
DTSTAMP:20211204T150000Z
DTSTART;TZID=America/Chicago:20211204T090000
DURATION:PT0H60M0S
SUMMARY:Waxahachie Heat  vs Legends
DESCRIPTION:3rd/4th Grade Division | Youth Basketball\nWaxahachie Family YMCA\n
URL;VALUE=URI:https://ygametime.com/branch/waxahachie/sports/2021-winter-youth-basketball/11357/?utm_medium=calendar&utm_source=team_cal&utm_content=league_url#game-264249
LOCATION:Waxahachie Family YMCA Main Branch
BEGIN:VALARM
TRIGGER:-P2H
ACTION:DISPLAY
DESCRIPTION:Waxahachie Heat  vs Legends
END:VALARM
END:VEVENT
BEGIN:VEVENT
UID:waxahachie-264259@ygametime.com
DTSTAMP:20211211T170000Z
DTSTART;TZID=America/Chicago:20211211T110000
DURATION:PT0H60M0S
SUMMARY:Hot Shots vs Legends
DESCRIPTION:3rd/4th Grade Division | Youth Basketball\nWaxahachie Family YMCA\n
URL;VALUE=URI:https://ygametime.com/branch/waxahachie/sports/2021-winter-youth-basketball/11357/?utm_medium=calendar&utm_source=team_cal&utm_content=league_url#game-264259
LOCATION:Clift Elementary Gym 
BEGIN:VALARM
TRIGGER:-P2H
ACTION:DISPLAY
DESCRIPTION:Hot Shots vs Legends
END:VALARM
END:VEVENT
BEGIN:VEVENT
UID:waxahachie-264268@ygametime.com
DTSTAMP:20211218T180000Z
DTSTART;TZID=America/Chicago:20211218T120000
DURATION:PT0H60M0S
SUMMARY:Pirates vs Legends
DESCRIPTION:3rd/4th Grade Division | Youth Basketball\nWaxahachie Family YMCA\n
URL;VALUE=URI:https://ygametime.com/branch/waxahachie/sports/2021-winter-youth-basketball/11357/?utm_medium=calendar&utm_source=team_cal&utm_content=league_url#game-264268
LOCATION:Clift Elementary Gym 
BEGIN:VALARM
TRIGGER:-P2H
ACTION:DISPLAY
DESCRIPTION:Pirates vs Legends
END:VALARM
END:VEVENT
BEGIN:VEVENT
UID:waxahachie-264293@ygametime.com
DTSTAMP:20220108T190000Z
DTSTART;TZID=America/Chicago:20220108T130000
DURATION:PT0H60M0S
SUMMARY:Legends vs WPA 
DESCRIPTION:3rd/4th Grade Division | Youth Basketball\nWaxahachie Family YMCA\n
URL;VALUE=URI:https://ygametime.com/branch/waxahachie/sports/2021-winter-youth-basketball/11357/?utm_medium=calendar&utm_source=team_cal&utm_content=league_url#game-264293
LOCATION:Clift Elementary Gym 
BEGIN:VALARM
TRIGGER:-P2H
ACTION:DISPLAY
DESCRIPTION:Legends vs WPA 
END:VALARM
END:VEVENT
BEGIN:VEVENT
UID:waxahachie-264302@ygametime.com
DTSTAMP:20220115T200000Z
DTSTART;TZID=America/Chicago:20220115T140000
DURATION:PT0H60M0S
SUMMARY:Legends vs Wildcats
DESCRIPTION:3rd/4th Grade Division | Youth Basketball\nWaxahachie Family YMCA\n
URL;VALUE=URI:https://ygametime.com/branch/waxahachie/sports/2021-winter-youth-basketball/11357/?utm_medium=calendar&utm_source=team_cal&utm_content=league_url#game-264302
LOCATION:Clift Elementary Gym 
BEGIN:VALARM
TRIGGER:-P2H
ACTION:DISPLAY
DESCRIPTION:Legends vs Wildcats
END:VALARM
END:VEVENT
BEGIN:VEVENT
UID:waxahachie-264279@ygametime.com
DTSTAMP:20220122T210000Z
DTSTART;TZID=America/Chicago:20220122T150000
DURATION:PT0H60M0S
SUMMARY:Legends vs Avengers
DESCRIPTION:3rd/4th Grade Division | Youth Basketball\nWaxahachie Family YMCA\n
URL;VALUE=URI:https://ygametime.com/branch/waxahachie/sports/2021-winter-youth-basketball/11357/?utm_medium=calendar&utm_source=team_cal&utm_content=league_url#game-264279
LOCATION:Clift Elementary Gym 
BEGIN:VALARM
TRIGGER:-P2H
ACTION:DISPLAY
DESCRIPTION:Legends vs Avengers
END:VALARM
END:VEVENT
BEGIN:VEVENT
UID:waxahachie-269439@ygametime.com
DTSTAMP:20220212T180000Z
DTSTART;TZID=America/Chicago:20220212T120000
DURATION:PT0H60M0S
SUMMARY:Legends vs Wildcats
DESCRIPTION:3rd/4th Grade Division | Youth Basketball\nWaxahachie Family YMCA\nSeed 2 vs Seed 15
URL;VALUE=URI:https://ygametime.com/branch/waxahachie/sports/2021-winter-youth-basketball/11357/?utm_medium=calendar&utm_source=team_cal&utm_content=league_url#game-269439
LOCATION:Waxahachie Family YMCA Main Branch
BEGIN:VALARM
TRIGGER:-P2H
ACTION:DISPLAY
DESCRIPTION:Legends vs Wildcats
END:VALARM
END:VEVENT
BEGIN:VEVENT
UID:waxahachie-269445@ygametime.com
DTSTAMP:20220212T200000Z
DTSTART;TZID=America/Chicago:20220212T140000
DURATION:PT0H60M0S
SUMMARY:Legends vs Triple Threat
DESCRIPTION:3rd/4th Grade Division | Youth Basketball\nWaxahachie Family YMCA\nWinner Game 6 vs Winner Game 7
URL;VALUE=URI:https://ygametime.com/branch/waxahachie/sports/2021-winter-youth-basketball/11357/?utm_medium=calendar&utm_source=team_cal&utm_content=league_url#game-269445
LOCATION:Waxahachie Family YMCA Main Branch
BEGIN:VALARM
TRIGGER:-P2H
ACTION:DISPLAY
DESCRIPTION:Legends vs Triple Threat
END:VALARM
END:VEVENT
END:VCALENDAR

