BEGIN:VCALENDAR
VERSION:2.0
PRODID:-//YGAMETIME.com//YGT iCal Creator//EN
METHOD:PUBLISH
X-PUBLISHED-TTL:PT6H
REFRESH-INTERVAL;VALUE=DURATION:PT6H
CALSCALE:GREGORIAN
X-WR-CALNAME:YGAMETIME CALENDAR
BEGIN:VTIMEZONE
TZID:America/Chicago
X-LIC-LOCATION:America/Chicago
BEGIN:DAYLIGHT
TZOFFSETFROM:-0600
TZOFFSETTO:-0500
TZNAME:CDT
DTSTART:19700308T020000
RRULE:FREQ=YEARLY;BYMONTH=3;BYDAY=2SU
END:DAYLIGHT
BEGIN:STANDARD
TZOFFSETFROM:-0500
TZOFFSETTO:-0600
TZNAME:CST
DTSTART:19701101T020000
RRULE:FREQ=YEARLY;BYMONTH=11;BYDAY=1SU
END:STANDARD
END:VTIMEZONE
BEGIN:VEVENT
UID:waxahachie-264253@ygametime.com
DTSTAMP:20211204T190000Z
DTSTART;TZID=America/Chicago:20211204T130000
DURATION:PT0H60M0S
SUMMARY:Boom Shaka Laka vs Lil Ballers
DESCRIPTION:3rd/4th Grade Division | Youth Basketball\nWaxahachie Family YMCA\n
URL;VALUE=URI:https://ygametime.com/branch/waxahachie/sports/2021-winter-youth-basketball/11357/?utm_medium=calendar&utm_source=team_cal&utm_content=league_url#game-264253
LOCATION:Waxahachie Family YMCA Main Branch
BEGIN:VALARM
TRIGGER:-P2H
ACTION:DISPLAY
DESCRIPTION:Boom Shaka Laka vs Lil Ballers
END:VALARM
END:VEVENT
BEGIN:VEVENT
UID:waxahachie-264270@ygametime.com
DTSTAMP:20211218T200000Z
DTSTART;TZID=America/Chicago:20211218T140000
DURATION:PT0H60M0S
SUMMARY:Boom Shaka Laka vs Braves
DESCRIPTION:3rd/4th Grade Division | Youth Basketball\nWaxahachie Family YMCA\n
URL;VALUE=URI:https://ygametime.com/branch/waxahachie/sports/2021-winter-youth-basketball/11357/?utm_medium=calendar&utm_source=team_cal&utm_content=league_url#game-264270
LOCATION:Clift Elementary Gym 
BEGIN:VALARM
TRIGGER:-P2H
ACTION:DISPLAY
DESCRIPTION:Boom Shaka Laka vs Braves
END:VALARM
END:VEVENT
BEGIN:VEVENT
UID:waxahachie-264292@ygametime.com
DTSTAMP:20220108T180000Z
DTSTART;TZID=America/Chicago:20220108T120000
DURATION:PT0H60M0S
SUMMARY:Warriors vs Boom Shaka Laka
DESCRIPTION:3rd/4th Grade Division | Youth Basketball\nWaxahachie Family YMCA\n
URL;VALUE=URI:https://ygametime.com/branch/waxahachie/sports/2021-winter-youth-basketball/11357/?utm_medium=calendar&utm_source=team_cal&utm_content=league_url#game-264292
LOCATION:Clift Elementary Gym 
BEGIN:VALARM
TRIGGER:-P2H
ACTION:DISPLAY
DESCRIPTION:Warriors vs Boom Shaka Laka
END:VALARM
END:VEVENT
BEGIN:VEVENT
UID:waxahachie-265071@ygametime.com
DTSTAMP:20220115T210000Z
DTSTART;TZID=America/Chicago:20220115T150000
DURATION:PT0H60M0S
SUMMARY:Falcons vs Boom Shaka Laka
DESCRIPTION:3rd/4th Grade Division | Youth Basketball\nWaxahachie Family YMCA\n
URL;VALUE=URI:https://ygametime.com/branch/waxahachie/sports/2021-winter-youth-basketball/11357/?utm_medium=calendar&utm_source=team_cal&utm_content=league_url#game-265071
LOCATION:Clift Elementary Gym 
BEGIN:VALARM
TRIGGER:-P2H
ACTION:DISPLAY
DESCRIPTION:Falcons vs Boom Shaka Laka
END:VALARM
END:VEVENT
BEGIN:VEVENT
UID:waxahachie-265072@ygametime.com
DTSTAMP:20220115T220000Z
DTSTART;TZID=America/Chicago:20220115T160000
DURATION:PT0H60M0S
SUMMARY:Mavs vs Boom Shaka Laka
DESCRIPTION:3rd/4th Grade Division | Youth Basketball\nWaxahachie Family YMCA\n
URL;VALUE=URI:https://ygametime.com/branch/waxahachie/sports/2021-winter-youth-basketball/11357/?utm_medium=calendar&utm_source=team_cal&utm_content=league_url#game-265072
LOCATION:Clift Elementary Gym 
BEGIN:VALARM
TRIGGER:-P2H
ACTION:DISPLAY
DESCRIPTION:Mavs vs Boom Shaka Laka
END:VALARM
END:VEVENT
BEGIN:VEVENT
UID:waxahachie-264277@ygametime.com
DTSTAMP:20220122T190000Z
DTSTART;TZID=America/Chicago:20220122T130000
DURATION:PT0H60M0S
SUMMARY:Triple Threat vs Boom Shaka Laka
DESCRIPTION:3rd/4th Grade Division | Youth Basketball\nWaxahachie Family YMCA\n
URL;VALUE=URI:https://ygametime.com/branch/waxahachie/sports/2021-winter-youth-basketball/11357/?utm_medium=calendar&utm_source=team_cal&utm_content=league_url#game-264277
LOCATION:Clift Elementary Gym 
BEGIN:VALARM
TRIGGER:-P2H
ACTION:DISPLAY
DESCRIPTION:Triple Threat vs Boom Shaka Laka
END:VALARM
END:VEVENT
BEGIN:VEVENT
UID:waxahachie-264278@ygametime.com
DTSTAMP:20220122T200000Z
DTSTART;TZID=America/Chicago:20220122T140000
DURATION:PT0H60M0S
SUMMARY:Boom Shaka Laka vs Pirates
DESCRIPTION:3rd/4th Grade Division | Youth Basketball\nWaxahachie Family YMCA\n
URL;VALUE=URI:https://ygametime.com/branch/waxahachie/sports/2021-winter-youth-basketball/11357/?utm_medium=calendar&utm_source=team_cal&utm_content=league_url#game-264278
LOCATION:Clift Elementary Gym 
BEGIN:VALARM
TRIGGER:-P2H
ACTION:DISPLAY
DESCRIPTION:Boom Shaka Laka vs Pirates
END:VALARM
END:VEVENT
BEGIN:VEVENT
UID:waxahachie-269437@ygametime.com
DTSTAMP:20220212T150000Z
DTSTART;TZID=America/Chicago:20220212T090000
DURATION:PT0H60M0S
SUMMARY:Boom Shaka Laka vs Waxahachie Heat 
DESCRIPTION:3rd/4th Grade Division | Youth Basketball\nWaxahachie Family YMCA\nSeed 4 vs Seed 13
URL;VALUE=URI:https://ygametime.com/branch/waxahachie/sports/2021-winter-youth-basketball/11357/?utm_medium=calendar&utm_source=team_cal&utm_content=league_url#game-269437
LOCATION:Waxahachie Family YMCA Main Branch
BEGIN:VALARM
TRIGGER:-P2H
ACTION:DISPLAY
DESCRIPTION:Boom Shaka Laka vs Waxahachie Heat 
END:VALARM
END:VEVENT
BEGIN:VEVENT
UID:waxahachie-269444@ygametime.com
DTSTAMP:20220212T170000Z
DTSTART;TZID=America/Chicago:20220212T110000
DURATION:PT0H60M0S
SUMMARY:Boom Shaka Laka vs Hot Shots
DESCRIPTION:3rd/4th Grade Division | Youth Basketball\nWaxahachie Family YMCA\nWinner Game 4 vs Winner Game 5
URL;VALUE=URI:https://ygametime.com/branch/waxahachie/sports/2021-winter-youth-basketball/11357/?utm_medium=calendar&utm_source=team_cal&utm_content=league_url#game-269444
LOCATION:Waxahachie Family YMCA Main Branch
BEGIN:VALARM
TRIGGER:-P2H
ACTION:DISPLAY
DESCRIPTION:Boom Shaka Laka vs Hot Shots
END:VALARM
END:VEVENT
BEGIN:VEVENT
UID:waxahachie-269447@ygametime.com
DTSTAMP:20220217T020000Z
DTSTART;TZID=America/Chicago:20220216T200000
DURATION:PT0H60M0S
SUMMARY:Mavs vs Boom Shaka Laka
DESCRIPTION:3rd/4th Grade Division | Youth Basketball\nWaxahachie Family YMCA\nWinner Game 10 vs Winner Game 11
URL;VALUE=URI:https://ygametime.com/branch/waxahachie/sports/2021-winter-youth-basketball/11357/?utm_medium=calendar&utm_source=team_cal&utm_content=league_url#game-269447
LOCATION:Clift Elementary Gym 
BEGIN:VALARM
TRIGGER:-P2H
ACTION:DISPLAY
DESCRIPTION:Mavs vs Boom Shaka Laka
END:VALARM
END:VEVENT
END:VCALENDAR

