BEGIN:VCALENDAR
VERSION:2.0
PRODID:-//YGAMETIME.com//YGT iCal Creator//EN
METHOD:PUBLISH
X-PUBLISHED-TTL:PT6H
REFRESH-INTERVAL;VALUE=DURATION:PT6H
CALSCALE:GREGORIAN
X-WR-CALNAME:YGAMETIME CALENDAR
BEGIN:VTIMEZONE
TZID:America/Chicago
X-LIC-LOCATION:America/Chicago
BEGIN:DAYLIGHT
TZOFFSETFROM:-0600
TZOFFSETTO:-0500
TZNAME:CDT
DTSTART:19700308T020000
RRULE:FREQ=YEARLY;BYMONTH=3;BYDAY=2SU
END:DAYLIGHT
BEGIN:STANDARD
TZOFFSETFROM:-0500
TZOFFSETTO:-0600
TZNAME:CST
DTSTART:19701101T020000
RRULE:FREQ=YEARLY;BYMONTH=11;BYDAY=1SU
END:STANDARD
END:VTIMEZONE
BEGIN:VEVENT
UID:waxahachie-264254@ygametime.com
DTSTAMP:20211204T200000Z
DTSTART;TZID=America/Chicago:20211204T140000
DURATION:PT0H60M0S
SUMMARY:Braves vs Warriors
DESCRIPTION:3rd/4th Grade Division | Youth Basketball\nWaxahachie Family YMCA\n
URL;VALUE=URI:https://ygametime.com/branch/waxahachie/sports/2021-winter-youth-basketball/11357/?utm_medium=calendar&utm_source=team_cal&utm_content=league_url#game-264254
LOCATION:Waxahachie Family YMCA Main Branch
BEGIN:VALARM
TRIGGER:-P2H
ACTION:DISPLAY
DESCRIPTION:Braves vs Warriors
END:VALARM
END:VEVENT
BEGIN:VEVENT
UID:waxahachie-264262@ygametime.com
DTSTAMP:20211211T200000Z
DTSTART;TZID=America/Chicago:20211211T140000
DURATION:PT0H60M0S
SUMMARY:Falcons vs Warriors
DESCRIPTION:3rd/4th Grade Division | Youth Basketball\nWaxahachie Family YMCA\n
URL;VALUE=URI:https://ygametime.com/branch/waxahachie/sports/2021-winter-youth-basketball/11357/?utm_medium=calendar&utm_source=team_cal&utm_content=league_url#game-264262
LOCATION:Clift Elementary Gym 
BEGIN:VALARM
TRIGGER:-P2H
ACTION:DISPLAY
DESCRIPTION:Falcons vs Warriors
END:VALARM
END:VEVENT
BEGIN:VEVENT
UID:waxahachie-264269@ygametime.com
DTSTAMP:20211218T190000Z
DTSTART;TZID=America/Chicago:20211218T130000
DURATION:PT0H60M0S
SUMMARY:Avengers vs Warriors
DESCRIPTION:3rd/4th Grade Division | Youth Basketball\nWaxahachie Family YMCA\n
URL;VALUE=URI:https://ygametime.com/branch/waxahachie/sports/2021-winter-youth-basketball/11357/?utm_medium=calendar&utm_source=team_cal&utm_content=league_url#game-264269
LOCATION:Clift Elementary Gym 
BEGIN:VALARM
TRIGGER:-P2H
ACTION:DISPLAY
DESCRIPTION:Avengers vs Warriors
END:VALARM
END:VEVENT
BEGIN:VEVENT
UID:waxahachie-264292@ygametime.com
DTSTAMP:20220108T180000Z
DTSTART;TZID=America/Chicago:20220108T120000
DURATION:PT0H60M0S
SUMMARY:Warriors vs Boom Shaka Laka
DESCRIPTION:3rd/4th Grade Division | Youth Basketball\nWaxahachie Family YMCA\n
URL;VALUE=URI:https://ygametime.com/branch/waxahachie/sports/2021-winter-youth-basketball/11357/?utm_medium=calendar&utm_source=team_cal&utm_content=league_url#game-264292
LOCATION:Clift Elementary Gym 
BEGIN:VALARM
TRIGGER:-P2H
ACTION:DISPLAY
DESCRIPTION:Warriors vs Boom Shaka Laka
END:VALARM
END:VEVENT
BEGIN:VEVENT
UID:waxahachie-264297@ygametime.com
DTSTAMP:20220115T230000Z
DTSTART;TZID=America/Chicago:20220115T170000
DURATION:PT0H60M0S
SUMMARY:Warriors vs Mavs
DESCRIPTION:3rd/4th Grade Division | Youth Basketball\nWaxahachie Family YMCA\n
URL;VALUE=URI:https://ygametime.com/branch/waxahachie/sports/2021-winter-youth-basketball/11357/?utm_medium=calendar&utm_source=team_cal&utm_content=league_url#game-264297
LOCATION:Clift Elementary Gym 
BEGIN:VALARM
TRIGGER:-P2H
ACTION:DISPLAY
DESCRIPTION:Warriors vs Mavs
END:VALARM
END:VEVENT
BEGIN:VEVENT
UID:waxahachie-264275@ygametime.com
DTSTAMP:20220122T160000Z
DTSTART;TZID=America/Chicago:20220122T100000
DURATION:PT0H60M0S
SUMMARY:Warriors vs Dragons
DESCRIPTION:3rd/4th Grade Division | Youth Basketball\nWaxahachie Family YMCA\n
URL;VALUE=URI:https://ygametime.com/branch/waxahachie/sports/2021-winter-youth-basketball/11357/?utm_medium=calendar&utm_source=team_cal&utm_content=league_url#game-264275
LOCATION:Clift Elementary Gym 
BEGIN:VALARM
TRIGGER:-P2H
ACTION:DISPLAY
DESCRIPTION:Warriors vs Dragons
END:VALARM
END:VEVENT
BEGIN:VEVENT
UID:waxahachie-269438@ygametime.com
DTSTAMP:20220212T160000Z
DTSTART;TZID=America/Chicago:20220212T100000
DURATION:PT0H60M0S
SUMMARY:Warriors vs Hot Shots
DESCRIPTION:3rd/4th Grade Division | Youth Basketball\nWaxahachie Family YMCA\nSeed 5 vs Seed 12
URL;VALUE=URI:https://ygametime.com/branch/waxahachie/sports/2021-winter-youth-basketball/11357/?utm_medium=calendar&utm_source=team_cal&utm_content=league_url#game-269438
LOCATION:Waxahachie Family YMCA Main Branch
BEGIN:VALARM
TRIGGER:-P2H
ACTION:DISPLAY
DESCRIPTION:Warriors vs Hot Shots
END:VALARM
END:VEVENT
END:VCALENDAR

