BEGIN:VCALENDAR
VERSION:2.0
PRODID:-//YGAMETIME.com//YGT iCal Creator//EN
METHOD:PUBLISH
X-PUBLISHED-TTL:PT6H
REFRESH-INTERVAL;VALUE=DURATION:PT6H
CALSCALE:GREGORIAN
X-WR-CALNAME:YGAMETIME CALENDAR
BEGIN:VTIMEZONE
TZID:America/Chicago
X-LIC-LOCATION:America/Chicago
BEGIN:DAYLIGHT
TZOFFSETFROM:-0600
TZOFFSETTO:-0500
TZNAME:CDT
DTSTART:19700308T020000
RRULE:FREQ=YEARLY;BYMONTH=3;BYDAY=2SU
END:DAYLIGHT
BEGIN:STANDARD
TZOFFSETFROM:-0500
TZOFFSETTO:-0600
TZNAME:CST
DTSTART:19701101T020000
RRULE:FREQ=YEARLY;BYMONTH=11;BYDAY=1SU
END:STANDARD
END:VTIMEZONE
BEGIN:VEVENT
UID:waxahachie-264262@ygametime.com
DTSTAMP:20211211T200000Z
DTSTART;TZID=America/Chicago:20211211T140000
DURATION:PT0H60M0S
SUMMARY:Falcons vs Warriors
DESCRIPTION:3rd/4th Grade Division | Youth Basketball\nWaxahachie Family YMCA\n
URL;VALUE=URI:https://ygametime.com/branch/waxahachie/sports/2021-winter-youth-basketball/11357/?utm_medium=calendar&utm_source=team_cal&utm_content=league_url#game-264262
LOCATION:Clift Elementary Gym 
BEGIN:VALARM
TRIGGER:-P2H
ACTION:DISPLAY
DESCRIPTION:Falcons vs Warriors
END:VALARM
END:VEVENT
BEGIN:VEVENT
UID:waxahachie-264271@ygametime.com
DTSTAMP:20211218T210000Z
DTSTART;TZID=America/Chicago:20211218T150000
DURATION:PT0H60M0S
SUMMARY:Falcons vs Savage Storm
DESCRIPTION:3rd/4th Grade Division | Youth Basketball\nWaxahachie Family YMCA\n
URL;VALUE=URI:https://ygametime.com/branch/waxahachie/sports/2021-winter-youth-basketball/11357/?utm_medium=calendar&utm_source=team_cal&utm_content=league_url#game-264271
LOCATION:Clift Elementary Gym 
BEGIN:VALARM
TRIGGER:-P2H
ACTION:DISPLAY
DESCRIPTION:Falcons vs Savage Storm
END:VALARM
END:VEVENT
BEGIN:VEVENT
UID:waxahachie-264294@ygametime.com
DTSTAMP:20220108T200000Z
DTSTART;TZID=America/Chicago:20220108T140000
DURATION:PT0H60M0S
SUMMARY:Lil Ballers vs Falcons
DESCRIPTION:3rd/4th Grade Division | Youth Basketball\nWaxahachie Family YMCA\n
URL;VALUE=URI:https://ygametime.com/branch/waxahachie/sports/2021-winter-youth-basketball/11357/?utm_medium=calendar&utm_source=team_cal&utm_content=league_url#game-264294
LOCATION:Clift Elementary Gym 
BEGIN:VALARM
TRIGGER:-P2H
ACTION:DISPLAY
DESCRIPTION:Lil Ballers vs Falcons
END:VALARM
END:VEVENT
BEGIN:VEVENT
UID:waxahachie-265071@ygametime.com
DTSTAMP:20220115T210000Z
DTSTART;TZID=America/Chicago:20220115T150000
DURATION:PT0H60M0S
SUMMARY:Falcons vs Boom Shaka Laka
DESCRIPTION:3rd/4th Grade Division | Youth Basketball\nWaxahachie Family YMCA\n
URL;VALUE=URI:https://ygametime.com/branch/waxahachie/sports/2021-winter-youth-basketball/11357/?utm_medium=calendar&utm_source=team_cal&utm_content=league_url#game-265071
LOCATION:Clift Elementary Gym 
BEGIN:VALARM
TRIGGER:-P2H
ACTION:DISPLAY
DESCRIPTION:Falcons vs Boom Shaka Laka
END:VALARM
END:VEVENT
BEGIN:VEVENT
UID:waxahachie-264274@ygametime.com
DTSTAMP:20220122T170000Z
DTSTART;TZID=America/Chicago:20220122T110000
DURATION:PT0H60M0S
SUMMARY:Team Mathis vs Falcons
DESCRIPTION:3rd/4th Grade Division | Youth Basketball\nWaxahachie Family YMCA\n
URL;VALUE=URI:https://ygametime.com/branch/waxahachie/sports/2021-winter-youth-basketball/11357/?utm_medium=calendar&utm_source=team_cal&utm_content=league_url#game-264274
LOCATION:Clift Elementary Gym 
BEGIN:VALARM
TRIGGER:-P2H
ACTION:DISPLAY
DESCRIPTION:Team Mathis vs Falcons
END:VALARM
END:VEVENT
BEGIN:VEVENT
UID:waxahachie-264282@ygametime.com
DTSTAMP:20220129T160000Z
DTSTART;TZID=America/Chicago:20220129T100000
DURATION:PT0H60M0S
SUMMARY:Avengers vs Falcons
DESCRIPTION:3rd/4th Grade Division | Youth Basketball\nWaxahachie Family YMCA\n
URL;VALUE=URI:https://ygametime.com/branch/waxahachie/sports/2021-winter-youth-basketball/11357/?utm_medium=calendar&utm_source=team_cal&utm_content=league_url#game-264282
LOCATION:Clift Elementary Gym 
BEGIN:VALARM
TRIGGER:-P2H
ACTION:DISPLAY
DESCRIPTION:Avengers vs Falcons
END:VALARM
END:VEVENT
BEGIN:VEVENT
UID:waxahachie-269434@ygametime.com
DTSTAMP:20220212T000000Z
DTSTART;TZID=America/Chicago:20220211T180000
DURATION:PT0H60M0S
SUMMARY:Falcons vs WPA 
DESCRIPTION:3rd/4th Grade Division | Youth Basketball\nWaxahachie Family YMCA\nSeed 16 vs Seed 17
URL;VALUE=URI:https://ygametime.com/branch/waxahachie/sports/2021-winter-youth-basketball/11357/?utm_medium=calendar&utm_source=team_cal&utm_content=league_url#game-269434
LOCATION:Waxahachie Family YMCA Main Branch
BEGIN:VALARM
TRIGGER:-P2H
ACTION:DISPLAY
DESCRIPTION:Falcons vs WPA 
END:VALARM
END:VEVENT
BEGIN:VEVENT
UID:waxahachie-269435@ygametime.com
DTSTAMP:20220212T010000Z
DTSTART;TZID=America/Chicago:20220211T190000
DURATION:PT0H60M0S
SUMMARY:Mavs vs Falcons
DESCRIPTION:3rd/4th Grade Division | Youth Basketball\nWaxahachie Family YMCA\nWinner Game 1 vs Seed 1
URL;VALUE=URI:https://ygametime.com/branch/waxahachie/sports/2021-winter-youth-basketball/11357/?utm_medium=calendar&utm_source=team_cal&utm_content=league_url#game-269435
LOCATION:Waxahachie Family YMCA Main Branch
BEGIN:VALARM
TRIGGER:-P2H
ACTION:DISPLAY
DESCRIPTION:Mavs vs Falcons
END:VALARM
END:VEVENT
END:VCALENDAR

