BEGIN:VCALENDAR
VERSION:2.0
PRODID:-//YGAMETIME.com//YGT iCal Creator//EN
METHOD:PUBLISH
X-PUBLISHED-TTL:PT6H
REFRESH-INTERVAL;VALUE=DURATION:PT6H
CALSCALE:GREGORIAN
X-WR-CALNAME:YGAMETIME CALENDAR
BEGIN:VTIMEZONE
TZID:America/Chicago
X-LIC-LOCATION:America/Chicago
BEGIN:DAYLIGHT
TZOFFSETFROM:-0600
TZOFFSETTO:-0500
TZNAME:CDT
DTSTART:19700308T020000
RRULE:FREQ=YEARLY;BYMONTH=3;BYDAY=2SU
END:DAYLIGHT
BEGIN:STANDARD
TZOFFSETFROM:-0500
TZOFFSETTO:-0600
TZNAME:CST
DTSTART:19701101T020000
RRULE:FREQ=YEARLY;BYMONTH=11;BYDAY=1SU
END:STANDARD
END:VTIMEZONE
BEGIN:VEVENT
UID:waxahachie-264145@ygametime.com
DTSTAMP:20211204T190000Z
DTSTART;TZID=America/Chicago:20211204T130000
DURATION:PT0H60M0S
SUMMARY:Future vs Chiefs
DESCRIPTION:5th/6th Grade Division | Youth Basketball\nWaxahachie Family YMCA\n
URL;VALUE=URI:https://ygametime.com/branch/waxahachie/sports/2021-winter-youth-basketball/11358/?utm_medium=calendar&utm_source=team_cal&utm_content=league_url#game-264145
LOCATION:Wilemon STEAM Academy Gym 
BEGIN:VALARM
TRIGGER:-P2H
ACTION:DISPLAY
DESCRIPTION:Future vs Chiefs
END:VALARM
END:VEVENT
BEGIN:VEVENT
UID:waxahachie-264159@ygametime.com
DTSTAMP:20211218T190000Z
DTSTART;TZID=America/Chicago:20211218T130000
DURATION:PT0H60M0S
SUMMARY:Future vs Fireballs
DESCRIPTION:5th/6th Grade Division | Youth Basketball\nWaxahachie Family YMCA\n
URL;VALUE=URI:https://ygametime.com/branch/waxahachie/sports/2021-winter-youth-basketball/11358/?utm_medium=calendar&utm_source=team_cal&utm_content=league_url#game-264159
LOCATION:Wilemon STEAM Academy Gym 
BEGIN:VALARM
TRIGGER:-P2H
ACTION:DISPLAY
DESCRIPTION:Future vs Fireballs
END:VALARM
END:VEVENT
BEGIN:VEVENT
UID:waxahachie-264182@ygametime.com
DTSTAMP:20220108T210000Z
DTSTART;TZID=America/Chicago:20220108T150000
DURATION:PT0H60M0S
SUMMARY:Raptors vs Future
DESCRIPTION:5th/6th Grade Division | Youth Basketball\nWaxahachie Family YMCA\n
URL;VALUE=URI:https://ygametime.com/branch/waxahachie/sports/2021-winter-youth-basketball/11358/?utm_medium=calendar&utm_source=team_cal&utm_content=league_url#game-264182
LOCATION:Wilemon STEAM Academy Gym 
BEGIN:VALARM
TRIGGER:-P2H
ACTION:DISPLAY
DESCRIPTION:Raptors vs Future
END:VALARM
END:VEVENT
BEGIN:VEVENT
UID:waxahachie-264152@ygametime.com
DTSTAMP:20220115T190000Z
DTSTART;TZID=America/Chicago:20220115T130000
DURATION:PT0H60M0S
SUMMARY:Hawks vs Future
DESCRIPTION:5th/6th Grade Division | Youth Basketball\nWaxahachie Family YMCA\n
URL;VALUE=URI:https://ygametime.com/branch/waxahachie/sports/2021-winter-youth-basketball/11358/?utm_medium=calendar&utm_source=team_cal&utm_content=league_url#game-264152
LOCATION:Wilemon STEAM Academy Gym 
BEGIN:VALARM
TRIGGER:-P2H
ACTION:DISPLAY
DESCRIPTION:Hawks vs Future
END:VALARM
END:VEVENT
BEGIN:VEVENT
UID:waxahachie-264165@ygametime.com
DTSTAMP:20220122T180000Z
DTSTART;TZID=America/Chicago:20220122T120000
DURATION:PT0H60M0S
SUMMARY:Braves vs Future
DESCRIPTION:5th/6th Grade Division | Youth Basketball\nWaxahachie Family YMCA\n
URL;VALUE=URI:https://ygametime.com/branch/waxahachie/sports/2021-winter-youth-basketball/11358/?utm_medium=calendar&utm_source=team_cal&utm_content=league_url#game-264165
LOCATION:Wilemon STEAM Academy Gym 
BEGIN:VALARM
TRIGGER:-P2H
ACTION:DISPLAY
DESCRIPTION:Braves vs Future
END:VALARM
END:VEVENT
BEGIN:VEVENT
UID:waxahachie-264170@ygametime.com
DTSTAMP:20220129T160000Z
DTSTART;TZID=America/Chicago:20220129T100000
DURATION:PT0H60M0S
SUMMARY:Future vs Lions '28
DESCRIPTION:5th/6th Grade Division | Youth Basketball\nWaxahachie Family YMCA\n
URL;VALUE=URI:https://ygametime.com/branch/waxahachie/sports/2021-winter-youth-basketball/11358/?utm_medium=calendar&utm_source=team_cal&utm_content=league_url#game-264170
LOCATION:Wilemon STEAM Academy Gym 
BEGIN:VALARM
TRIGGER:-P2H
ACTION:DISPLAY
DESCRIPTION:Future vs Lions '28
END:VALARM
END:VEVENT
BEGIN:VEVENT
UID:waxahachie-269251@ygametime.com
DTSTAMP:20220212T170000Z
DTSTART;TZID=America/Chicago:20220212T110000
DURATION:PT0H60M0S
SUMMARY:Future vs BEST
DESCRIPTION:5th/6th Grade Division | Youth Basketball\nWaxahachie Family YMCA\nWinner Game 4 vs Seed 2
URL;VALUE=URI:https://ygametime.com/branch/waxahachie/sports/2021-winter-youth-basketball/11358/?utm_medium=calendar&utm_source=team_cal&utm_content=league_url#game-269251
LOCATION:Wilemon STEAM Academy Gym 
BEGIN:VALARM
TRIGGER:-P2H
ACTION:DISPLAY
DESCRIPTION:Future vs BEST
END:VALARM
END:VEVENT
BEGIN:VEVENT
UID:waxahachie-269254@ygametime.com
DTSTAMP:20220218T000000Z
DTSTART;TZID=America/Chicago:20220217T180000
DURATION:PT0H60M0S
SUMMARY:Future vs Chiefs
DESCRIPTION:5th/6th Grade Division | Youth Basketball\nWaxahachie Family YMCA\nWinner Game 9 vs Winner Game 10
URL;VALUE=URI:https://ygametime.com/branch/waxahachie/sports/2021-winter-youth-basketball/11358/?utm_medium=calendar&utm_source=team_cal&utm_content=league_url#game-269254
LOCATION:Global High School - George W. Solis Gymnasium
BEGIN:VALARM
TRIGGER:-P2H
ACTION:DISPLAY
DESCRIPTION:Future vs Chiefs
END:VALARM
END:VEVENT
END:VCALENDAR

