BEGIN:VCALENDAR
VERSION:2.0
PRODID:-//YGAMETIME.com//YGT iCal Creator//EN
METHOD:PUBLISH
X-PUBLISHED-TTL:PT6H
REFRESH-INTERVAL;VALUE=DURATION:PT6H
CALSCALE:GREGORIAN
X-WR-CALNAME:YGAMETIME CALENDAR
BEGIN:VTIMEZONE
TZID:America/Chicago
X-LIC-LOCATION:America/Chicago
BEGIN:DAYLIGHT
TZOFFSETFROM:-0600
TZOFFSETTO:-0500
TZNAME:CDT
DTSTART:19700308T020000
RRULE:FREQ=YEARLY;BYMONTH=3;BYDAY=2SU
END:DAYLIGHT
BEGIN:STANDARD
TZOFFSETFROM:-0500
TZOFFSETTO:-0600
TZNAME:CST
DTSTART:19701101T020000
RRULE:FREQ=YEARLY;BYMONTH=11;BYDAY=1SU
END:STANDARD
END:VTIMEZONE
BEGIN:VEVENT
UID:waxahachie-264185@ygametime.com
DTSTAMP:20211204T160000Z
DTSTART;TZID=America/Chicago:20211204T100000
DURATION:PT0H60M0S
SUMMARY:Lady Bears vs Girls on Fire
DESCRIPTION:Girls 4th/6th Grade Division | Youth Basketball\nWaxahachie Family YMCA\n
URL;VALUE=URI:https://ygametime.com/branch/waxahachie/sports/2021-winter-youth-basketball/11359/?utm_medium=calendar&utm_source=team_cal&utm_content=league_url#game-264185
LOCATION:Global High School - George W. Solis Gymnasium
BEGIN:VALARM
TRIGGER:-P2H
ACTION:DISPLAY
DESCRIPTION:Lady Bears vs Girls on Fire
END:VALARM
END:VEVENT
BEGIN:VEVENT
UID:waxahachie-264190@ygametime.com
DTSTAMP:20211211T160000Z
DTSTART;TZID=America/Chicago:20211211T100000
DURATION:PT0H60M0S
SUMMARY:Girls on Fire vs Lady Mavs
DESCRIPTION:Girls 4th/6th Grade Division | Youth Basketball\nWaxahachie Family YMCA\n
URL;VALUE=URI:https://ygametime.com/branch/waxahachie/sports/2021-winter-youth-basketball/11359/?utm_medium=calendar&utm_source=team_cal&utm_content=league_url#game-264190
LOCATION:Global High School - George W. Solis Gymnasium
BEGIN:VALARM
TRIGGER:-P2H
ACTION:DISPLAY
DESCRIPTION:Girls on Fire vs Lady Mavs
END:VALARM
END:VEVENT
BEGIN:VEVENT
UID:waxahachie-264195@ygametime.com
DTSTAMP:20211218T160000Z
DTSTART;TZID=America/Chicago:20211218T100000
DURATION:PT0H60M0S
SUMMARY:Team Reeves vs Girls on Fire
DESCRIPTION:Girls 4th/6th Grade Division | Youth Basketball\nWaxahachie Family YMCA\n
URL;VALUE=URI:https://ygametime.com/branch/waxahachie/sports/2021-winter-youth-basketball/11359/?utm_medium=calendar&utm_source=team_cal&utm_content=league_url#game-264195
LOCATION:Global High School - George W. Solis Gymnasium
BEGIN:VALARM
TRIGGER:-P2H
ACTION:DISPLAY
DESCRIPTION:Team Reeves vs Girls on Fire
END:VALARM
END:VEVENT
BEGIN:VEVENT
UID:waxahachie-264212@ygametime.com
DTSTAMP:20220108T180000Z
DTSTART;TZID=America/Chicago:20220108T120000
DURATION:PT0H60M0S
SUMMARY:Girls on Fire vs Waxahachie Prep Lady Warriors
DESCRIPTION:Girls 4th/6th Grade Division | Youth Basketball\nWaxahachie Family YMCA\n
URL;VALUE=URI:https://ygametime.com/branch/waxahachie/sports/2021-winter-youth-basketball/11359/?utm_medium=calendar&utm_source=team_cal&utm_content=league_url#game-264212
LOCATION:Global High School - George W. Solis Gymnasium
BEGIN:VALARM
TRIGGER:-P2H
ACTION:DISPLAY
DESCRIPTION:Girls on Fire vs Waxahachie Prep Lady Warriors
END:VALARM
END:VEVENT
BEGIN:VEVENT
UID:waxahachie-264200@ygametime.com
DTSTAMP:20220115T170000Z
DTSTART;TZID=America/Chicago:20220115T110000
DURATION:PT0H60M0S
SUMMARY:Girls on Fire vs Chaos
DESCRIPTION:Girls 4th/6th Grade Division | Youth Basketball\nWaxahachie Family YMCA\n
URL;VALUE=URI:https://ygametime.com/branch/waxahachie/sports/2021-winter-youth-basketball/11359/?utm_medium=calendar&utm_source=team_cal&utm_content=league_url#game-264200
LOCATION:Global High School - George W. Solis Gymnasium
BEGIN:VALARM
TRIGGER:-P2H
ACTION:DISPLAY
DESCRIPTION:Girls on Fire vs Chaos
END:VALARM
END:VEVENT
BEGIN:VEVENT
UID:waxahachie-264204@ygametime.com
DTSTAMP:20220122T150000Z
DTSTART;TZID=America/Chicago:20220122T090000
DURATION:PT0H60M0S
SUMMARY:Hurricanes vs Girls on Fire
DESCRIPTION:Girls 4th/6th Grade Division | Youth Basketball\nWaxahachie Family YMCA\n
URL;VALUE=URI:https://ygametime.com/branch/waxahachie/sports/2021-winter-youth-basketball/11359/?utm_medium=calendar&utm_source=team_cal&utm_content=league_url#game-264204
LOCATION:Global High School - George W. Solis Gymnasium
BEGIN:VALARM
TRIGGER:-P2H
ACTION:DISPLAY
DESCRIPTION:Hurricanes vs Girls on Fire
END:VALARM
END:VEVENT
BEGIN:VEVENT
UID:waxahachie-269379@ygametime.com
DTSTAMP:20220212T010000Z
DTSTART;TZID=America/Chicago:20220211T190000
DURATION:PT0H60M0S
SUMMARY:Girls on Fire vs Chaos
DESCRIPTION:Girls 4th/6th Grade Division | Youth Basketball\nWaxahachie Family YMCA\n
URL;VALUE=URI:https://ygametime.com/branch/waxahachie/sports/2021-winter-youth-basketball/11359/?utm_medium=calendar&utm_source=team_cal&utm_content=league_url#game-269379
LOCATION:Global High School - George W. Solis Gymnasium
BEGIN:VALARM
TRIGGER:-P2H
ACTION:DISPLAY
DESCRIPTION:Girls on Fire vs Chaos
END:VALARM
END:VEVENT
BEGIN:VEVENT
UID:waxahachie-269383@ygametime.com
DTSTAMP:20220212T190000Z
DTSTART;TZID=America/Chicago:20220212T130000
DURATION:PT0H60M0S
SUMMARY:Girls on Fire vs Heat
DESCRIPTION:Girls 4th/6th Grade Division | Youth Basketball\nWaxahachie Family YMCA\n
URL;VALUE=URI:https://ygametime.com/branch/waxahachie/sports/2021-winter-youth-basketball/11359/?utm_medium=calendar&utm_source=team_cal&utm_content=league_url#game-269383
LOCATION:Global High School - George W. Solis Gymnasium
BEGIN:VALARM
TRIGGER:-P2H
ACTION:DISPLAY
DESCRIPTION:Girls on Fire vs Heat
END:VALARM
END:VEVENT
BEGIN:VEVENT
UID:waxahachie-269385@ygametime.com
DTSTAMP:20220212T200000Z
DTSTART;TZID=America/Chicago:20220212T140000
DURATION:PT0H60M0S
SUMMARY:Girls on Fire vs Monsters
DESCRIPTION:Girls 4th/6th Grade Division | Youth Basketball\nWaxahachie Family YMCA\n
URL;VALUE=URI:https://ygametime.com/branch/waxahachie/sports/2021-winter-youth-basketball/11359/?utm_medium=calendar&utm_source=team_cal&utm_content=league_url#game-269385
LOCATION:Global High School - George W. Solis Gymnasium
BEGIN:VALARM
TRIGGER:-P2H
ACTION:DISPLAY
DESCRIPTION:Girls on Fire vs Monsters
END:VALARM
END:VEVENT
END:VCALENDAR

