BEGIN:VCALENDAR
VERSION:2.0
PRODID:-//YGAMETIME.com//YGT iCal Creator//EN
METHOD:PUBLISH
X-PUBLISHED-TTL:PT6H
REFRESH-INTERVAL;VALUE=DURATION:PT6H
CALSCALE:GREGORIAN
X-WR-CALNAME:YGAMETIME CALENDAR
BEGIN:VTIMEZONE
TZID:America/Chicago
X-LIC-LOCATION:America/Chicago
BEGIN:DAYLIGHT
TZOFFSETFROM:-0600
TZOFFSETTO:-0500
TZNAME:CDT
DTSTART:19700308T020000
RRULE:FREQ=YEARLY;BYMONTH=3;BYDAY=2SU
END:DAYLIGHT
BEGIN:STANDARD
TZOFFSETFROM:-0500
TZOFFSETTO:-0600
TZNAME:CST
DTSTART:19701101T020000
RRULE:FREQ=YEARLY;BYMONTH=11;BYDAY=1SU
END:STANDARD
END:VTIMEZONE
BEGIN:VEVENT
UID:waxahachie-264184@ygametime.com
DTSTAMP:20211204T150000Z
DTSTART;TZID=America/Chicago:20211204T090000
DURATION:PT0H60M0S
SUMMARY:Hurricanes vs Fireballers
DESCRIPTION:Girls 4th/6th Grade Division | Youth Basketball\nWaxahachie Family YMCA\n
URL;VALUE=URI:https://ygametime.com/branch/waxahachie/sports/2021-winter-youth-basketball/11359/?utm_medium=calendar&utm_source=team_cal&utm_content=league_url#game-264184
LOCATION:Global High School - George W. Solis Gymnasium
BEGIN:VALARM
TRIGGER:-P2H
ACTION:DISPLAY
DESCRIPTION:Hurricanes vs Fireballers
END:VALARM
END:VEVENT
BEGIN:VEVENT
UID:waxahachie-264189@ygametime.com
DTSTAMP:20211211T150000Z
DTSTART;TZID=America/Chicago:20211211T090000
DURATION:PT0H60M0S
SUMMARY:Waxahachie Prep Lady Warriors vs Hurricanes
DESCRIPTION:Girls 4th/6th Grade Division | Youth Basketball\nWaxahachie Family YMCA\n
URL;VALUE=URI:https://ygametime.com/branch/waxahachie/sports/2021-winter-youth-basketball/11359/?utm_medium=calendar&utm_source=team_cal&utm_content=league_url#game-264189
LOCATION:Global High School - George W. Solis Gymnasium
BEGIN:VALARM
TRIGGER:-P2H
ACTION:DISPLAY
DESCRIPTION:Waxahachie Prep Lady Warriors vs Hurricanes
END:VALARM
END:VEVENT
BEGIN:VEVENT
UID:waxahachie-264194@ygametime.com
DTSTAMP:20211218T150000Z
DTSTART;TZID=America/Chicago:20211218T090000
DURATION:PT0H60M0S
SUMMARY:Hurricanes vs Heat
DESCRIPTION:Girls 4th/6th Grade Division | Youth Basketball\nWaxahachie Family YMCA\n
URL;VALUE=URI:https://ygametime.com/branch/waxahachie/sports/2021-winter-youth-basketball/11359/?utm_medium=calendar&utm_source=team_cal&utm_content=league_url#game-264194
LOCATION:Global High School - George W. Solis Gymnasium
BEGIN:VALARM
TRIGGER:-P2H
ACTION:DISPLAY
DESCRIPTION:Hurricanes vs Heat
END:VALARM
END:VEVENT
BEGIN:VEVENT
UID:waxahachie-264213@ygametime.com
DTSTAMP:20220108T190000Z
DTSTART;TZID=America/Chicago:20220108T130000
DURATION:PT0H60M0S
SUMMARY:Lady Bears vs Hurricanes
DESCRIPTION:Girls 4th/6th Grade Division | Youth Basketball\nWaxahachie Family YMCA\n
URL;VALUE=URI:https://ygametime.com/branch/waxahachie/sports/2021-winter-youth-basketball/11359/?utm_medium=calendar&utm_source=team_cal&utm_content=league_url#game-264213
LOCATION:Global High School - George W. Solis Gymnasium
BEGIN:VALARM
TRIGGER:-P2H
ACTION:DISPLAY
DESCRIPTION:Lady Bears vs Hurricanes
END:VALARM
END:VEVENT
BEGIN:VEVENT
UID:waxahachie-264199@ygametime.com
DTSTAMP:20220115T150000Z
DTSTART;TZID=America/Chicago:20220115T090000
DURATION:PT0H60M0S
SUMMARY:Monsters vs Hurricanes
DESCRIPTION:Girls 4th/6th Grade Division | Youth Basketball\nWaxahachie Family YMCA\n
URL;VALUE=URI:https://ygametime.com/branch/waxahachie/sports/2021-winter-youth-basketball/11359/?utm_medium=calendar&utm_source=team_cal&utm_content=league_url#game-264199
LOCATION:Global High School - George W. Solis Gymnasium
BEGIN:VALARM
TRIGGER:-P2H
ACTION:DISPLAY
DESCRIPTION:Monsters vs Hurricanes
END:VALARM
END:VEVENT
BEGIN:VEVENT
UID:waxahachie-264204@ygametime.com
DTSTAMP:20220122T150000Z
DTSTART;TZID=America/Chicago:20220122T090000
DURATION:PT0H60M0S
SUMMARY:Hurricanes vs Girls on Fire
DESCRIPTION:Girls 4th/6th Grade Division | Youth Basketball\nWaxahachie Family YMCA\n
URL;VALUE=URI:https://ygametime.com/branch/waxahachie/sports/2021-winter-youth-basketball/11359/?utm_medium=calendar&utm_source=team_cal&utm_content=league_url#game-264204
LOCATION:Global High School - George W. Solis Gymnasium
BEGIN:VALARM
TRIGGER:-P2H
ACTION:DISPLAY
DESCRIPTION:Hurricanes vs Girls on Fire
END:VALARM
END:VEVENT
BEGIN:VEVENT
UID:waxahachie-269377@ygametime.com
DTSTAMP:20220212T000000Z
DTSTART;TZID=America/Chicago:20220211T180000
DURATION:PT0H60M0S
SUMMARY:Hurricanes vs Chaos
DESCRIPTION:Girls 4th/6th Grade Division | Youth Basketball\nWaxahachie Family YMCA\n
URL;VALUE=URI:https://ygametime.com/branch/waxahachie/sports/2021-winter-youth-basketball/11359/?utm_medium=calendar&utm_source=team_cal&utm_content=league_url#game-269377
LOCATION:Global High School - George W. Solis Gymnasium
BEGIN:VALARM
TRIGGER:-P2H
ACTION:DISPLAY
DESCRIPTION:Hurricanes vs Chaos
END:VALARM
END:VEVENT
END:VCALENDAR

