BEGIN:VCALENDAR
VERSION:2.0
PRODID:-//YGAMETIME.com//YGT iCal Creator//EN
METHOD:PUBLISH
X-PUBLISHED-TTL:PT6H
REFRESH-INTERVAL;VALUE=DURATION:PT6H
CALSCALE:GREGORIAN
X-WR-CALNAME:YGAMETIME CALENDAR
BEGIN:VTIMEZONE
TZID:America/Chicago
X-LIC-LOCATION:America/Chicago
BEGIN:DAYLIGHT
TZOFFSETFROM:-0600
TZOFFSETTO:-0500
TZNAME:CDT
DTSTART:19700308T020000
RRULE:FREQ=YEARLY;BYMONTH=3;BYDAY=2SU
END:DAYLIGHT
BEGIN:STANDARD
TZOFFSETFROM:-0500
TZOFFSETTO:-0600
TZNAME:CST
DTSTART:19701101T020000
RRULE:FREQ=YEARLY;BYMONTH=11;BYDAY=1SU
END:STANDARD
END:VTIMEZONE
BEGIN:VEVENT
UID:waxahachie-264186@ygametime.com
DTSTAMP:20211204T180000Z
DTSTART;TZID=America/Chicago:20211204T120000
DURATION:PT0H60M0S
SUMMARY:Chaos vs Waxahachie Prep Lady Warriors
DESCRIPTION:Girls 4th/6th Grade Division | Youth Basketball\nWaxahachie Family YMCA\n
URL;VALUE=URI:https://ygametime.com/branch/waxahachie/sports/2021-winter-youth-basketball/11359/?utm_medium=calendar&utm_source=team_cal&utm_content=league_url#game-264186
LOCATION:Global High School - George W. Solis Gymnasium
BEGIN:VALARM
TRIGGER:-P2H
ACTION:DISPLAY
DESCRIPTION:Chaos vs Waxahachie Prep Lady Warriors
END:VALARM
END:VEVENT
BEGIN:VEVENT
UID:waxahachie-264189@ygametime.com
DTSTAMP:20211211T150000Z
DTSTART;TZID=America/Chicago:20211211T090000
DURATION:PT0H60M0S
SUMMARY:Waxahachie Prep Lady Warriors vs Hurricanes
DESCRIPTION:Girls 4th/6th Grade Division | Youth Basketball\nWaxahachie Family YMCA\n
URL;VALUE=URI:https://ygametime.com/branch/waxahachie/sports/2021-winter-youth-basketball/11359/?utm_medium=calendar&utm_source=team_cal&utm_content=league_url#game-264189
LOCATION:Global High School - George W. Solis Gymnasium
BEGIN:VALARM
TRIGGER:-P2H
ACTION:DISPLAY
DESCRIPTION:Waxahachie Prep Lady Warriors vs Hurricanes
END:VALARM
END:VEVENT
BEGIN:VEVENT
UID:waxahachie-264197@ygametime.com
DTSTAMP:20211218T180000Z
DTSTART;TZID=America/Chicago:20211218T120000
DURATION:PT0H60M0S
SUMMARY:Waxahachie Prep Lady Warriors vs Fireballers
DESCRIPTION:Girls 4th/6th Grade Division | Youth Basketball\nWaxahachie Family YMCA\n
URL;VALUE=URI:https://ygametime.com/branch/waxahachie/sports/2021-winter-youth-basketball/11359/?utm_medium=calendar&utm_source=team_cal&utm_content=league_url#game-264197
LOCATION:Global High School - George W. Solis Gymnasium
BEGIN:VALARM
TRIGGER:-P2H
ACTION:DISPLAY
DESCRIPTION:Waxahachie Prep Lady Warriors vs Fireballers
END:VALARM
END:VEVENT
BEGIN:VEVENT
UID:waxahachie-264212@ygametime.com
DTSTAMP:20220108T180000Z
DTSTART;TZID=America/Chicago:20220108T120000
DURATION:PT0H60M0S
SUMMARY:Girls on Fire vs Waxahachie Prep Lady Warriors
DESCRIPTION:Girls 4th/6th Grade Division | Youth Basketball\nWaxahachie Family YMCA\n
URL;VALUE=URI:https://ygametime.com/branch/waxahachie/sports/2021-winter-youth-basketball/11359/?utm_medium=calendar&utm_source=team_cal&utm_content=league_url#game-264212
LOCATION:Global High School - George W. Solis Gymnasium
BEGIN:VALARM
TRIGGER:-P2H
ACTION:DISPLAY
DESCRIPTION:Girls on Fire vs Waxahachie Prep Lady Warriors
END:VALARM
END:VEVENT
BEGIN:VEVENT
UID:waxahachie-264202@ygametime.com
DTSTAMP:20220115T160000Z
DTSTART;TZID=America/Chicago:20220115T100000
DURATION:PT0H60M0S
SUMMARY:Heat vs Waxahachie Prep Lady Warriors
DESCRIPTION:Girls 4th/6th Grade Division | Youth Basketball\nWaxahachie Family YMCA\n
URL;VALUE=URI:https://ygametime.com/branch/waxahachie/sports/2021-winter-youth-basketball/11359/?utm_medium=calendar&utm_source=team_cal&utm_content=league_url#game-264202
LOCATION:Global High School - George W. Solis Gymnasium
BEGIN:VALARM
TRIGGER:-P2H
ACTION:DISPLAY
DESCRIPTION:Heat vs Waxahachie Prep Lady Warriors
END:VALARM
END:VEVENT
BEGIN:VEVENT
UID:waxahachie-264207@ygametime.com
DTSTAMP:20220122T170000Z
DTSTART;TZID=America/Chicago:20220122T110000
DURATION:PT0H60M0S
SUMMARY:Waxahachie Prep Lady Warriors vs Monsters
DESCRIPTION:Girls 4th/6th Grade Division | Youth Basketball\nWaxahachie Family YMCA\n
URL;VALUE=URI:https://ygametime.com/branch/waxahachie/sports/2021-winter-youth-basketball/11359/?utm_medium=calendar&utm_source=team_cal&utm_content=league_url#game-264207
LOCATION:Global High School - George W. Solis Gymnasium
BEGIN:VALARM
TRIGGER:-P2H
ACTION:DISPLAY
DESCRIPTION:Waxahachie Prep Lady Warriors vs Monsters
END:VALARM
END:VEVENT
BEGIN:VEVENT
UID:waxahachie-269378@ygametime.com
DTSTAMP:20220212T020000Z
DTSTART;TZID=America/Chicago:20220211T200000
DURATION:PT0H60M0S
SUMMARY:Waxahachie Prep Lady Warriors vs Lady Mavs
DESCRIPTION:Girls 4th/6th Grade Division | Youth Basketball\nWaxahachie Family YMCA\n
URL;VALUE=URI:https://ygametime.com/branch/waxahachie/sports/2021-winter-youth-basketball/11359/?utm_medium=calendar&utm_source=team_cal&utm_content=league_url#game-269378
LOCATION:Global High School - George W. Solis Gymnasium
BEGIN:VALARM
TRIGGER:-P2H
ACTION:DISPLAY
DESCRIPTION:Waxahachie Prep Lady Warriors vs Lady Mavs
END:VALARM
END:VEVENT
BEGIN:VEVENT
UID:waxahachie-269381@ygametime.com
DTSTAMP:20220212T160000Z
DTSTART;TZID=America/Chicago:20220212T100000
DURATION:PT0H60M0S
SUMMARY:Monsters vs Waxahachie Prep Lady Warriors
DESCRIPTION:Girls 4th/6th Grade Division | Youth Basketball\nWaxahachie Family YMCA\n
URL;VALUE=URI:https://ygametime.com/branch/waxahachie/sports/2021-winter-youth-basketball/11359/?utm_medium=calendar&utm_source=team_cal&utm_content=league_url#game-269381
LOCATION:Global High School - George W. Solis Gymnasium
BEGIN:VALARM
TRIGGER:-P2H
ACTION:DISPLAY
DESCRIPTION:Monsters vs Waxahachie Prep Lady Warriors
END:VALARM
END:VEVENT
END:VCALENDAR

