BEGIN:VCALENDAR
VERSION:2.0
PRODID:-//YGAMETIME.com//YGT iCal Creator//EN
METHOD:PUBLISH
X-PUBLISHED-TTL:PT6H
REFRESH-INTERVAL;VALUE=DURATION:PT6H
CALSCALE:GREGORIAN
X-WR-CALNAME:YGAMETIME CALENDAR
BEGIN:VTIMEZONE
TZID:America/Chicago
X-LIC-LOCATION:America/Chicago
BEGIN:DAYLIGHT
TZOFFSETFROM:-0600
TZOFFSETTO:-0500
TZNAME:CDT
DTSTART:19700308T020000
RRULE:FREQ=YEARLY;BYMONTH=3;BYDAY=2SU
END:DAYLIGHT
BEGIN:STANDARD
TZOFFSETFROM:-0500
TZOFFSETTO:-0600
TZNAME:CST
DTSTART:19701101T020000
RRULE:FREQ=YEARLY;BYMONTH=11;BYDAY=1SU
END:STANDARD
END:VTIMEZONE
BEGIN:VEVENT
UID:waxahachie-263495@ygametime.com
DTSTAMP:20211211T170000Z
DTSTART;TZID=America/Chicago:20211211T110000
DURATION:PT0H60M0S
SUMMARY:Waxahachie Warriors vs Hot Shots 
DESCRIPTION:1st/2nd Grade Division | Youth Basketball\nWaxahachie Family YMCA\n
URL;VALUE=URI:https://ygametime.com/branch/waxahachie/sports/2021-winter-youth-basketball/11356/?utm_medium=calendar&utm_source=team_cal&utm_content=league_url#game-263495
LOCATION:Waxahachie Family YMCA Main Branch
BEGIN:VALARM
TRIGGER:-P2H
ACTION:DISPLAY
DESCRIPTION:Waxahachie Warriors vs Hot Shots 
END:VALARM
END:VEVENT
BEGIN:VEVENT
UID:waxahachie-263487@ygametime.com
DTSTAMP:20211211T180000Z
DTSTART;TZID=America/Chicago:20211211T120000
DURATION:PT0H60M0S
SUMMARY:Waxahachie Warriors vs Raiders
DESCRIPTION:1st/2nd Grade Division | Youth Basketball\nWaxahachie Family YMCA\n
URL;VALUE=URI:https://ygametime.com/branch/waxahachie/sports/2021-winter-youth-basketball/11356/?utm_medium=calendar&utm_source=team_cal&utm_content=league_url#game-263487
LOCATION:Waxahachie Family YMCA Main Branch
BEGIN:VALARM
TRIGGER:-P2H
ACTION:DISPLAY
DESCRIPTION:Waxahachie Warriors vs Raiders
END:VALARM
END:VEVENT
BEGIN:VEVENT
UID:waxahachie-263503@ygametime.com
DTSTAMP:20211218T150000Z
DTSTART;TZID=America/Chicago:20211218T090000
DURATION:PT0H60M0S
SUMMARY:Dream Team  vs Waxahachie Warriors
DESCRIPTION:1st/2nd Grade Division | Youth Basketball\nWaxahachie Family YMCA\n
URL;VALUE=URI:https://ygametime.com/branch/waxahachie/sports/2021-winter-youth-basketball/11356/?utm_medium=calendar&utm_source=team_cal&utm_content=league_url#game-263503
LOCATION:Waxahachie Family YMCA Main Branch
BEGIN:VALARM
TRIGGER:-P2H
ACTION:DISPLAY
DESCRIPTION:Dream Team  vs Waxahachie Warriors
END:VALARM
END:VEVENT
BEGIN:VEVENT
UID:waxahachie-263539@ygametime.com
DTSTAMP:20220108T210000Z
DTSTART;TZID=America/Chicago:20220108T150000
DURATION:PT0H60M0S
SUMMARY:Mavs vs Waxahachie Warriors
DESCRIPTION:1st/2nd Grade Division | Youth Basketball\nWaxahachie Family YMCA\n
URL;VALUE=URI:https://ygametime.com/branch/waxahachie/sports/2021-winter-youth-basketball/11356/?utm_medium=calendar&utm_source=team_cal&utm_content=league_url#game-263539
LOCATION:Waxahachie Family YMCA Main Branch
BEGIN:VALARM
TRIGGER:-P2H
ACTION:DISPLAY
DESCRIPTION:Mavs vs Waxahachie Warriors
END:VALARM
END:VEVENT
BEGIN:VEVENT
UID:waxahachie-263521@ygametime.com
DTSTAMP:20220115T230000Z
DTSTART;TZID=America/Chicago:20220115T170000
DURATION:PT0H60M0S
SUMMARY:Waxahachie Warriors vs Toon Squad
DESCRIPTION:1st/2nd Grade Division | Youth Basketball\nWaxahachie Family YMCA\n
URL;VALUE=URI:https://ygametime.com/branch/waxahachie/sports/2021-winter-youth-basketball/11356/?utm_medium=calendar&utm_source=team_cal&utm_content=league_url#game-263521
LOCATION:Waxahachie Family YMCA Main Branch
BEGIN:VALARM
TRIGGER:-P2H
ACTION:DISPLAY
DESCRIPTION:Waxahachie Warriors vs Toon Squad
END:VALARM
END:VEVENT
BEGIN:VEVENT
UID:waxahachie-263529@ygametime.com
DTSTAMP:20220122T210000Z
DTSTART;TZID=America/Chicago:20220122T150000
DURATION:PT0H60M0S
SUMMARY:Waxahachie Warriors vs Game Winners
DESCRIPTION:1st/2nd Grade Division | Youth Basketball\nWaxahachie Family YMCA\n
URL;VALUE=URI:https://ygametime.com/branch/waxahachie/sports/2021-winter-youth-basketball/11356/?utm_medium=calendar&utm_source=team_cal&utm_content=league_url#game-263529
LOCATION:Waxahachie Family YMCA Main Branch
BEGIN:VALARM
TRIGGER:-P2H
ACTION:DISPLAY
DESCRIPTION:Waxahachie Warriors vs Game Winners
END:VALARM
END:VEVENT
BEGIN:VEVENT
UID:waxahachie-269585@ygametime.com
DTSTAMP:20220212T230000Z
DTSTART;TZID=America/Chicago:20220212T170000
DURATION:PT0H60M0S
SUMMARY:Team Collins vs Waxahachie Warriors
DESCRIPTION:1st/2nd Grade Division | Youth Basketball\nWaxahachie Family YMCA\nSeed 6 vs Seed 11
URL;VALUE=URI:https://ygametime.com/branch/waxahachie/sports/2021-winter-youth-basketball/11356/?utm_medium=calendar&utm_source=team_cal&utm_content=league_url#game-269585
LOCATION:Clift Elementary Gym 
BEGIN:VALARM
TRIGGER:-P2H
ACTION:DISPLAY
DESCRIPTION:Team Collins vs Waxahachie Warriors
END:VALARM
END:VEVENT
BEGIN:VEVENT
UID:waxahachie-269589@ygametime.com
DTSTAMP:20220217T000000Z
DTSTART;TZID=America/Chicago:20220216T180000
DURATION:PT0H60M0S
SUMMARY:Bulls vs Waxahachie Warriors
DESCRIPTION:1st/2nd Grade Division | Youth Basketball\nWaxahachie Family YMCA\nWinner of Game 11 vs Winner of Game 12
URL;VALUE=URI:https://ygametime.com/branch/waxahachie/sports/2021-winter-youth-basketball/11356/?utm_medium=calendar&utm_source=team_cal&utm_content=league_url#game-269589
LOCATION:Clift Elementary Gym 
BEGIN:VALARM
TRIGGER:-P2H
ACTION:DISPLAY
DESCRIPTION:Bulls vs Waxahachie Warriors
END:VALARM
END:VEVENT
END:VCALENDAR

