BEGIN:VCALENDAR
VERSION:2.0
PRODID:-//YGAMETIME.com//YGT iCal Creator//EN
METHOD:PUBLISH
X-PUBLISHED-TTL:PT6H
REFRESH-INTERVAL;VALUE=DURATION:PT6H
CALSCALE:GREGORIAN
X-WR-CALNAME:YGAMETIME CALENDAR
BEGIN:VTIMEZONE
TZID:America/Chicago
X-LIC-LOCATION:America/Chicago
BEGIN:DAYLIGHT
TZOFFSETFROM:-0600
TZOFFSETTO:-0500
TZNAME:CDT
DTSTART:19700308T020000
RRULE:FREQ=YEARLY;BYMONTH=3;BYDAY=2SU
END:DAYLIGHT
BEGIN:STANDARD
TZOFFSETFROM:-0500
TZOFFSETTO:-0600
TZNAME:CST
DTSTART:19701101T020000
RRULE:FREQ=YEARLY;BYMONTH=11;BYDAY=1SU
END:STANDARD
END:VTIMEZONE
BEGIN:VEVENT
UID:waxahachie-263489@ygametime.com
DTSTAMP:20211204T210000Z
DTSTART;TZID=America/Chicago:20211204T150000
DURATION:PT0H60M0S
SUMMARY:Dolphins vs Mavs
DESCRIPTION:1st/2nd Grade Division | Youth Basketball\nWaxahachie Family YMCA\n
URL;VALUE=URI:https://ygametime.com/branch/waxahachie/sports/2021-winter-youth-basketball/11356/?utm_medium=calendar&utm_source=team_cal&utm_content=league_url#game-263489
LOCATION:Clift Elementary Gym 
BEGIN:VALARM
TRIGGER:-P2H
ACTION:DISPLAY
DESCRIPTION:Dolphins vs Mavs
END:VALARM
END:VEVENT
BEGIN:VEVENT
UID:waxahachie-263497@ygametime.com
DTSTAMP:20211211T190000Z
DTSTART;TZID=America/Chicago:20211211T130000
DURATION:PT0H60M0S
SUMMARY:Mavs vs Raiders
DESCRIPTION:1st/2nd Grade Division | Youth Basketball\nWaxahachie Family YMCA\n
URL;VALUE=URI:https://ygametime.com/branch/waxahachie/sports/2021-winter-youth-basketball/11356/?utm_medium=calendar&utm_source=team_cal&utm_content=league_url#game-263497
LOCATION:Waxahachie Family YMCA Main Branch
BEGIN:VALARM
TRIGGER:-P2H
ACTION:DISPLAY
DESCRIPTION:Mavs vs Raiders
END:VALARM
END:VEVENT
BEGIN:VEVENT
UID:waxahachie-263505@ygametime.com
DTSTAMP:20211218T170000Z
DTSTART;TZID=America/Chicago:20211218T110000
DURATION:PT0H60M0S
SUMMARY:Hot Shots  vs Mavs
DESCRIPTION:1st/2nd Grade Division | Youth Basketball\nWaxahachie Family YMCA\n
URL;VALUE=URI:https://ygametime.com/branch/waxahachie/sports/2021-winter-youth-basketball/11356/?utm_medium=calendar&utm_source=team_cal&utm_content=league_url#game-263505
LOCATION:Waxahachie Family YMCA Main Branch
BEGIN:VALARM
TRIGGER:-P2H
ACTION:DISPLAY
DESCRIPTION:Hot Shots  vs Mavs
END:VALARM
END:VEVENT
BEGIN:VEVENT
UID:waxahachie-263539@ygametime.com
DTSTAMP:20220108T210000Z
DTSTART;TZID=America/Chicago:20220108T150000
DURATION:PT0H60M0S
SUMMARY:Mavs vs Waxahachie Warriors
DESCRIPTION:1st/2nd Grade Division | Youth Basketball\nWaxahachie Family YMCA\n
URL;VALUE=URI:https://ygametime.com/branch/waxahachie/sports/2021-winter-youth-basketball/11356/?utm_medium=calendar&utm_source=team_cal&utm_content=league_url#game-263539
LOCATION:Waxahachie Family YMCA Main Branch
BEGIN:VALARM
TRIGGER:-P2H
ACTION:DISPLAY
DESCRIPTION:Mavs vs Waxahachie Warriors
END:VALARM
END:VEVENT
BEGIN:VEVENT
UID:waxahachie-263513@ygametime.com
DTSTAMP:20220115T150000Z
DTSTART;TZID=America/Chicago:20220115T090000
DURATION:PT0H60M0S
SUMMARY:Mavs vs Dream Team 
DESCRIPTION:1st/2nd Grade Division | Youth Basketball\nWaxahachie Family YMCA\n
URL;VALUE=URI:https://ygametime.com/branch/waxahachie/sports/2021-winter-youth-basketball/11356/?utm_medium=calendar&utm_source=team_cal&utm_content=league_url#game-263513
LOCATION:Waxahachie Family YMCA Main Branch
BEGIN:VALARM
TRIGGER:-P2H
ACTION:DISPLAY
DESCRIPTION:Mavs vs Dream Team 
END:VALARM
END:VEVENT
BEGIN:VEVENT
UID:waxahachie-263531@ygametime.com
DTSTAMP:20220122T230000Z
DTSTART;TZID=America/Chicago:20220122T170000
DURATION:PT0H60M0S
SUMMARY:Toon Squad vs Mavs
DESCRIPTION:1st/2nd Grade Division | Youth Basketball\nWaxahachie Family YMCA\n
URL;VALUE=URI:https://ygametime.com/branch/waxahachie/sports/2021-winter-youth-basketball/11356/?utm_medium=calendar&utm_source=team_cal&utm_content=league_url#game-263531
LOCATION:Waxahachie Family YMCA Main Branch
BEGIN:VALARM
TRIGGER:-P2H
ACTION:DISPLAY
DESCRIPTION:Toon Squad vs Mavs
END:VALARM
END:VEVENT
BEGIN:VEVENT
UID:waxahachie-269582@ygametime.com
DTSTAMP:20220212T180000Z
DTSTART;TZID=America/Chicago:20220212T120000
DURATION:PT0H60M0S
SUMMARY:Mavs vs Team Holleman
DESCRIPTION:1st/2nd Grade Division | Youth Basketball\nWaxahachie Family YMCA\nWinner of Game 3 vs Seed 2
URL;VALUE=URI:https://ygametime.com/branch/waxahachie/sports/2021-winter-youth-basketball/11356/?utm_medium=calendar&utm_source=team_cal&utm_content=league_url#game-269582
LOCATION:Clift Elementary Gym 
BEGIN:VALARM
TRIGGER:-P2H
ACTION:DISPLAY
DESCRIPTION:Mavs vs Team Holleman
END:VALARM
END:VEVENT
BEGIN:VEVENT
UID:waxahachie-269588@ygametime.com
DTSTAMP:20220216T020000Z
DTSTART;TZID=America/Chicago:20220215T200000
DURATION:PT0H60M0S
SUMMARY:Mavs vs Raiders
DESCRIPTION:1st/2nd Grade Division | Youth Basketball\nWaxahachie Family YMCA\nWinner of Game 9 vs Winner of Game 10
URL;VALUE=URI:https://ygametime.com/branch/waxahachie/sports/2021-winter-youth-basketball/11356/?utm_medium=calendar&utm_source=team_cal&utm_content=league_url#game-269588
LOCATION:Waxahachie Family YMCA Main Branch
BEGIN:VALARM
TRIGGER:-P2H
ACTION:DISPLAY
DESCRIPTION:Mavs vs Raiders
END:VALARM
END:VEVENT
BEGIN:VEVENT
UID:waxahachie-269591@ygametime.com
DTSTAMP:20220218T010000Z
DTSTART;TZID=America/Chicago:20220217T190000
DURATION:PT0H60M0S
SUMMARY:Mavs vs Bulls
DESCRIPTION:1st/2nd Grade Division | Youth Basketball\nWaxahachie Family YMCA\nWinner of Game 15 vs Winner of Game 16
URL;VALUE=URI:https://ygametime.com/branch/waxahachie/sports/2021-winter-youth-basketball/11356/?utm_medium=calendar&utm_source=team_cal&utm_content=league_url#game-269591
LOCATION:Waxahachie Family YMCA Main Branch
BEGIN:VALARM
TRIGGER:-P2H
ACTION:DISPLAY
DESCRIPTION:Mavs vs Bulls
END:VALARM
END:VEVENT
END:VCALENDAR

