BEGIN:VCALENDAR
VERSION:2.0
PRODID:-//YGAMETIME.com//YGT iCal Creator//EN
METHOD:PUBLISH
X-PUBLISHED-TTL:PT6H
REFRESH-INTERVAL;VALUE=DURATION:PT6H
CALSCALE:GREGORIAN
X-WR-CALNAME:YGAMETIME CALENDAR
BEGIN:VTIMEZONE
TZID:America/Chicago
X-LIC-LOCATION:America/Chicago
BEGIN:DAYLIGHT
TZOFFSETFROM:-0600
TZOFFSETTO:-0500
TZNAME:CDT
DTSTART:19700308T020000
RRULE:FREQ=YEARLY;BYMONTH=3;BYDAY=2SU
END:DAYLIGHT
BEGIN:STANDARD
TZOFFSETFROM:-0500
TZOFFSETTO:-0600
TZNAME:CST
DTSTART:19701101T020000
RRULE:FREQ=YEARLY;BYMONTH=11;BYDAY=1SU
END:STANDARD
END:VTIMEZONE
BEGIN:VEVENT
UID:waxahachie-263492@ygametime.com
DTSTAMP:20211204T190000Z
DTSTART;TZID=America/Chicago:20211204T130000
DURATION:PT0H60M0S
SUMMARY:Heat vs WPA
DESCRIPTION:1st/2nd Grade Division | Youth Basketball\nWaxahachie Family YMCA\n
URL;VALUE=URI:https://ygametime.com/branch/waxahachie/sports/2021-winter-youth-basketball/11356/?utm_medium=calendar&utm_source=team_cal&utm_content=league_url#game-263492
LOCATION:Clift Elementary Gym 
BEGIN:VALARM
TRIGGER:-P2H
ACTION:DISPLAY
DESCRIPTION:Heat vs WPA
END:VALARM
END:VEVENT
BEGIN:VEVENT
UID:waxahachie-263500@ygametime.com
DTSTAMP:20211211T200000Z
DTSTART;TZID=America/Chicago:20211211T140000
DURATION:PT0H60M0S
SUMMARY:Bulls vs Heat
DESCRIPTION:1st/2nd Grade Division | Youth Basketball\nWaxahachie Family YMCA\n
URL;VALUE=URI:https://ygametime.com/branch/waxahachie/sports/2021-winter-youth-basketball/11356/?utm_medium=calendar&utm_source=team_cal&utm_content=league_url#game-263500
LOCATION:Waxahachie Family YMCA Main Branch
BEGIN:VALARM
TRIGGER:-P2H
ACTION:DISPLAY
DESCRIPTION:Bulls vs Heat
END:VALARM
END:VEVENT
BEGIN:VEVENT
UID:waxahachie-263508@ygametime.com
DTSTAMP:20211218T200000Z
DTSTART;TZID=America/Chicago:20211218T140000
DURATION:PT0H60M0S
SUMMARY:Heat vs Team Heard
DESCRIPTION:1st/2nd Grade Division | Youth Basketball\nWaxahachie Family YMCA\n
URL;VALUE=URI:https://ygametime.com/branch/waxahachie/sports/2021-winter-youth-basketball/11356/?utm_medium=calendar&utm_source=team_cal&utm_content=league_url#game-263508
LOCATION:Waxahachie Family YMCA Main Branch
BEGIN:VALARM
TRIGGER:-P2H
ACTION:DISPLAY
DESCRIPTION:Heat vs Team Heard
END:VALARM
END:VEVENT
BEGIN:VEVENT
UID:waxahachie-263542@ygametime.com
DTSTAMP:20220109T000000Z
DTSTART;TZID=America/Chicago:20220108T180000
DURATION:PT0H60M0S
SUMMARY:Team Bunting vs Heat
DESCRIPTION:1st/2nd Grade Division | Youth Basketball\nWaxahachie Family YMCA\n
URL;VALUE=URI:https://ygametime.com/branch/waxahachie/sports/2021-winter-youth-basketball/11356/?utm_medium=calendar&utm_source=team_cal&utm_content=league_url#game-263542
LOCATION:Waxahachie Family YMCA Main Branch
BEGIN:VALARM
TRIGGER:-P2H
ACTION:DISPLAY
DESCRIPTION:Team Bunting vs Heat
END:VALARM
END:VEVENT
BEGIN:VEVENT
UID:waxahachie-263516@ygametime.com
DTSTAMP:20220115T180000Z
DTSTART;TZID=America/Chicago:20220115T120000
DURATION:PT0H60M0S
SUMMARY:Bucks  vs Heat
DESCRIPTION:1st/2nd Grade Division | Youth Basketball\nWaxahachie Family YMCA\n
URL;VALUE=URI:https://ygametime.com/branch/waxahachie/sports/2021-winter-youth-basketball/11356/?utm_medium=calendar&utm_source=team_cal&utm_content=league_url#game-263516
LOCATION:Waxahachie Family YMCA Main Branch
BEGIN:VALARM
TRIGGER:-P2H
ACTION:DISPLAY
DESCRIPTION:Bucks  vs Heat
END:VALARM
END:VEVENT
BEGIN:VEVENT
UID:waxahachie-263524@ygametime.com
DTSTAMP:20220122T160000Z
DTSTART;TZID=America/Chicago:20220122T100000
DURATION:PT0H60M0S
SUMMARY:Heat vs Team Holleman
DESCRIPTION:1st/2nd Grade Division | Youth Basketball\nWaxahachie Family YMCA\n
URL;VALUE=URI:https://ygametime.com/branch/waxahachie/sports/2021-winter-youth-basketball/11356/?utm_medium=calendar&utm_source=team_cal&utm_content=league_url#game-263524
LOCATION:Waxahachie Family YMCA Main Branch
BEGIN:VALARM
TRIGGER:-P2H
ACTION:DISPLAY
DESCRIPTION:Heat vs Team Holleman
END:VALARM
END:VEVENT
BEGIN:VEVENT
UID:waxahachie-269578@ygametime.com
DTSTAMP:20220212T010000Z
DTSTART;TZID=America/Chicago:20220211T190000
DURATION:PT0H60M0S
SUMMARY:Heat vs Blazers
DESCRIPTION:1st/2nd Grade Division | Youth Basketball\nWaxahachie Family YMCA\nWinner of Game 1 vs Seed 1
URL;VALUE=URI:https://ygametime.com/branch/waxahachie/sports/2021-winter-youth-basketball/11356/?utm_medium=calendar&utm_source=team_cal&utm_content=league_url#game-269578
LOCATION:Clift Elementary Gym 
BEGIN:VALARM
TRIGGER:-P2H
ACTION:DISPLAY
DESCRIPTION:Heat vs Blazers
END:VALARM
END:VEVENT
BEGIN:VEVENT
UID:waxahachie-269586@ygametime.com
DTSTAMP:20220216T000000Z
DTSTART;TZID=America/Chicago:20220215T180000
DURATION:PT0H60M0S
SUMMARY:Heat vs Toon Squad
DESCRIPTION:1st/2nd Grade Division | Youth Basketball\nWaxahachie Family YMCA\nWinner of Game 5 vs Winner of Game 6
URL;VALUE=URI:https://ygametime.com/branch/waxahachie/sports/2021-winter-youth-basketball/11356/?utm_medium=calendar&utm_source=team_cal&utm_content=league_url#game-269586
LOCATION:Waxahachie Family YMCA Main Branch
BEGIN:VALARM
TRIGGER:-P2H
ACTION:DISPLAY
DESCRIPTION:Heat vs Toon Squad
END:VALARM
END:VEVENT
BEGIN:VEVENT
UID:waxahachie-269590@ygametime.com
DTSTAMP:20220218T000000Z
DTSTART;TZID=America/Chicago:20220217T180000
DURATION:PT0H60M0S
SUMMARY:Heat vs Bucks 
DESCRIPTION:1st/2nd Grade Division | Youth Basketball\nWaxahachie Family YMCA\nWinner of Game 13 vs Winner of Game 14
URL;VALUE=URI:https://ygametime.com/branch/waxahachie/sports/2021-winter-youth-basketball/11356/?utm_medium=calendar&utm_source=team_cal&utm_content=league_url#game-269590
LOCATION:Waxahachie Family YMCA Main Branch
BEGIN:VALARM
TRIGGER:-P2H
ACTION:DISPLAY
DESCRIPTION:Heat vs Bucks 
END:VALARM
END:VEVENT
END:VCALENDAR

