BEGIN:VCALENDAR
VERSION:2.0
PRODID:-//YGAMETIME.com//YGT iCal Creator//EN
METHOD:PUBLISH
X-PUBLISHED-TTL:PT6H
REFRESH-INTERVAL;VALUE=DURATION:PT6H
CALSCALE:GREGORIAN
X-WR-CALNAME:YGAMETIME CALENDAR
BEGIN:VTIMEZONE
TZID:America/Chicago
X-LIC-LOCATION:America/Chicago
BEGIN:DAYLIGHT
TZOFFSETFROM:-0600
TZOFFSETTO:-0500
TZNAME:CDT
DTSTART:19700308T020000
RRULE:FREQ=YEARLY;BYMONTH=3;BYDAY=2SU
END:DAYLIGHT
BEGIN:STANDARD
TZOFFSETFROM:-0500
TZOFFSETTO:-0600
TZNAME:CST
DTSTART:19701101T020000
RRULE:FREQ=YEARLY;BYMONTH=11;BYDAY=1SU
END:STANDARD
END:VTIMEZONE
BEGIN:VEVENT
UID:waxahachie-264263@ygametime.com
DTSTAMP:20211211T210000Z
DTSTART;TZID=America/Chicago:20211211T150000
DURATION:PT0H60M0S
SUMMARY:Savage Storm vs Team Mathis
DESCRIPTION:3rd/4th Grade Division | Youth Basketball\nWaxahachie Family YMCA\n
URL;VALUE=URI:https://ygametime.com/branch/waxahachie/sports/2021-winter-youth-basketball/11357/?utm_medium=calendar&utm_source=team_cal&utm_content=league_url#game-264263
LOCATION:Clift Elementary Gym 
BEGIN:VALARM
TRIGGER:-P2H
ACTION:DISPLAY
DESCRIPTION:Savage Storm vs Team Mathis
END:VALARM
END:VEVENT
BEGIN:VEVENT
UID:waxahachie-265054@ygametime.com
DTSTAMP:20211211T220000Z
DTSTART;TZID=America/Chicago:20211211T160000
DURATION:PT0H60M0S
SUMMARY:Team Mathis vs Dragons
DESCRIPTION:3rd/4th Grade Division | Youth Basketball\nWaxahachie Family YMCA\n
URL;VALUE=URI:https://ygametime.com/branch/waxahachie/sports/2021-winter-youth-basketball/11357/?utm_medium=calendar&utm_source=team_cal&utm_content=league_url#game-265054
LOCATION:Clift Elementary Gym 
BEGIN:VALARM
TRIGGER:-P2H
ACTION:DISPLAY
DESCRIPTION:Team Mathis vs Dragons
END:VALARM
END:VEVENT
BEGIN:VEVENT
UID:waxahachie-264272@ygametime.com
DTSTAMP:20211218T220000Z
DTSTART;TZID=America/Chicago:20211218T160000
DURATION:PT0H60M0S
SUMMARY:Mavs vs Team Mathis
DESCRIPTION:3rd/4th Grade Division | Youth Basketball\nWaxahachie Family YMCA\n
URL;VALUE=URI:https://ygametime.com/branch/waxahachie/sports/2021-winter-youth-basketball/11357/?utm_medium=calendar&utm_source=team_cal&utm_content=league_url#game-264272
LOCATION:Clift Elementary Gym 
BEGIN:VALARM
TRIGGER:-P2H
ACTION:DISPLAY
DESCRIPTION:Mavs vs Team Mathis
END:VALARM
END:VEVENT
BEGIN:VEVENT
UID:waxahachie-264296@ygametime.com
DTSTAMP:20220108T220000Z
DTSTART;TZID=America/Chicago:20220108T160000
DURATION:PT0H60M0S
SUMMARY:Dragons vs Team Mathis
DESCRIPTION:3rd/4th Grade Division | Youth Basketball\nWaxahachie Family YMCA\n
URL;VALUE=URI:https://ygametime.com/branch/waxahachie/sports/2021-winter-youth-basketball/11357/?utm_medium=calendar&utm_source=team_cal&utm_content=league_url#game-264296
LOCATION:Clift Elementary Gym 
BEGIN:VALARM
TRIGGER:-P2H
ACTION:DISPLAY
DESCRIPTION:Dragons vs Team Mathis
END:VALARM
END:VEVENT
BEGIN:VEVENT
UID:waxahachie-264298@ygametime.com
DTSTAMP:20220115T160000Z
DTSTART;TZID=America/Chicago:20220115T100000
DURATION:PT0H60M0S
SUMMARY:Team Mathis vs Braves
DESCRIPTION:3rd/4th Grade Division | Youth Basketball\nWaxahachie Family YMCA\n
URL;VALUE=URI:https://ygametime.com/branch/waxahachie/sports/2021-winter-youth-basketball/11357/?utm_medium=calendar&utm_source=team_cal&utm_content=league_url#game-264298
LOCATION:Clift Elementary Gym 
BEGIN:VALARM
TRIGGER:-P2H
ACTION:DISPLAY
DESCRIPTION:Team Mathis vs Braves
END:VALARM
END:VEVENT
BEGIN:VEVENT
UID:waxahachie-264274@ygametime.com
DTSTAMP:20220122T170000Z
DTSTART;TZID=America/Chicago:20220122T110000
DURATION:PT0H60M0S
SUMMARY:Team Mathis vs Falcons
DESCRIPTION:3rd/4th Grade Division | Youth Basketball\nWaxahachie Family YMCA\n
URL;VALUE=URI:https://ygametime.com/branch/waxahachie/sports/2021-winter-youth-basketball/11357/?utm_medium=calendar&utm_source=team_cal&utm_content=league_url#game-264274
LOCATION:Clift Elementary Gym 
BEGIN:VALARM
TRIGGER:-P2H
ACTION:DISPLAY
DESCRIPTION:Team Mathis vs Falcons
END:VALARM
END:VEVENT
BEGIN:VEVENT
UID:waxahachie-264287@ygametime.com
DTSTAMP:20220129T210000Z
DTSTART;TZID=America/Chicago:20220129T150000
DURATION:PT0H60M0S
SUMMARY:Hot Shots vs Team Mathis
DESCRIPTION:3rd/4th Grade Division | Youth Basketball\nWaxahachie Family YMCA\n
URL;VALUE=URI:https://ygametime.com/branch/waxahachie/sports/2021-winter-youth-basketball/11357/?utm_medium=calendar&utm_source=team_cal&utm_content=league_url#game-264287
LOCATION:Clift Elementary Gym 
BEGIN:VALARM
TRIGGER:-P2H
ACTION:DISPLAY
DESCRIPTION:Hot Shots vs Team Mathis
END:VALARM
END:VEVENT
BEGIN:VEVENT
UID:waxahachie-269436@ygametime.com
DTSTAMP:20220212T020000Z
DTSTART;TZID=America/Chicago:20220211T200000
DURATION:PT0H60M0S
SUMMARY:Pirates vs Team Mathis
DESCRIPTION:3rd/4th Grade Division | Youth Basketball\nWaxahachie Family YMCA\nSeed 8 vs Seed 9
URL;VALUE=URI:https://ygametime.com/branch/waxahachie/sports/2021-winter-youth-basketball/11357/?utm_medium=calendar&utm_source=team_cal&utm_content=league_url#game-269436
LOCATION:Waxahachie Family YMCA Main Branch
BEGIN:VALARM
TRIGGER:-P2H
ACTION:DISPLAY
DESCRIPTION:Pirates vs Team Mathis
END:VALARM
END:VEVENT
BEGIN:VEVENT
UID:waxahachie-269443@ygametime.com
DTSTAMP:20220217T010000Z
DTSTART;TZID=America/Chicago:20220216T190000
DURATION:PT0H60M0S
SUMMARY:Mavs vs Team Mathis
DESCRIPTION:3rd/4th Grade Division | Youth Basketball\nWaxahachie Family YMCA\nWinner Game 2 vs Winner Game 3
URL;VALUE=URI:https://ygametime.com/branch/waxahachie/sports/2021-winter-youth-basketball/11357/?utm_medium=calendar&utm_source=team_cal&utm_content=league_url#game-269443
LOCATION:Clift Elementary Gym 
BEGIN:VALARM
TRIGGER:-P2H
ACTION:DISPLAY
DESCRIPTION:Mavs vs Team Mathis
END:VALARM
END:VEVENT
END:VCALENDAR

