BEGIN:VCALENDAR
VERSION:2.0
PRODID:-//YGAMETIME.com//YGT iCal Creator//EN
METHOD:PUBLISH
X-PUBLISHED-TTL:PT6H
REFRESH-INTERVAL;VALUE=DURATION:PT6H
CALSCALE:GREGORIAN
X-WR-CALNAME:YGAMETIME CALENDAR
BEGIN:VTIMEZONE
TZID:America/Chicago
X-LIC-LOCATION:America/Chicago
BEGIN:DAYLIGHT
TZOFFSETFROM:-0600
TZOFFSETTO:-0500
TZNAME:CDT
DTSTART:19700308T020000
RRULE:FREQ=YEARLY;BYMONTH=3;BYDAY=2SU
END:DAYLIGHT
BEGIN:STANDARD
TZOFFSETFROM:-0500
TZOFFSETTO:-0600
TZNAME:CST
DTSTART:19701101T020000
RRULE:FREQ=YEARLY;BYMONTH=11;BYDAY=1SU
END:STANDARD
END:VTIMEZONE
BEGIN:VEVENT
UID:waxahachie-264147@ygametime.com
DTSTAMP:20211204T210000Z
DTSTART;TZID=America/Chicago:20211204T150000
DURATION:PT0H60M0S
SUMMARY:Mavericks vs Hawks
DESCRIPTION:5th/6th Grade Division | Youth Basketball\nWaxahachie Family YMCA\n
URL;VALUE=URI:https://ygametime.com/branch/waxahachie/sports/2021-winter-youth-basketball/11358/?utm_medium=calendar&utm_source=team_cal&utm_content=league_url#game-264147
LOCATION:Wilemon STEAM Academy Gym 
BEGIN:VALARM
TRIGGER:-P2H
ACTION:DISPLAY
DESCRIPTION:Mavericks vs Hawks
END:VALARM
END:VEVENT
BEGIN:VEVENT
UID:waxahachie-264158@ygametime.com
DTSTAMP:20211218T180000Z
DTSTART;TZID=America/Chicago:20211218T120000
DURATION:PT0H60M0S
SUMMARY:Mavericks vs Braves
DESCRIPTION:5th/6th Grade Division | Youth Basketball\nWaxahachie Family YMCA\n
URL;VALUE=URI:https://ygametime.com/branch/waxahachie/sports/2021-winter-youth-basketball/11358/?utm_medium=calendar&utm_source=team_cal&utm_content=league_url#game-264158
LOCATION:Wilemon STEAM Academy Gym 
BEGIN:VALARM
TRIGGER:-P2H
ACTION:DISPLAY
DESCRIPTION:Mavericks vs Braves
END:VALARM
END:VEVENT
BEGIN:VEVENT
UID:waxahachie-264180@ygametime.com
DTSTAMP:20220108T190000Z
DTSTART;TZID=America/Chicago:20220108T130000
DURATION:PT0H60M0S
SUMMARY:Mambas vs Mavericks
DESCRIPTION:5th/6th Grade Division | Youth Basketball\nWaxahachie Family YMCA\n
URL;VALUE=URI:https://ygametime.com/branch/waxahachie/sports/2021-winter-youth-basketball/11358/?utm_medium=calendar&utm_source=team_cal&utm_content=league_url#game-264180
LOCATION:Wilemon STEAM Academy Gym 
BEGIN:VALARM
TRIGGER:-P2H
ACTION:DISPLAY
DESCRIPTION:Mambas vs Mavericks
END:VALARM
END:VEVENT
BEGIN:VEVENT
UID:waxahachie-264153@ygametime.com
DTSTAMP:20220115T200000Z
DTSTART;TZID=America/Chicago:20220115T140000
DURATION:PT0H60M0S
SUMMARY:Fireballs vs Mavericks
DESCRIPTION:5th/6th Grade Division | Youth Basketball\nWaxahachie Family YMCA\n
URL;VALUE=URI:https://ygametime.com/branch/waxahachie/sports/2021-winter-youth-basketball/11358/?utm_medium=calendar&utm_source=team_cal&utm_content=league_url#game-264153
LOCATION:Wilemon STEAM Academy Gym 
BEGIN:VALARM
TRIGGER:-P2H
ACTION:DISPLAY
DESCRIPTION:Fireballs vs Mavericks
END:VALARM
END:VEVENT
BEGIN:VEVENT
UID:waxahachie-264163@ygametime.com
DTSTAMP:20220122T160000Z
DTSTART;TZID=America/Chicago:20220122T100000
DURATION:PT0H60M0S
SUMMARY:Lions '28 vs Mavericks
DESCRIPTION:5th/6th Grade Division | Youth Basketball\nWaxahachie Family YMCA\n
URL;VALUE=URI:https://ygametime.com/branch/waxahachie/sports/2021-winter-youth-basketball/11358/?utm_medium=calendar&utm_source=team_cal&utm_content=league_url#game-264163
LOCATION:Wilemon STEAM Academy Gym 
BEGIN:VALARM
TRIGGER:-P2H
ACTION:DISPLAY
DESCRIPTION:Lions '28 vs Mavericks
END:VALARM
END:VEVENT
BEGIN:VEVENT
UID:waxahachie-264175@ygametime.com
DTSTAMP:20220129T210000Z
DTSTART;TZID=America/Chicago:20220129T150000
DURATION:PT0H60M0S
SUMMARY:Mavericks vs Raptors
DESCRIPTION:5th/6th Grade Division | Youth Basketball\nWaxahachie Family YMCA\n
URL;VALUE=URI:https://ygametime.com/branch/waxahachie/sports/2021-winter-youth-basketball/11358/?utm_medium=calendar&utm_source=team_cal&utm_content=league_url#game-264175
LOCATION:Wilemon STEAM Academy Gym 
BEGIN:VALARM
TRIGGER:-P2H
ACTION:DISPLAY
DESCRIPTION:Mavericks vs Raptors
END:VALARM
END:VEVENT
BEGIN:VEVENT
UID:waxahachie-269247@ygametime.com
DTSTAMP:20220212T180000Z
DTSTART;TZID=America/Chicago:20220212T120000
DURATION:PT0H60M0S
SUMMARY:Mavericks vs Mambas
DESCRIPTION:5th/6th Grade Division | Youth Basketball\nWaxahachie Family YMCA\nSeed 3 vs Seed 14
URL;VALUE=URI:https://ygametime.com/branch/waxahachie/sports/2021-winter-youth-basketball/11358/?utm_medium=calendar&utm_source=team_cal&utm_content=league_url#game-269247
LOCATION:Wilemon STEAM Academy Gym 
BEGIN:VALARM
TRIGGER:-P2H
ACTION:DISPLAY
DESCRIPTION:Mavericks vs Mambas
END:VALARM
END:VEVENT
BEGIN:VEVENT
UID:waxahachie-269252@ygametime.com
DTSTAMP:20220212T190000Z
DTSTART;TZID=America/Chicago:20220212T130000
DURATION:PT0H60M0S
SUMMARY:Mavericks vs Chiefs
DESCRIPTION:5th/6th Grade Division | Youth Basketball\nWaxahachie Family YMCA\nWinner Game 5 vs Winner Game 6
URL;VALUE=URI:https://ygametime.com/branch/waxahachie/sports/2021-winter-youth-basketball/11358/?utm_medium=calendar&utm_source=team_cal&utm_content=league_url#game-269252
LOCATION:Wilemon STEAM Academy Gym 
BEGIN:VALARM
TRIGGER:-P2H
ACTION:DISPLAY
DESCRIPTION:Mavericks vs Chiefs
END:VALARM
END:VEVENT
END:VCALENDAR

