BEGIN:VCALENDAR
VERSION:2.0
PRODID:-//YGAMETIME.com//YGT iCal Creator//EN
METHOD:PUBLISH
X-PUBLISHED-TTL:PT6H
REFRESH-INTERVAL;VALUE=DURATION:PT6H
CALSCALE:GREGORIAN
X-WR-CALNAME:YGAMETIME CALENDAR
BEGIN:VTIMEZONE
TZID:America/Chicago
X-LIC-LOCATION:America/Chicago
BEGIN:DAYLIGHT
TZOFFSETFROM:-0600
TZOFFSETTO:-0500
TZNAME:CDT
DTSTART:19700308T020000
RRULE:FREQ=YEARLY;BYMONTH=3;BYDAY=2SU
END:DAYLIGHT
BEGIN:STANDARD
TZOFFSETFROM:-0500
TZOFFSETTO:-0600
TZNAME:CST
DTSTART:19701101T020000
RRULE:FREQ=YEARLY;BYMONTH=11;BYDAY=1SU
END:STANDARD
END:VTIMEZONE
BEGIN:VEVENT
UID:waxahachie-264144@ygametime.com
DTSTAMP:20211204T180000Z
DTSTART;TZID=America/Chicago:20211204T120000
DURATION:PT0H60M0S
SUMMARY:Mambas vs Braves
DESCRIPTION:5th/6th Grade Division | Youth Basketball\nWaxahachie Family YMCA\n
URL;VALUE=URI:https://ygametime.com/branch/waxahachie/sports/2021-winter-youth-basketball/11358/?utm_medium=calendar&utm_source=team_cal&utm_content=league_url#game-264144
LOCATION:Wilemon STEAM Academy Gym 
BEGIN:VALARM
TRIGGER:-P2H
ACTION:DISPLAY
DESCRIPTION:Mambas vs Braves
END:VALARM
END:VEVENT
BEGIN:VEVENT
UID:waxahachie-264161@ygametime.com
DTSTAMP:20211218T210000Z
DTSTART;TZID=America/Chicago:20211218T150000
DURATION:PT0H60M0S
SUMMARY:Mambas vs Raptors
DESCRIPTION:5th/6th Grade Division | Youth Basketball\nWaxahachie Family YMCA\n
URL;VALUE=URI:https://ygametime.com/branch/waxahachie/sports/2021-winter-youth-basketball/11358/?utm_medium=calendar&utm_source=team_cal&utm_content=league_url#game-264161
LOCATION:Wilemon STEAM Academy Gym 
BEGIN:VALARM
TRIGGER:-P2H
ACTION:DISPLAY
DESCRIPTION:Mambas vs Raptors
END:VALARM
END:VEVENT
BEGIN:VEVENT
UID:waxahachie-264180@ygametime.com
DTSTAMP:20220108T190000Z
DTSTART;TZID=America/Chicago:20220108T130000
DURATION:PT0H60M0S
SUMMARY:Mambas vs Mavericks
DESCRIPTION:5th/6th Grade Division | Youth Basketball\nWaxahachie Family YMCA\n
URL;VALUE=URI:https://ygametime.com/branch/waxahachie/sports/2021-winter-youth-basketball/11358/?utm_medium=calendar&utm_source=team_cal&utm_content=league_url#game-264180
LOCATION:Wilemon STEAM Academy Gym 
BEGIN:VALARM
TRIGGER:-P2H
ACTION:DISPLAY
DESCRIPTION:Mambas vs Mavericks
END:VALARM
END:VEVENT
BEGIN:VEVENT
UID:waxahachie-264149@ygametime.com
DTSTAMP:20220115T160000Z
DTSTART;TZID=America/Chicago:20220115T100000
DURATION:PT0H60M0S
SUMMARY:Lions '28 vs Mambas
DESCRIPTION:5th/6th Grade Division | Youth Basketball\nWaxahachie Family YMCA\n
URL;VALUE=URI:https://ygametime.com/branch/waxahachie/sports/2021-winter-youth-basketball/11358/?utm_medium=calendar&utm_source=team_cal&utm_content=league_url#game-264149
LOCATION:Wilemon STEAM Academy Gym 
BEGIN:VALARM
TRIGGER:-P2H
ACTION:DISPLAY
DESCRIPTION:Lions '28 vs Mambas
END:VALARM
END:VEVENT
BEGIN:VEVENT
UID:waxahachie-264166@ygametime.com
DTSTAMP:20220122T190000Z
DTSTART;TZID=America/Chicago:20220122T130000
DURATION:PT0H60M0S
SUMMARY:Team Vernon vs Mambas
DESCRIPTION:5th/6th Grade Division | Youth Basketball\nWaxahachie Family YMCA\n
URL;VALUE=URI:https://ygametime.com/branch/waxahachie/sports/2021-winter-youth-basketball/11358/?utm_medium=calendar&utm_source=team_cal&utm_content=league_url#game-264166
LOCATION:Wilemon STEAM Academy Gym 
BEGIN:VALARM
TRIGGER:-P2H
ACTION:DISPLAY
DESCRIPTION:Team Vernon vs Mambas
END:VALARM
END:VEVENT
BEGIN:VEVENT
UID:waxahachie-264173@ygametime.com
DTSTAMP:20220129T190000Z
DTSTART;TZID=America/Chicago:20220129T130000
DURATION:PT0H60M0S
SUMMARY:Team Alex Blake vs Mambas
DESCRIPTION:5th/6th Grade Division | Youth Basketball\nWaxahachie Family YMCA\n
URL;VALUE=URI:https://ygametime.com/branch/waxahachie/sports/2021-winter-youth-basketball/11358/?utm_medium=calendar&utm_source=team_cal&utm_content=league_url#game-264173
LOCATION:Wilemon STEAM Academy Gym 
BEGIN:VALARM
TRIGGER:-P2H
ACTION:DISPLAY
DESCRIPTION:Team Alex Blake vs Mambas
END:VALARM
END:VEVENT
BEGIN:VEVENT
UID:waxahachie-269247@ygametime.com
DTSTAMP:20220212T180000Z
DTSTART;TZID=America/Chicago:20220212T120000
DURATION:PT0H60M0S
SUMMARY:Mavericks vs Mambas
DESCRIPTION:5th/6th Grade Division | Youth Basketball\nWaxahachie Family YMCA\nSeed 3 vs Seed 14
URL;VALUE=URI:https://ygametime.com/branch/waxahachie/sports/2021-winter-youth-basketball/11358/?utm_medium=calendar&utm_source=team_cal&utm_content=league_url#game-269247
LOCATION:Wilemon STEAM Academy Gym 
BEGIN:VALARM
TRIGGER:-P2H
ACTION:DISPLAY
DESCRIPTION:Mavericks vs Mambas
END:VALARM
END:VEVENT
END:VCALENDAR

