BEGIN:VCALENDAR
VERSION:2.0
PRODID:-//YGAMETIME.com//YGT iCal Creator//EN
METHOD:PUBLISH
X-PUBLISHED-TTL:PT6H
REFRESH-INTERVAL;VALUE=DURATION:PT6H
CALSCALE:GREGORIAN
X-WR-CALNAME:YGAMETIME CALENDAR
BEGIN:VTIMEZONE
TZID:America/Chicago
X-LIC-LOCATION:America/Chicago
BEGIN:DAYLIGHT
TZOFFSETFROM:-0600
TZOFFSETTO:-0500
TZNAME:CDT
DTSTART:19700308T020000
RRULE:FREQ=YEARLY;BYMONTH=3;BYDAY=2SU
END:DAYLIGHT
BEGIN:STANDARD
TZOFFSETFROM:-0500
TZOFFSETTO:-0600
TZNAME:CST
DTSTART:19701101T020000
RRULE:FREQ=YEARLY;BYMONTH=11;BYDAY=1SU
END:STANDARD
END:VTIMEZONE
BEGIN:VEVENT
UID:waxahachie-264145@ygametime.com
DTSTAMP:20211204T190000Z
DTSTART;TZID=America/Chicago:20211204T130000
DURATION:PT0H60M0S
SUMMARY:Future vs Chiefs
DESCRIPTION:5th/6th Grade Division | Youth Basketball\nWaxahachie Family YMCA\n
URL;VALUE=URI:https://ygametime.com/branch/waxahachie/sports/2021-winter-youth-basketball/11358/?utm_medium=calendar&utm_source=team_cal&utm_content=league_url#game-264145
LOCATION:Wilemon STEAM Academy Gym 
BEGIN:VALARM
TRIGGER:-P2H
ACTION:DISPLAY
DESCRIPTION:Future vs Chiefs
END:VALARM
END:VEVENT
BEGIN:VEVENT
UID:waxahachie-264155@ygametime.com
DTSTAMP:20211218T150000Z
DTSTART;TZID=America/Chicago:20211218T090000
DURATION:PT0H60M0S
SUMMARY:BEST vs Chiefs
DESCRIPTION:5th/6th Grade Division | Youth Basketball\nWaxahachie Family YMCA\n
URL;VALUE=URI:https://ygametime.com/branch/waxahachie/sports/2021-winter-youth-basketball/11358/?utm_medium=calendar&utm_source=team_cal&utm_content=league_url#game-264155
LOCATION:Wilemon STEAM Academy Gym 
BEGIN:VALARM
TRIGGER:-P2H
ACTION:DISPLAY
DESCRIPTION:BEST vs Chiefs
END:VALARM
END:VEVENT
BEGIN:VEVENT
UID:waxahachie-264179@ygametime.com
DTSTAMP:20220108T180000Z
DTSTART;TZID=America/Chicago:20220108T120000
DURATION:PT0H60M0S
SUMMARY:Hawks vs Chiefs
DESCRIPTION:5th/6th Grade Division | Youth Basketball\nWaxahachie Family YMCA\n
URL;VALUE=URI:https://ygametime.com/branch/waxahachie/sports/2021-winter-youth-basketball/11358/?utm_medium=calendar&utm_source=team_cal&utm_content=league_url#game-264179
LOCATION:Wilemon STEAM Academy Gym 
BEGIN:VALARM
TRIGGER:-P2H
ACTION:DISPLAY
DESCRIPTION:Hawks vs Chiefs
END:VALARM
END:VEVENT
BEGIN:VEVENT
UID:waxahachie-264150@ygametime.com
DTSTAMP:20220115T170000Z
DTSTART;TZID=America/Chicago:20220115T110000
DURATION:PT0H60M0S
SUMMARY:Chiefs vs Team Perry
DESCRIPTION:5th/6th Grade Division | Youth Basketball\nWaxahachie Family YMCA\n
URL;VALUE=URI:https://ygametime.com/branch/waxahachie/sports/2021-winter-youth-basketball/11358/?utm_medium=calendar&utm_source=team_cal&utm_content=league_url#game-264150
LOCATION:Wilemon STEAM Academy Gym 
BEGIN:VALARM
TRIGGER:-P2H
ACTION:DISPLAY
DESCRIPTION:Chiefs vs Team Perry
END:VALARM
END:VEVENT
BEGIN:VEVENT
UID:waxahachie-264167@ygametime.com
DTSTAMP:20220122T200000Z
DTSTART;TZID=America/Chicago:20220122T140000
DURATION:PT0H60M0S
SUMMARY:Chiefs vs Thunder
DESCRIPTION:5th/6th Grade Division | Youth Basketball\nWaxahachie Family YMCA\n
URL;VALUE=URI:https://ygametime.com/branch/waxahachie/sports/2021-winter-youth-basketball/11358/?utm_medium=calendar&utm_source=team_cal&utm_content=league_url#game-264167
LOCATION:Wilemon STEAM Academy Gym 
BEGIN:VALARM
TRIGGER:-P2H
ACTION:DISPLAY
DESCRIPTION:Chiefs vs Thunder
END:VALARM
END:VEVENT
BEGIN:VEVENT
UID:waxahachie-264172@ygametime.com
DTSTAMP:20220129T180000Z
DTSTART;TZID=America/Chicago:20220129T120000
DURATION:PT0H60M0S
SUMMARY:Chiefs vs Team Vernon
DESCRIPTION:5th/6th Grade Division | Youth Basketball\nWaxahachie Family YMCA\n
URL;VALUE=URI:https://ygametime.com/branch/waxahachie/sports/2021-winter-youth-basketball/11358/?utm_medium=calendar&utm_source=team_cal&utm_content=league_url#game-264172
LOCATION:Wilemon STEAM Academy Gym 
BEGIN:VALARM
TRIGGER:-P2H
ACTION:DISPLAY
DESCRIPTION:Chiefs vs Team Vernon
END:VALARM
END:VEVENT
BEGIN:VEVENT
UID:waxahachie-269248@ygametime.com
DTSTAMP:20220212T190000Z
DTSTART;TZID=America/Chicago:20220212T130000
DURATION:PT0H60M0S
SUMMARY:Chiefs vs Fireballs
DESCRIPTION:5th/6th Grade Division | Youth Basketball\nWaxahachie Family YMCA\nSeed 6 vs Seed 11
URL;VALUE=URI:https://ygametime.com/branch/waxahachie/sports/2021-winter-youth-basketball/11358/?utm_medium=calendar&utm_source=team_cal&utm_content=league_url#game-269248
LOCATION:Wilemon STEAM Academy Gym 
BEGIN:VALARM
TRIGGER:-P2H
ACTION:DISPLAY
DESCRIPTION:Chiefs vs Fireballs
END:VALARM
END:VEVENT
BEGIN:VEVENT
UID:waxahachie-269252@ygametime.com
DTSTAMP:20220212T190000Z
DTSTART;TZID=America/Chicago:20220212T130000
DURATION:PT0H60M0S
SUMMARY:Mavericks vs Chiefs
DESCRIPTION:5th/6th Grade Division | Youth Basketball\nWaxahachie Family YMCA\nWinner Game 5 vs Winner Game 6
URL;VALUE=URI:https://ygametime.com/branch/waxahachie/sports/2021-winter-youth-basketball/11358/?utm_medium=calendar&utm_source=team_cal&utm_content=league_url#game-269252
LOCATION:Wilemon STEAM Academy Gym 
BEGIN:VALARM
TRIGGER:-P2H
ACTION:DISPLAY
DESCRIPTION:Mavericks vs Chiefs
END:VALARM
END:VEVENT
BEGIN:VEVENT
UID:waxahachie-269254@ygametime.com
DTSTAMP:20220218T000000Z
DTSTART;TZID=America/Chicago:20220217T180000
DURATION:PT0H60M0S
SUMMARY:Future vs Chiefs
DESCRIPTION:5th/6th Grade Division | Youth Basketball\nWaxahachie Family YMCA\nWinner Game 9 vs Winner Game 10
URL;VALUE=URI:https://ygametime.com/branch/waxahachie/sports/2021-winter-youth-basketball/11358/?utm_medium=calendar&utm_source=team_cal&utm_content=league_url#game-269254
LOCATION:Global High School - George W. Solis Gymnasium
BEGIN:VALARM
TRIGGER:-P2H
ACTION:DISPLAY
DESCRIPTION:Future vs Chiefs
END:VALARM
END:VEVENT
END:VCALENDAR

