BEGIN:VCALENDAR
VERSION:2.0
PRODID:-//YGAMETIME.com//YGT iCal Creator//EN
METHOD:PUBLISH
X-PUBLISHED-TTL:PT6H
REFRESH-INTERVAL;VALUE=DURATION:PT6H
CALSCALE:GREGORIAN
X-WR-CALNAME:YGAMETIME CALENDAR
BEGIN:VTIMEZONE
TZID:America/Chicago
X-LIC-LOCATION:America/Chicago
BEGIN:DAYLIGHT
TZOFFSETFROM:-0600
TZOFFSETTO:-0500
TZNAME:CDT
DTSTART:19700308T020000
RRULE:FREQ=YEARLY;BYMONTH=3;BYDAY=2SU
END:DAYLIGHT
BEGIN:STANDARD
TZOFFSETFROM:-0500
TZOFFSETTO:-0600
TZNAME:CST
DTSTART:19701101T020000
RRULE:FREQ=YEARLY;BYMONTH=11;BYDAY=1SU
END:STANDARD
END:VTIMEZONE
BEGIN:VEVENT
UID:waxahachie-264146@ygametime.com
DTSTAMP:20211204T200000Z
DTSTART;TZID=America/Chicago:20211204T140000
DURATION:PT0H60M0S
SUMMARY:Team Alex Blake vs Fireballs
DESCRIPTION:5th/6th Grade Division | Youth Basketball\nWaxahachie Family YMCA\n
URL;VALUE=URI:https://ygametime.com/branch/waxahachie/sports/2021-winter-youth-basketball/11358/?utm_medium=calendar&utm_source=team_cal&utm_content=league_url#game-264146
LOCATION:Wilemon STEAM Academy Gym 
BEGIN:VALARM
TRIGGER:-P2H
ACTION:DISPLAY
DESCRIPTION:Team Alex Blake vs Fireballs
END:VALARM
END:VEVENT
BEGIN:VEVENT
UID:waxahachie-264156@ygametime.com
DTSTAMP:20211218T160000Z
DTSTART;TZID=America/Chicago:20211218T100000
DURATION:PT0H60M0S
SUMMARY:Team Alex Blake vs Lions '28
DESCRIPTION:5th/6th Grade Division | Youth Basketball\nWaxahachie Family YMCA\n
URL;VALUE=URI:https://ygametime.com/branch/waxahachie/sports/2021-winter-youth-basketball/11358/?utm_medium=calendar&utm_source=team_cal&utm_content=league_url#game-264156
LOCATION:Wilemon STEAM Academy Gym 
BEGIN:VALARM
TRIGGER:-P2H
ACTION:DISPLAY
DESCRIPTION:Team Alex Blake vs Lions '28
END:VALARM
END:VEVENT
BEGIN:VEVENT
UID:waxahachie-264178@ygametime.com
DTSTAMP:20220108T170000Z
DTSTART;TZID=America/Chicago:20220108T110000
DURATION:PT0H60M0S
SUMMARY:Team Vernon vs Team Alex Blake
DESCRIPTION:5th/6th Grade Division | Youth Basketball\nWaxahachie Family YMCA\n
URL;VALUE=URI:https://ygametime.com/branch/waxahachie/sports/2021-winter-youth-basketball/11358/?utm_medium=calendar&utm_source=team_cal&utm_content=league_url#game-264178
LOCATION:Wilemon STEAM Academy Gym 
BEGIN:VALARM
TRIGGER:-P2H
ACTION:DISPLAY
DESCRIPTION:Team Vernon vs Team Alex Blake
END:VALARM
END:VEVENT
BEGIN:VEVENT
UID:waxahachie-264151@ygametime.com
DTSTAMP:20220115T180000Z
DTSTART;TZID=America/Chicago:20220115T120000
DURATION:PT0H60M0S
SUMMARY:Braves vs Team Alex Blake
DESCRIPTION:5th/6th Grade Division | Youth Basketball\nWaxahachie Family YMCA\n
URL;VALUE=URI:https://ygametime.com/branch/waxahachie/sports/2021-winter-youth-basketball/11358/?utm_medium=calendar&utm_source=team_cal&utm_content=league_url#game-264151
LOCATION:Wilemon STEAM Academy Gym 
BEGIN:VALARM
TRIGGER:-P2H
ACTION:DISPLAY
DESCRIPTION:Braves vs Team Alex Blake
END:VALARM
END:VEVENT
BEGIN:VEVENT
UID:waxahachie-264168@ygametime.com
DTSTAMP:20220122T210000Z
DTSTART;TZID=America/Chicago:20220122T150000
DURATION:PT0H60M0S
SUMMARY:Raptors vs Team Alex Blake
DESCRIPTION:5th/6th Grade Division | Youth Basketball\nWaxahachie Family YMCA\n
URL;VALUE=URI:https://ygametime.com/branch/waxahachie/sports/2021-winter-youth-basketball/11358/?utm_medium=calendar&utm_source=team_cal&utm_content=league_url#game-264168
LOCATION:Wilemon STEAM Academy Gym 
BEGIN:VALARM
TRIGGER:-P2H
ACTION:DISPLAY
DESCRIPTION:Raptors vs Team Alex Blake
END:VALARM
END:VEVENT
BEGIN:VEVENT
UID:waxahachie-264173@ygametime.com
DTSTAMP:20220129T190000Z
DTSTART;TZID=America/Chicago:20220129T130000
DURATION:PT0H60M0S
SUMMARY:Team Alex Blake vs Mambas
DESCRIPTION:5th/6th Grade Division | Youth Basketball\nWaxahachie Family YMCA\n
URL;VALUE=URI:https://ygametime.com/branch/waxahachie/sports/2021-winter-youth-basketball/11358/?utm_medium=calendar&utm_source=team_cal&utm_content=league_url#game-264173
LOCATION:Wilemon STEAM Academy Gym 
BEGIN:VALARM
TRIGGER:-P2H
ACTION:DISPLAY
DESCRIPTION:Team Alex Blake vs Mambas
END:VALARM
END:VEVENT
BEGIN:VEVENT
UID:waxahachie-269244@ygametime.com
DTSTAMP:20220212T020000Z
DTSTART;TZID=America/Chicago:20220211T200000
DURATION:PT0H60M0S
SUMMARY:Team Perry vs Team Alex Blake
DESCRIPTION:5th/6th Grade Division | Youth Basketball\nWaxahachie Family YMCA\nSeed 4 vs Seed 13
URL;VALUE=URI:https://ygametime.com/branch/waxahachie/sports/2021-winter-youth-basketball/11358/?utm_medium=calendar&utm_source=team_cal&utm_content=league_url#game-269244
LOCATION:Wilemon STEAM Academy Gym 
BEGIN:VALARM
TRIGGER:-P2H
ACTION:DISPLAY
DESCRIPTION:Team Perry vs Team Alex Blake
END:VALARM
END:VEVENT
END:VCALENDAR

