BEGIN:VCALENDAR
VERSION:2.0
PRODID:-//YGAMETIME.com//YGT iCal Creator//EN
METHOD:PUBLISH
X-PUBLISHED-TTL:PT6H
REFRESH-INTERVAL;VALUE=DURATION:PT6H
CALSCALE:GREGORIAN
X-WR-CALNAME:YGAMETIME CALENDAR
BEGIN:VTIMEZONE
TZID:America/Chicago
X-LIC-LOCATION:America/Chicago
BEGIN:DAYLIGHT
TZOFFSETFROM:-0600
TZOFFSETTO:-0500
TZNAME:CDT
DTSTART:19700308T020000
RRULE:FREQ=YEARLY;BYMONTH=3;BYDAY=2SU
END:DAYLIGHT
BEGIN:STANDARD
TZOFFSETFROM:-0500
TZOFFSETTO:-0600
TZNAME:CST
DTSTART:19701101T020000
RRULE:FREQ=YEARLY;BYMONTH=11;BYDAY=1SU
END:STANDARD
END:VTIMEZONE
BEGIN:VEVENT
UID:waxahachie-264187@ygametime.com
DTSTAMP:20211204T190000Z
DTSTART;TZID=America/Chicago:20211204T130000
DURATION:PT0H60M0S
SUMMARY:Lady Mavs vs Monsters
DESCRIPTION:Girls 4th/6th Grade Division | Youth Basketball\nWaxahachie Family YMCA\n
URL;VALUE=URI:https://ygametime.com/branch/waxahachie/sports/2021-winter-youth-basketball/11359/?utm_medium=calendar&utm_source=team_cal&utm_content=league_url#game-264187
LOCATION:Global High School - George W. Solis Gymnasium
BEGIN:VALARM
TRIGGER:-P2H
ACTION:DISPLAY
DESCRIPTION:Lady Mavs vs Monsters
END:VALARM
END:VEVENT
BEGIN:VEVENT
UID:waxahachie-264190@ygametime.com
DTSTAMP:20211211T160000Z
DTSTART;TZID=America/Chicago:20211211T100000
DURATION:PT0H60M0S
SUMMARY:Girls on Fire vs Lady Mavs
DESCRIPTION:Girls 4th/6th Grade Division | Youth Basketball\nWaxahachie Family YMCA\n
URL;VALUE=URI:https://ygametime.com/branch/waxahachie/sports/2021-winter-youth-basketball/11359/?utm_medium=calendar&utm_source=team_cal&utm_content=league_url#game-264190
LOCATION:Global High School - George W. Solis Gymnasium
BEGIN:VALARM
TRIGGER:-P2H
ACTION:DISPLAY
DESCRIPTION:Girls on Fire vs Lady Mavs
END:VALARM
END:VEVENT
BEGIN:VEVENT
UID:waxahachie-264198@ygametime.com
DTSTAMP:20211218T190000Z
DTSTART;TZID=America/Chicago:20211218T130000
DURATION:PT0H60M0S
SUMMARY:Lady Mavs vs Lady Bears
DESCRIPTION:Girls 4th/6th Grade Division | Youth Basketball\nWaxahachie Family YMCA\n
URL;VALUE=URI:https://ygametime.com/branch/waxahachie/sports/2021-winter-youth-basketball/11359/?utm_medium=calendar&utm_source=team_cal&utm_content=league_url#game-264198
LOCATION:Global High School - George W. Solis Gymnasium
BEGIN:VALARM
TRIGGER:-P2H
ACTION:DISPLAY
DESCRIPTION:Lady Mavs vs Lady Bears
END:VALARM
END:VEVENT
BEGIN:VEVENT
UID:waxahachie-264211@ygametime.com
DTSTAMP:20220108T170000Z
DTSTART;TZID=America/Chicago:20220108T110000
DURATION:PT0H60M0S
SUMMARY:Lady Mavs vs Chaos
DESCRIPTION:Girls 4th/6th Grade Division | Youth Basketball\nWaxahachie Family YMCA\n
URL;VALUE=URI:https://ygametime.com/branch/waxahachie/sports/2021-winter-youth-basketball/11359/?utm_medium=calendar&utm_source=team_cal&utm_content=league_url#game-264211
LOCATION:Global High School - George W. Solis Gymnasium
BEGIN:VALARM
TRIGGER:-P2H
ACTION:DISPLAY
DESCRIPTION:Lady Mavs vs Chaos
END:VALARM
END:VEVENT
BEGIN:VEVENT
UID:waxahachie-264201@ygametime.com
DTSTAMP:20220115T180000Z
DTSTART;TZID=America/Chicago:20220115T120000
DURATION:PT0H60M0S
SUMMARY:Fireballers vs Lady Mavs
DESCRIPTION:Girls 4th/6th Grade Division | Youth Basketball\nWaxahachie Family YMCA\n
URL;VALUE=URI:https://ygametime.com/branch/waxahachie/sports/2021-winter-youth-basketball/11359/?utm_medium=calendar&utm_source=team_cal&utm_content=league_url#game-264201
LOCATION:Global High School - George W. Solis Gymnasium
BEGIN:VALARM
TRIGGER:-P2H
ACTION:DISPLAY
DESCRIPTION:Fireballers vs Lady Mavs
END:VALARM
END:VEVENT
BEGIN:VEVENT
UID:waxahachie-264206@ygametime.com
DTSTAMP:20220122T160000Z
DTSTART;TZID=America/Chicago:20220122T100000
DURATION:PT0H60M0S
SUMMARY:Team Reeves vs Lady Mavs
DESCRIPTION:Girls 4th/6th Grade Division | Youth Basketball\nWaxahachie Family YMCA\n
URL;VALUE=URI:https://ygametime.com/branch/waxahachie/sports/2021-winter-youth-basketball/11359/?utm_medium=calendar&utm_source=team_cal&utm_content=league_url#game-264206
LOCATION:Global High School - George W. Solis Gymnasium
BEGIN:VALARM
TRIGGER:-P2H
ACTION:DISPLAY
DESCRIPTION:Team Reeves vs Lady Mavs
END:VALARM
END:VEVENT
BEGIN:VEVENT
UID:waxahachie-269378@ygametime.com
DTSTAMP:20220212T020000Z
DTSTART;TZID=America/Chicago:20220211T200000
DURATION:PT0H60M0S
SUMMARY:Waxahachie Prep Lady Warriors vs Lady Mavs
DESCRIPTION:Girls 4th/6th Grade Division | Youth Basketball\nWaxahachie Family YMCA\n
URL;VALUE=URI:https://ygametime.com/branch/waxahachie/sports/2021-winter-youth-basketball/11359/?utm_medium=calendar&utm_source=team_cal&utm_content=league_url#game-269378
LOCATION:Global High School - George W. Solis Gymnasium
BEGIN:VALARM
TRIGGER:-P2H
ACTION:DISPLAY
DESCRIPTION:Waxahachie Prep Lady Warriors vs Lady Mavs
END:VALARM
END:VEVENT
END:VCALENDAR

