BEGIN:VCALENDAR
VERSION:2.0
PRODID:-//YGAMETIME.com//YGT iCal Creator//EN
METHOD:PUBLISH
X-PUBLISHED-TTL:PT6H
REFRESH-INTERVAL;VALUE=DURATION:PT6H
CALSCALE:GREGORIAN
X-WR-CALNAME:YGAMETIME CALENDAR
BEGIN:VTIMEZONE
TZID:America/Chicago
X-LIC-LOCATION:America/Chicago
BEGIN:DAYLIGHT
TZOFFSETFROM:-0600
TZOFFSETTO:-0500
TZNAME:CDT
DTSTART:19700308T020000
RRULE:FREQ=YEARLY;BYMONTH=3;BYDAY=2SU
END:DAYLIGHT
BEGIN:STANDARD
TZOFFSETFROM:-0500
TZOFFSETTO:-0600
TZNAME:CST
DTSTART:19701101T020000
RRULE:FREQ=YEARLY;BYMONTH=11;BYDAY=1SU
END:STANDARD
END:VTIMEZONE
BEGIN:VEVENT
UID:waxahachie-264188@ygametime.com
DTSTAMP:20211204T170000Z
DTSTART;TZID=America/Chicago:20211204T110000
DURATION:PT0H60M0S
SUMMARY:Team Reeves vs Heat
DESCRIPTION:Girls 4th/6th Grade Division | Youth Basketball\nWaxahachie Family YMCA\n
URL;VALUE=URI:https://ygametime.com/branch/waxahachie/sports/2021-winter-youth-basketball/11359/?utm_medium=calendar&utm_source=team_cal&utm_content=league_url#game-264188
LOCATION:Global High School - George W. Solis Gymnasium
BEGIN:VALARM
TRIGGER:-P2H
ACTION:DISPLAY
DESCRIPTION:Team Reeves vs Heat
END:VALARM
END:VEVENT
BEGIN:VEVENT
UID:waxahachie-264191@ygametime.com
DTSTAMP:20211211T170000Z
DTSTART;TZID=America/Chicago:20211211T110000
DURATION:PT0H60M0S
SUMMARY:Heat vs Chaos
DESCRIPTION:Girls 4th/6th Grade Division | Youth Basketball\nWaxahachie Family YMCA\n
URL;VALUE=URI:https://ygametime.com/branch/waxahachie/sports/2021-winter-youth-basketball/11359/?utm_medium=calendar&utm_source=team_cal&utm_content=league_url#game-264191
LOCATION:Global High School - George W. Solis Gymnasium
BEGIN:VALARM
TRIGGER:-P2H
ACTION:DISPLAY
DESCRIPTION:Heat vs Chaos
END:VALARM
END:VEVENT
BEGIN:VEVENT
UID:waxahachie-264194@ygametime.com
DTSTAMP:20211218T150000Z
DTSTART;TZID=America/Chicago:20211218T090000
DURATION:PT0H60M0S
SUMMARY:Hurricanes vs Heat
DESCRIPTION:Girls 4th/6th Grade Division | Youth Basketball\nWaxahachie Family YMCA\n
URL;VALUE=URI:https://ygametime.com/branch/waxahachie/sports/2021-winter-youth-basketball/11359/?utm_medium=calendar&utm_source=team_cal&utm_content=league_url#game-264194
LOCATION:Global High School - George W. Solis Gymnasium
BEGIN:VALARM
TRIGGER:-P2H
ACTION:DISPLAY
DESCRIPTION:Hurricanes vs Heat
END:VALARM
END:VEVENT
BEGIN:VEVENT
UID:waxahachie-264210@ygametime.com
DTSTAMP:20220108T160000Z
DTSTART;TZID=America/Chicago:20220108T100000
DURATION:PT0H60M0S
SUMMARY:Monsters vs Heat
DESCRIPTION:Girls 4th/6th Grade Division | Youth Basketball\nWaxahachie Family YMCA\n
URL;VALUE=URI:https://ygametime.com/branch/waxahachie/sports/2021-winter-youth-basketball/11359/?utm_medium=calendar&utm_source=team_cal&utm_content=league_url#game-264210
LOCATION:Global High School - George W. Solis Gymnasium
BEGIN:VALARM
TRIGGER:-P2H
ACTION:DISPLAY
DESCRIPTION:Monsters vs Heat
END:VALARM
END:VEVENT
BEGIN:VEVENT
UID:waxahachie-264202@ygametime.com
DTSTAMP:20220115T160000Z
DTSTART;TZID=America/Chicago:20220115T100000
DURATION:PT0H60M0S
SUMMARY:Heat vs Waxahachie Prep Lady Warriors
DESCRIPTION:Girls 4th/6th Grade Division | Youth Basketball\nWaxahachie Family YMCA\n
URL;VALUE=URI:https://ygametime.com/branch/waxahachie/sports/2021-winter-youth-basketball/11359/?utm_medium=calendar&utm_source=team_cal&utm_content=league_url#game-264202
LOCATION:Global High School - George W. Solis Gymnasium
BEGIN:VALARM
TRIGGER:-P2H
ACTION:DISPLAY
DESCRIPTION:Heat vs Waxahachie Prep Lady Warriors
END:VALARM
END:VEVENT
BEGIN:VEVENT
UID:waxahachie-264205@ygametime.com
DTSTAMP:20220122T180000Z
DTSTART;TZID=America/Chicago:20220122T120000
DURATION:PT0H60M0S
SUMMARY:Heat vs Fireballers
DESCRIPTION:Girls 4th/6th Grade Division | Youth Basketball\nWaxahachie Family YMCA\n
URL;VALUE=URI:https://ygametime.com/branch/waxahachie/sports/2021-winter-youth-basketball/11359/?utm_medium=calendar&utm_source=team_cal&utm_content=league_url#game-264205
LOCATION:Global High School - George W. Solis Gymnasium
BEGIN:VALARM
TRIGGER:-P2H
ACTION:DISPLAY
DESCRIPTION:Heat vs Fireballers
END:VALARM
END:VEVENT
BEGIN:VEVENT
UID:waxahachie-269380@ygametime.com
DTSTAMP:20220212T170000Z
DTSTART;TZID=America/Chicago:20220212T110000
DURATION:PT0H60M0S
SUMMARY:Lady Bears vs Heat
DESCRIPTION:Girls 4th/6th Grade Division | Youth Basketball\nWaxahachie Family YMCA\n
URL;VALUE=URI:https://ygametime.com/branch/waxahachie/sports/2021-winter-youth-basketball/11359/?utm_medium=calendar&utm_source=team_cal&utm_content=league_url#game-269380
LOCATION:Global High School - George W. Solis Gymnasium
BEGIN:VALARM
TRIGGER:-P2H
ACTION:DISPLAY
DESCRIPTION:Lady Bears vs Heat
END:VALARM
END:VEVENT
BEGIN:VEVENT
UID:waxahachie-269383@ygametime.com
DTSTAMP:20220212T190000Z
DTSTART;TZID=America/Chicago:20220212T130000
DURATION:PT0H60M0S
SUMMARY:Girls on Fire vs Heat
DESCRIPTION:Girls 4th/6th Grade Division | Youth Basketball\nWaxahachie Family YMCA\n
URL;VALUE=URI:https://ygametime.com/branch/waxahachie/sports/2021-winter-youth-basketball/11359/?utm_medium=calendar&utm_source=team_cal&utm_content=league_url#game-269383
LOCATION:Global High School - George W. Solis Gymnasium
BEGIN:VALARM
TRIGGER:-P2H
ACTION:DISPLAY
DESCRIPTION:Girls on Fire vs Heat
END:VALARM
END:VEVENT
END:VCALENDAR

