BEGIN:VCALENDAR
VERSION:2.0
PRODID:-//YGAMETIME.com//YGT iCal Creator//EN
METHOD:PUBLISH
X-PUBLISHED-TTL:PT6H
REFRESH-INTERVAL;VALUE=DURATION:PT6H
CALSCALE:GREGORIAN
X-WR-CALNAME:YGAMETIME CALENDAR
BEGIN:VTIMEZONE
TZID:America/New_York
X-LIC-LOCATION:America/New_York
BEGIN:DAYLIGHT
TZOFFSETFROM:-0500
TZOFFSETTO:-0400
TZNAME:EDT
DTSTART:19700308T020000
RRULE:FREQ=YEARLY;BYMONTH=3;BYDAY=2SU
END:DAYLIGHT
BEGIN:STANDARD
TZOFFSETFROM:-0400
TZOFFSETTO:-0500
TZNAME:EST
DTSTART:19701101T020000
RRULE:FREQ=YEARLY;BYMONTH=11;BYDAY=1SU
END:STANDARD
END:VTIMEZONE
BEGIN:VEVENT
UID:willisroad-296833@ygametime.com
DTSTAMP:20220409T140000Z
DTSTART;TZID=America/New_York:20220409T100000
DURATION:PT0H60M0S
SUMMARY:Germany vs Manchester United (White)
DESCRIPTION:U15 (10-14 yr olds) | Youth Soccer\nWillis Road Family YMCA\n
URL;VALUE=URI:https://ygametime.com/branch/willisroad/sports/2022-spring-youth-soccer/12684/?utm_medium=calendar&utm_source=team_cal&utm_content=league_url#game-296833
LOCATION:River Ridge - Field 1
BEGIN:VALARM
TRIGGER:-P2H
ACTION:DISPLAY
DESCRIPTION:Germany vs Manchester United (White)
END:VALARM
END:VEVENT
BEGIN:VEVENT
UID:willisroad-296835@ygametime.com
DTSTAMP:20220416T130000Z
DTSTART;TZID=America/New_York:20220416T090000
DURATION:PT0H60M0S
SUMMARY:Turkey vs Manchester United (White)
DESCRIPTION:U15 (10-14 yr olds) | Youth Soccer\nWillis Road Family YMCA\n
URL;VALUE=URI:https://ygametime.com/branch/willisroad/sports/2022-spring-youth-soccer/12684/?utm_medium=calendar&utm_source=team_cal&utm_content=league_url#game-296835
LOCATION:River Ridge - Field 1
BEGIN:VALARM
TRIGGER:-P2H
ACTION:DISPLAY
DESCRIPTION:Turkey vs Manchester United (White)
END:VALARM
END:VEVENT
BEGIN:VEVENT
UID:willisroad-296838@ygametime.com
DTSTAMP:20220423T150000Z
DTSTART;TZID=America/New_York:20220423T110000
DURATION:PT0H60M0S
SUMMARY:Manchester United (White) vs Lions
DESCRIPTION:U15 (10-14 yr olds) | Youth Soccer\nWillis Road Family YMCA\n
URL;VALUE=URI:https://ygametime.com/branch/willisroad/sports/2022-spring-youth-soccer/12684/?utm_medium=calendar&utm_source=team_cal&utm_content=league_url#game-296838
LOCATION:River Ridge - Field 1
BEGIN:VALARM
TRIGGER:-P2H
ACTION:DISPLAY
DESCRIPTION:Manchester United (White) vs Lions
END:VALARM
END:VEVENT
BEGIN:VEVENT
UID:willisroad-303096@ygametime.com
DTSTAMP:20220430T195000Z
DTSTART;TZID=America/New_York:20220430T155000
DURATION:PT0H60M0S
SUMMARY:Manchester United (White) vs Turkey
DESCRIPTION:U15 (10-14 yr olds) | Youth Soccer\nWillis Road Family YMCA\n
URL;VALUE=URI:https://ygametime.com/branch/willisroad/sports/2022-spring-youth-soccer/12684/?utm_medium=calendar&utm_source=team_cal&utm_content=league_url#game-303096
LOCATION:Thomas E. Hannah YMCA Field 2
BEGIN:VALARM
TRIGGER:-P2H
ACTION:DISPLAY
DESCRIPTION:Manchester United (White) vs Turkey
END:VALARM
END:VEVENT
BEGIN:VEVENT
UID:willisroad-296842@ygametime.com
DTSTAMP:20220507T130000Z
DTSTART;TZID=America/New_York:20220507T090000
DURATION:PT0H60M0S
SUMMARY:Manchester United (White) vs Turkey
DESCRIPTION:U15 (10-14 yr olds) | Youth Soccer\nWillis Road Family YMCA\n
URL;VALUE=URI:https://ygametime.com/branch/willisroad/sports/2022-spring-youth-soccer/12684/?utm_medium=calendar&utm_source=team_cal&utm_content=league_url#game-296842
LOCATION:River Ridge - Field 1
BEGIN:VALARM
TRIGGER:-P2H
ACTION:DISPLAY
DESCRIPTION:Manchester United (White) vs Turkey
END:VALARM
END:VEVENT
BEGIN:VEVENT
UID:willisroad-296843@ygametime.com
DTSTAMP:20220514T150000Z
DTSTART;TZID=America/New_York:20220514T110000
DURATION:PT0H60M0S
SUMMARY:Manchester United (White) vs Lions
DESCRIPTION:U15 (10-14 yr olds) | Youth Soccer\nWillis Road Family YMCA\n
URL;VALUE=URI:https://ygametime.com/branch/willisroad/sports/2022-spring-youth-soccer/12684/?utm_medium=calendar&utm_source=team_cal&utm_content=league_url#game-296843
LOCATION:River Ridge - Field 1
BEGIN:VALARM
TRIGGER:-P2H
ACTION:DISPLAY
DESCRIPTION:Manchester United (White) vs Lions
END:VALARM
END:VEVENT
BEGIN:VEVENT
UID:willisroad-296845@ygametime.com
DTSTAMP:20220521T150000Z
DTSTART;TZID=America/New_York:20220521T110000
DURATION:PT0H60M0S
SUMMARY:Germany vs Manchester United (White)
DESCRIPTION:U15 (10-14 yr olds) | Youth Soccer\nWillis Road Family YMCA\n
URL;VALUE=URI:https://ygametime.com/branch/willisroad/sports/2022-spring-youth-soccer/12684/?utm_medium=calendar&utm_source=team_cal&utm_content=league_url#game-296845
LOCATION:River Ridge - Field 1
BEGIN:VALARM
TRIGGER:-P2H
ACTION:DISPLAY
DESCRIPTION:Germany vs Manchester United (White)
END:VALARM
END:VEVENT
BEGIN:VEVENT
UID:willisroad-296847@ygametime.com
DTSTAMP:20220528T130000Z
DTSTART;TZID=America/New_York:20220528T090000
DURATION:PT0H60M0S
SUMMARY:Manchester United (White) vs Turkey
DESCRIPTION:U15 (10-14 yr olds) | Youth Soccer\nWillis Road Family YMCA\n
URL;VALUE=URI:https://ygametime.com/branch/willisroad/sports/2022-spring-youth-soccer/12684/?utm_medium=calendar&utm_source=team_cal&utm_content=league_url#game-296847
LOCATION:River Ridge - Field 1
BEGIN:VALARM
TRIGGER:-P2H
ACTION:DISPLAY
DESCRIPTION:Manchester United (White) vs Turkey
END:VALARM
END:VEVENT
END:VCALENDAR

