BEGIN:VCALENDAR
VERSION:2.0
PRODID:-//YGAMETIME.com//YGT iCal Creator//EN
METHOD:PUBLISH
X-PUBLISHED-TTL:PT6H
REFRESH-INTERVAL;VALUE=DURATION:PT6H
CALSCALE:GREGORIAN
X-WR-CALNAME:YGAMETIME CALENDAR
BEGIN:VTIMEZONE
TZID:America/New_York
X-LIC-LOCATION:America/New_York
BEGIN:DAYLIGHT
TZOFFSETFROM:-0500
TZOFFSETTO:-0400
TZNAME:EDT
DTSTART:19700308T020000
RRULE:FREQ=YEARLY;BYMONTH=3;BYDAY=2SU
END:DAYLIGHT
BEGIN:STANDARD
TZOFFSETFROM:-0400
TZOFFSETTO:-0500
TZNAME:EST
DTSTART:19701101T020000
RRULE:FREQ=YEARLY;BYMONTH=11;BYDAY=1SU
END:STANDARD
END:VTIMEZONE
BEGIN:VEVENT
UID:willisroad-296172@ygametime.com
DTSTAMP:20220409T134000Z
DTSTART;TZID=America/New_York:20220409T094000
DURATION:PT0H40M0S
SUMMARY:Lizards (Navy) vs Dragons MTY
DESCRIPTION:U6 (4-5 yr olds) | Youth Soccer\nWillis Road Family YMCA\n
URL;VALUE=URI:https://ygametime.com/branch/willisroad/sports/2022-spring-youth-soccer/12681/?utm_medium=calendar&utm_source=team_cal&utm_content=league_url#game-296172
LOCATION:River Ridge - Field 4
BEGIN:VALARM
TRIGGER:-P2H
ACTION:DISPLAY
DESCRIPTION:Lizards (Navy) vs Dragons MTY
END:VALARM
END:VEVENT
BEGIN:VEVENT
UID:willisroad-296178@ygametime.com
DTSTAMP:20220416T150000Z
DTSTART;TZID=America/New_York:20220416T110000
DURATION:PT0H40M0S
SUMMARY:Comets MTY vs Lizards (Navy)
DESCRIPTION:U6 (4-5 yr olds) | Youth Soccer\nWillis Road Family YMCA\n
URL;VALUE=URI:https://ygametime.com/branch/willisroad/sports/2022-spring-youth-soccer/12681/?utm_medium=calendar&utm_source=team_cal&utm_content=league_url#game-296178
LOCATION:River Ridge - Field 4
BEGIN:VALARM
TRIGGER:-P2H
ACTION:DISPLAY
DESCRIPTION:Comets MTY vs Lizards (Navy)
END:VALARM
END:VEVENT
BEGIN:VEVENT
UID:willisroad-296182@ygametime.com
DTSTAMP:20220423T150000Z
DTSTART;TZID=America/New_York:20220423T110000
DURATION:PT0H40M0S
SUMMARY:Zebras (White) vs Lizards (Navy)
DESCRIPTION:U6 (4-5 yr olds) | Youth Soccer\nWillis Road Family YMCA\n
URL;VALUE=URI:https://ygametime.com/branch/willisroad/sports/2022-spring-youth-soccer/12681/?utm_medium=calendar&utm_source=team_cal&utm_content=league_url#game-296182
LOCATION:River Ridge - Field 4
BEGIN:VALARM
TRIGGER:-P2H
ACTION:DISPLAY
DESCRIPTION:Zebras (White) vs Lizards (Navy)
END:VALARM
END:VEVENT
BEGIN:VEVENT
UID:willisroad-296217@ygametime.com
DTSTAMP:20220430T133000Z
DTSTART;TZID=America/New_York:20220430T093000
DURATION:PT0H40M0S
SUMMARY:Lizards (Navy) vs Foxes MTY
DESCRIPTION:U6 (4-5 yr olds) | Youth Soccer\nWillis Road Family YMCA\n
URL;VALUE=URI:https://ygametime.com/branch/willisroad/sports/2022-spring-youth-soccer/12681/?utm_medium=calendar&utm_source=team_cal&utm_content=league_url#game-296217
LOCATION:Thomas E. Hannah YMCA Field 2
BEGIN:VALARM
TRIGGER:-P2H
ACTION:DISPLAY
DESCRIPTION:Lizards (Navy) vs Foxes MTY
END:VALARM
END:VEVENT
BEGIN:VEVENT
UID:willisroad-296221@ygametime.com
DTSTAMP:20220507T142000Z
DTSTART;TZID=America/New_York:20220507T102000
DURATION:PT0H40M0S
SUMMARY:Sharks MTY vs Lizards (Navy)
DESCRIPTION:U6 (4-5 yr olds) | Youth Soccer\nWillis Road Family YMCA\n
URL;VALUE=URI:https://ygametime.com/branch/willisroad/sports/2022-spring-youth-soccer/12681/?utm_medium=calendar&utm_source=team_cal&utm_content=league_url#game-296221
LOCATION:River Ridge - Field 4
BEGIN:VALARM
TRIGGER:-P2H
ACTION:DISPLAY
DESCRIPTION:Sharks MTY vs Lizards (Navy)
END:VALARM
END:VEVENT
BEGIN:VEVENT
UID:willisroad-296257@ygametime.com
DTSTAMP:20220514T142000Z
DTSTART;TZID=America/New_York:20220514T102000
DURATION:PT0H40M0S
SUMMARY:Lizards (Navy) vs Leopards MTY
DESCRIPTION:U6 (4-5 yr olds) | Youth Soccer\nWillis Road Family YMCA\n
URL;VALUE=URI:https://ygametime.com/branch/willisroad/sports/2022-spring-youth-soccer/12681/?utm_medium=calendar&utm_source=team_cal&utm_content=league_url#game-296257
LOCATION:River Ridge - Field 4
BEGIN:VALARM
TRIGGER:-P2H
ACTION:DISPLAY
DESCRIPTION:Lizards (Navy) vs Leopards MTY
END:VALARM
END:VEVENT
BEGIN:VEVENT
UID:willisroad-296260@ygametime.com
DTSTAMP:20220521T142000Z
DTSTART;TZID=America/New_York:20220521T102000
DURATION:PT0H40M0S
SUMMARY:Panthers (Silver) vs Lizards (Navy)
DESCRIPTION:U6 (4-5 yr olds) | Youth Soccer\nWillis Road Family YMCA\n
URL;VALUE=URI:https://ygametime.com/branch/willisroad/sports/2022-spring-youth-soccer/12681/?utm_medium=calendar&utm_source=team_cal&utm_content=league_url#game-296260
LOCATION:River Ridge - Field 4
BEGIN:VALARM
TRIGGER:-P2H
ACTION:DISPLAY
DESCRIPTION:Panthers (Silver) vs Lizards (Navy)
END:VALARM
END:VEVENT
END:VCALENDAR

