BEGIN:VCALENDAR
VERSION:2.0
PRODID:-//YGAMETIME.com//YGT iCal Creator//EN
METHOD:PUBLISH
X-PUBLISHED-TTL:PT6H
REFRESH-INTERVAL;VALUE=DURATION:PT6H
CALSCALE:GREGORIAN
X-WR-CALNAME:YGAMETIME CALENDAR
BEGIN:VTIMEZONE
TZID:America/New_York
X-LIC-LOCATION:America/New_York
BEGIN:DAYLIGHT
TZOFFSETFROM:-0500
TZOFFSETTO:-0400
TZNAME:EDT
DTSTART:19700308T020000
RRULE:FREQ=YEARLY;BYMONTH=3;BYDAY=2SU
END:DAYLIGHT
BEGIN:STANDARD
TZOFFSETFROM:-0400
TZOFFSETTO:-0500
TZNAME:EST
DTSTART:19701101T020000
RRULE:FREQ=YEARLY;BYMONTH=11;BYDAY=1SU
END:STANDARD
END:VTIMEZONE
BEGIN:VEVENT
UID:willisroad-296272@ygametime.com
DTSTAMP:20220409T134500Z
DTSTART;TZID=America/New_York:20220409T094500
DURATION:PT0H45M0S
SUMMARY:Arsenal (Black) vs Brazil MTY
DESCRIPTION:U8 (6-7yr olds) | Youth Soccer\nWillis Road Family YMCA\n
URL;VALUE=URI:https://ygametime.com/branch/willisroad/sports/2022-spring-youth-soccer/12682/?utm_medium=calendar&utm_source=team_cal&utm_content=league_url#game-296272
LOCATION:River Ridge - Field 2
BEGIN:VALARM
TRIGGER:-P2H
ACTION:DISPLAY
DESCRIPTION:Arsenal (Black) vs Brazil MTY
END:VALARM
END:VEVENT
BEGIN:VEVENT
UID:willisroad-296278@ygametime.com
DTSTAMP:20220416T151500Z
DTSTART;TZID=America/New_York:20220416T111500
DURATION:PT0H45M0S
SUMMARY:USA MTY vs Arsenal (Black)
DESCRIPTION:U8 (6-7yr olds) | Youth Soccer\nWillis Road Family YMCA\n
URL;VALUE=URI:https://ygametime.com/branch/willisroad/sports/2022-spring-youth-soccer/12682/?utm_medium=calendar&utm_source=team_cal&utm_content=league_url#game-296278
LOCATION:River Ridge - Field 2
BEGIN:VALARM
TRIGGER:-P2H
ACTION:DISPLAY
DESCRIPTION:USA MTY vs Arsenal (Black)
END:VALARM
END:VEVENT
BEGIN:VEVENT
UID:willisroad-296282@ygametime.com
DTSTAMP:20220423T151500Z
DTSTART;TZID=America/New_York:20220423T111500
DURATION:PT0H45M0S
SUMMARY:Lions vs Arsenal (Black)
DESCRIPTION:U8 (6-7yr olds) | Youth Soccer\nWillis Road Family YMCA\n
URL;VALUE=URI:https://ygametime.com/branch/willisroad/sports/2022-spring-youth-soccer/12682/?utm_medium=calendar&utm_source=team_cal&utm_content=league_url#game-296282
LOCATION:River Ridge - Field 2
BEGIN:VALARM
TRIGGER:-P2H
ACTION:DISPLAY
DESCRIPTION:Lions vs Arsenal (Black)
END:VALARM
END:VEVENT
BEGIN:VEVENT
UID:willisroad-296285@ygametime.com
DTSTAMP:20220430T141000Z
DTSTART;TZID=America/New_York:20220430T101000
DURATION:PT0H45M0S
SUMMARY:Arsenal (Black) vs England MTY
DESCRIPTION:U8 (6-7yr olds) | Youth Soccer\nWillis Road Family YMCA\n
URL;VALUE=URI:https://ygametime.com/branch/willisroad/sports/2022-spring-youth-soccer/12682/?utm_medium=calendar&utm_source=team_cal&utm_content=league_url#game-296285
LOCATION:Thomas E. Hannah YMCA Field 3
BEGIN:VALARM
TRIGGER:-P2H
ACTION:DISPLAY
DESCRIPTION:Arsenal (Black) vs England MTY
END:VALARM
END:VEVENT
BEGIN:VEVENT
UID:willisroad-296288@ygametime.com
DTSTAMP:20220507T134500Z
DTSTART;TZID=America/New_York:20220507T094500
DURATION:PT0H45M0S
SUMMARY:Arsenal (Black) vs Canada MTY
DESCRIPTION:U8 (6-7yr olds) | Youth Soccer\nWillis Road Family YMCA\n
URL;VALUE=URI:https://ygametime.com/branch/willisroad/sports/2022-spring-youth-soccer/12682/?utm_medium=calendar&utm_source=team_cal&utm_content=league_url#game-296288
LOCATION:River Ridge - Field 2
BEGIN:VALARM
TRIGGER:-P2H
ACTION:DISPLAY
DESCRIPTION:Arsenal (Black) vs Canada MTY
END:VALARM
END:VEVENT
BEGIN:VEVENT
UID:willisroad-296293@ygametime.com
DTSTAMP:20220514T130000Z
DTSTART;TZID=America/New_York:20220514T090000
DURATION:PT0H45M0S
SUMMARY:Arsenal (Black) vs Egypt MTY
DESCRIPTION:U8 (6-7yr olds) | Youth Soccer\nWillis Road Family YMCA\n
URL;VALUE=URI:https://ygametime.com/branch/willisroad/sports/2022-spring-youth-soccer/12682/?utm_medium=calendar&utm_source=team_cal&utm_content=league_url#game-296293
LOCATION:River Ridge - Field 2
BEGIN:VALARM
TRIGGER:-P2H
ACTION:DISPLAY
DESCRIPTION:Arsenal (Black) vs Egypt MTY
END:VALARM
END:VEVENT
BEGIN:VEVENT
UID:willisroad-296296@ygametime.com
DTSTAMP:20220521T134500Z
DTSTART;TZID=America/New_York:20220521T094500
DURATION:PT0H45M0S
SUMMARY:Turkey (Neon Orange) vs Arsenal (Black)
DESCRIPTION:U8 (6-7yr olds) | Youth Soccer\nWillis Road Family YMCA\n
URL;VALUE=URI:https://ygametime.com/branch/willisroad/sports/2022-spring-youth-soccer/12682/?utm_medium=calendar&utm_source=team_cal&utm_content=league_url#game-296296
LOCATION:River Ridge - Field 2
BEGIN:VALARM
TRIGGER:-P2H
ACTION:DISPLAY
DESCRIPTION:Turkey (Neon Orange) vs Arsenal (Black)
END:VALARM
END:VEVENT
END:VCALENDAR

