BEGIN:VCALENDAR
VERSION:2.0
PRODID:-//YGAMETIME.com//YGT iCal Creator//EN
METHOD:PUBLISH
X-PUBLISHED-TTL:PT6H
REFRESH-INTERVAL;VALUE=DURATION:PT6H
CALSCALE:GREGORIAN
X-WR-CALNAME:YGAMETIME CALENDAR
BEGIN:VTIMEZONE
TZID:America/New_York
X-LIC-LOCATION:America/New_York
BEGIN:DAYLIGHT
TZOFFSETFROM:-0500
TZOFFSETTO:-0400
TZNAME:EDT
DTSTART:19700308T020000
RRULE:FREQ=YEARLY;BYMONTH=3;BYDAY=2SU
END:DAYLIGHT
BEGIN:STANDARD
TZOFFSETFROM:-0400
TZOFFSETTO:-0500
TZNAME:EST
DTSTART:19701101T020000
RRULE:FREQ=YEARLY;BYMONTH=11;BYDAY=1SU
END:STANDARD
END:VTIMEZONE
BEGIN:VEVENT
UID:willisroad-296806@ygametime.com
DTSTAMP:20220409T160000Z
DTSTART;TZID=America/New_York:20220409T120000
DURATION:PT0H50M0S
SUMMARY:Germany (Neon Orange) vs Scotland MTY
DESCRIPTION:U10 (8-9 yr olds) | Youth Soccer\nWillis Road Family YMCA\n
URL;VALUE=URI:https://ygametime.com/branch/willisroad/sports/2022-spring-youth-soccer/12683/?utm_medium=calendar&utm_source=team_cal&utm_content=league_url#game-296806
LOCATION:River Ridge - Field 2
BEGIN:VALARM
TRIGGER:-P2H
ACTION:DISPLAY
DESCRIPTION:Germany (Neon Orange) vs Scotland MTY
END:VALARM
END:VEVENT
BEGIN:VEVENT
UID:willisroad-296809@ygametime.com
DTSTAMP:20220416T160000Z
DTSTART;TZID=America/New_York:20220416T120000
DURATION:PT0H50M0S
SUMMARY:Lions vs Germany (Neon Orange)
DESCRIPTION:U10 (8-9 yr olds) | Youth Soccer\nWillis Road Family YMCA\n
URL;VALUE=URI:https://ygametime.com/branch/willisroad/sports/2022-spring-youth-soccer/12683/?utm_medium=calendar&utm_source=team_cal&utm_content=league_url#game-296809
LOCATION:River Ridge - Field 2
BEGIN:VALARM
TRIGGER:-P2H
ACTION:DISPLAY
DESCRIPTION:Lions vs Germany (Neon Orange)
END:VALARM
END:VEVENT
BEGIN:VEVENT
UID:willisroad-296814@ygametime.com
DTSTAMP:20220423T174000Z
DTSTART;TZID=America/New_York:20220423T134000
DURATION:PT0H50M0S
SUMMARY:Germany (Neon Orange) vs Sweden MTY
DESCRIPTION:U10 (8-9 yr olds) | Youth Soccer\nWillis Road Family YMCA\n
URL;VALUE=URI:https://ygametime.com/branch/willisroad/sports/2022-spring-youth-soccer/12683/?utm_medium=calendar&utm_source=team_cal&utm_content=league_url#game-296814
LOCATION:River Ridge - Field 2
BEGIN:VALARM
TRIGGER:-P2H
ACTION:DISPLAY
DESCRIPTION:Germany (Neon Orange) vs Sweden MTY
END:VALARM
END:VEVENT
BEGIN:VEVENT
UID:willisroad-302300@ygametime.com
DTSTAMP:20220430T155000Z
DTSTART;TZID=America/New_York:20220430T115000
DURATION:PT0H50M0S
SUMMARY:Germany (Neon Orange) vs Belgium MTY
DESCRIPTION:U10 (8-9 yr olds) | Youth Soccer\nWillis Road Family YMCA\n
URL;VALUE=URI:https://ygametime.com/branch/willisroad/sports/2022-spring-youth-soccer/12683/?utm_medium=calendar&utm_source=team_cal&utm_content=league_url#game-302300
LOCATION:Thomas E. Hannah YMCA Field 1
BEGIN:VALARM
TRIGGER:-P2H
ACTION:DISPLAY
DESCRIPTION:Germany (Neon Orange) vs Belgium MTY
END:VALARM
END:VEVENT
BEGIN:VEVENT
UID:willisroad-302303@ygametime.com
DTSTAMP:20220430T165000Z
DTSTART;TZID=America/New_York:20220430T125000
DURATION:PT0H50M0S
SUMMARY:Nigeria MTY vs Germany (Neon Orange)
DESCRIPTION:U10 (8-9 yr olds) | Youth Soccer\nWillis Road Family YMCA\n
URL;VALUE=URI:https://ygametime.com/branch/willisroad/sports/2022-spring-youth-soccer/12683/?utm_medium=calendar&utm_source=team_cal&utm_content=league_url#game-302303
LOCATION:Thomas E. Hannah YMCA Field 1
BEGIN:VALARM
TRIGGER:-P2H
ACTION:DISPLAY
DESCRIPTION:Nigeria MTY vs Germany (Neon Orange)
END:VALARM
END:VEVENT
BEGIN:VEVENT
UID:willisroad-296819@ygametime.com
DTSTAMP:20220507T165000Z
DTSTART;TZID=America/New_York:20220507T125000
DURATION:PT0H50M0S
SUMMARY:Germany (Neon Orange) vs USA (White)
DESCRIPTION:U10 (8-9 yr olds) | Youth Soccer\nWillis Road Family YMCA\n
URL;VALUE=URI:https://ygametime.com/branch/willisroad/sports/2022-spring-youth-soccer/12683/?utm_medium=calendar&utm_source=team_cal&utm_content=league_url#game-296819
LOCATION:River Ridge - Field 2
BEGIN:VALARM
TRIGGER:-P2H
ACTION:DISPLAY
DESCRIPTION:Germany (Neon Orange) vs USA (White)
END:VALARM
END:VEVENT
BEGIN:VEVENT
UID:willisroad-296825@ygametime.com
DTSTAMP:20220521T165000Z
DTSTART;TZID=America/New_York:20220521T125000
DURATION:PT0H50M0S
SUMMARY:Belgium MTY vs Germany (Neon Orange)
DESCRIPTION:U10 (8-9 yr olds) | Youth Soccer\nWillis Road Family YMCA\n
URL;VALUE=URI:https://ygametime.com/branch/willisroad/sports/2022-spring-youth-soccer/12683/?utm_medium=calendar&utm_source=team_cal&utm_content=league_url#game-296825
LOCATION:River Ridge - Field 2
BEGIN:VALARM
TRIGGER:-P2H
ACTION:DISPLAY
DESCRIPTION:Belgium MTY vs Germany (Neon Orange)
END:VALARM
END:VEVENT
BEGIN:VEVENT
UID:willisroad-296829@ygametime.com
DTSTAMP:20220528T174000Z
DTSTART;TZID=America/New_York:20220528T134000
DURATION:PT0H50M0S
SUMMARY:Germany (Neon Orange) vs Lions
DESCRIPTION:U10 (8-9 yr olds) | Youth Soccer\nWillis Road Family YMCA\n
URL;VALUE=URI:https://ygametime.com/branch/willisroad/sports/2022-spring-youth-soccer/12683/?utm_medium=calendar&utm_source=team_cal&utm_content=league_url#game-296829
LOCATION:River Ridge - Field 2
BEGIN:VALARM
TRIGGER:-P2H
ACTION:DISPLAY
DESCRIPTION:Germany (Neon Orange) vs Lions
END:VALARM
END:VEVENT
END:VCALENDAR

