BEGIN:VCALENDAR
VERSION:2.0
PRODID:-//YGAMETIME.com//YGT iCal Creator//EN
METHOD:PUBLISH
X-PUBLISHED-TTL:PT6H
REFRESH-INTERVAL;VALUE=DURATION:PT6H
CALSCALE:GREGORIAN
X-WR-CALNAME:YGAMETIME CALENDAR
BEGIN:VTIMEZONE
TZID:America/New_York
X-LIC-LOCATION:America/New_York
BEGIN:DAYLIGHT
TZOFFSETFROM:-0500
TZOFFSETTO:-0400
TZNAME:EDT
DTSTART:19700308T020000
RRULE:FREQ=YEARLY;BYMONTH=3;BYDAY=2SU
END:DAYLIGHT
BEGIN:STANDARD
TZOFFSETFROM:-0400
TZOFFSETTO:-0500
TZNAME:EST
DTSTART:19701101T020000
RRULE:FREQ=YEARLY;BYMONTH=11;BYDAY=1SU
END:STANDARD
END:VTIMEZONE
BEGIN:VEVENT
UID:willisroad-296807@ygametime.com
DTSTAMP:20220409T165000Z
DTSTART;TZID=America/New_York:20220409T125000
DURATION:PT0H50M0S
SUMMARY:Nigeria MTY vs USA (White)
DESCRIPTION:U10 (8-9 yr olds) | Youth Soccer\nWillis Road Family YMCA\n
URL;VALUE=URI:https://ygametime.com/branch/willisroad/sports/2022-spring-youth-soccer/12683/?utm_medium=calendar&utm_source=team_cal&utm_content=league_url#game-296807
LOCATION:River Ridge - Field 2
BEGIN:VALARM
TRIGGER:-P2H
ACTION:DISPLAY
DESCRIPTION:Nigeria MTY vs USA (White)
END:VALARM
END:VEVENT
BEGIN:VEVENT
UID:willisroad-296811@ygametime.com
DTSTAMP:20220416T174000Z
DTSTART;TZID=America/New_York:20220416T134000
DURATION:PT0H50M0S
SUMMARY:Scotland MTY vs USA (White)
DESCRIPTION:U10 (8-9 yr olds) | Youth Soccer\nWillis Road Family YMCA\n
URL;VALUE=URI:https://ygametime.com/branch/willisroad/sports/2022-spring-youth-soccer/12683/?utm_medium=calendar&utm_source=team_cal&utm_content=league_url#game-296811
LOCATION:River Ridge - Field 2
BEGIN:VALARM
TRIGGER:-P2H
ACTION:DISPLAY
DESCRIPTION:Scotland MTY vs USA (White)
END:VALARM
END:VEVENT
BEGIN:VEVENT
UID:willisroad-302302@ygametime.com
DTSTAMP:20220430T150000Z
DTSTART;TZID=America/New_York:20220430T110000
DURATION:PT0H50M0S
SUMMARY:USA (White) vs Lions
DESCRIPTION:U10 (8-9 yr olds) | Youth Soccer\nWillis Road Family YMCA\n
URL;VALUE=URI:https://ygametime.com/branch/willisroad/sports/2022-spring-youth-soccer/12683/?utm_medium=calendar&utm_source=team_cal&utm_content=league_url#game-302302
LOCATION:Thomas E. Hannah YMCA Field 2
BEGIN:VALARM
TRIGGER:-P2H
ACTION:DISPLAY
DESCRIPTION:USA (White) vs Lions
END:VALARM
END:VEVENT
BEGIN:VEVENT
UID:willisroad-296819@ygametime.com
DTSTAMP:20220507T165000Z
DTSTART;TZID=America/New_York:20220507T125000
DURATION:PT0H50M0S
SUMMARY:Germany (Neon Orange) vs USA (White)
DESCRIPTION:U10 (8-9 yr olds) | Youth Soccer\nWillis Road Family YMCA\n
URL;VALUE=URI:https://ygametime.com/branch/willisroad/sports/2022-spring-youth-soccer/12683/?utm_medium=calendar&utm_source=team_cal&utm_content=league_url#game-296819
LOCATION:River Ridge - Field 2
BEGIN:VALARM
TRIGGER:-P2H
ACTION:DISPLAY
DESCRIPTION:Germany (Neon Orange) vs USA (White)
END:VALARM
END:VEVENT
BEGIN:VEVENT
UID:willisroad-296821@ygametime.com
DTSTAMP:20220514T160000Z
DTSTART;TZID=America/New_York:20220514T120000
DURATION:PT0H50M0S
SUMMARY:USA (White) vs Lions
DESCRIPTION:U10 (8-9 yr olds) | Youth Soccer\nWillis Road Family YMCA\n
URL;VALUE=URI:https://ygametime.com/branch/willisroad/sports/2022-spring-youth-soccer/12683/?utm_medium=calendar&utm_source=team_cal&utm_content=league_url#game-296821
LOCATION:River Ridge - Field 2
BEGIN:VALARM
TRIGGER:-P2H
ACTION:DISPLAY
DESCRIPTION:USA (White) vs Lions
END:VALARM
END:VEVENT
BEGIN:VEVENT
UID:willisroad-296826@ygametime.com
DTSTAMP:20220521T174000Z
DTSTART;TZID=America/New_York:20220521T134000
DURATION:PT0H50M0S
SUMMARY:Sweden MTY vs USA (White)
DESCRIPTION:U10 (8-9 yr olds) | Youth Soccer\nWillis Road Family YMCA\n
URL;VALUE=URI:https://ygametime.com/branch/willisroad/sports/2022-spring-youth-soccer/12683/?utm_medium=calendar&utm_source=team_cal&utm_content=league_url#game-296826
LOCATION:River Ridge - Field 2
BEGIN:VALARM
TRIGGER:-P2H
ACTION:DISPLAY
DESCRIPTION:Sweden MTY vs USA (White)
END:VALARM
END:VEVENT
BEGIN:VEVENT
UID:willisroad-296827@ygametime.com
DTSTAMP:20220528T160000Z
DTSTART;TZID=America/New_York:20220528T120000
DURATION:PT0H50M0S
SUMMARY:USA (White) vs Nigeria MTY
DESCRIPTION:U10 (8-9 yr olds) | Youth Soccer\nWillis Road Family YMCA\n
URL;VALUE=URI:https://ygametime.com/branch/willisroad/sports/2022-spring-youth-soccer/12683/?utm_medium=calendar&utm_source=team_cal&utm_content=league_url#game-296827
LOCATION:River Ridge - Field 2
BEGIN:VALARM
TRIGGER:-P2H
ACTION:DISPLAY
DESCRIPTION:USA (White) vs Nigeria MTY
END:VALARM
END:VEVENT
END:VCALENDAR

