BEGIN:VCALENDAR
VERSION:2.0
PRODID:-//YGAMETIME.com//YGT iCal Creator//EN
METHOD:PUBLISH
X-PUBLISHED-TTL:PT6H
REFRESH-INTERVAL;VALUE=DURATION:PT6H
CALSCALE:GREGORIAN
X-WR-CALNAME:YGAMETIME CALENDAR
BEGIN:VTIMEZONE
TZID:America/New_York
X-LIC-LOCATION:America/New_York
BEGIN:DAYLIGHT
TZOFFSETFROM:-0500
TZOFFSETTO:-0400
TZNAME:EDT
DTSTART:19700308T020000
RRULE:FREQ=YEARLY;BYMONTH=3;BYDAY=2SU
END:DAYLIGHT
BEGIN:STANDARD
TZOFFSETFROM:-0400
TZOFFSETTO:-0500
TZNAME:EST
DTSTART:19701101T020000
RRULE:FREQ=YEARLY;BYMONTH=11;BYDAY=1SU
END:STANDARD
END:VTIMEZONE
BEGIN:VEVENT
UID:willisroad-296806@ygametime.com
DTSTAMP:20220409T160000Z
DTSTART;TZID=America/New_York:20220409T120000
DURATION:PT0H50M0S
SUMMARY:Germany (Neon Orange) vs Scotland MTY
DESCRIPTION:U10 (8-9 yr olds) | Youth Soccer\nWillis Road Family YMCA\n
URL;VALUE=URI:https://ygametime.com/branch/willisroad/sports/2022-spring-youth-soccer/12683/?utm_medium=calendar&utm_source=team_cal&utm_content=league_url#game-296806
LOCATION:River Ridge - Field 2
BEGIN:VALARM
TRIGGER:-P2H
ACTION:DISPLAY
DESCRIPTION:Germany (Neon Orange) vs Scotland MTY
END:VALARM
END:VEVENT
BEGIN:VEVENT
UID:willisroad-296811@ygametime.com
DTSTAMP:20220416T174000Z
DTSTART;TZID=America/New_York:20220416T134000
DURATION:PT0H50M0S
SUMMARY:Scotland MTY vs USA (White)
DESCRIPTION:U10 (8-9 yr olds) | Youth Soccer\nWillis Road Family YMCA\n
URL;VALUE=URI:https://ygametime.com/branch/willisroad/sports/2022-spring-youth-soccer/12683/?utm_medium=calendar&utm_source=team_cal&utm_content=league_url#game-296811
LOCATION:River Ridge - Field 2
BEGIN:VALARM
TRIGGER:-P2H
ACTION:DISPLAY
DESCRIPTION:Scotland MTY vs USA (White)
END:VALARM
END:VEVENT
BEGIN:VEVENT
UID:willisroad-296813@ygametime.com
DTSTAMP:20220423T165000Z
DTSTART;TZID=America/New_York:20220423T125000
DURATION:PT0H50M0S
SUMMARY:Lions vs Scotland MTY
DESCRIPTION:U10 (8-9 yr olds) | Youth Soccer\nWillis Road Family YMCA\n
URL;VALUE=URI:https://ygametime.com/branch/willisroad/sports/2022-spring-youth-soccer/12683/?utm_medium=calendar&utm_source=team_cal&utm_content=league_url#game-296813
LOCATION:River Ridge - Field 2
BEGIN:VALARM
TRIGGER:-P2H
ACTION:DISPLAY
DESCRIPTION:Lions vs Scotland MTY
END:VALARM
END:VEVENT
BEGIN:VEVENT
UID:willisroad-302301@ygametime.com
DTSTAMP:20220430T150000Z
DTSTART;TZID=America/New_York:20220430T110000
DURATION:PT0H50M0S
SUMMARY:Scotland MTY vs Sweden MTY
DESCRIPTION:U10 (8-9 yr olds) | Youth Soccer\nWillis Road Family YMCA\n
URL;VALUE=URI:https://ygametime.com/branch/willisroad/sports/2022-spring-youth-soccer/12683/?utm_medium=calendar&utm_source=team_cal&utm_content=league_url#game-302301
LOCATION:Thomas E. Hannah YMCA Field 1
BEGIN:VALARM
TRIGGER:-P2H
ACTION:DISPLAY
DESCRIPTION:Scotland MTY vs Sweden MTY
END:VALARM
END:VEVENT
BEGIN:VEVENT
UID:willisroad-302304@ygametime.com
DTSTAMP:20220430T160000Z
DTSTART;TZID=America/New_York:20220430T120000
DURATION:PT0H50M0S
SUMMARY:Scotland MTY vs Lions
DESCRIPTION:U10 (8-9 yr olds) | Youth Soccer\nWillis Road Family YMCA\n
URL;VALUE=URI:https://ygametime.com/branch/willisroad/sports/2022-spring-youth-soccer/12683/?utm_medium=calendar&utm_source=team_cal&utm_content=league_url#game-302304
LOCATION:Thomas E. Hannah YMCA Field 2
BEGIN:VALARM
TRIGGER:-P2H
ACTION:DISPLAY
DESCRIPTION:Scotland MTY vs Lions
END:VALARM
END:VEVENT
BEGIN:VEVENT
UID:willisroad-296820@ygametime.com
DTSTAMP:20220507T174000Z
DTSTART;TZID=America/New_York:20220507T134000
DURATION:PT0H50M0S
SUMMARY:Scotland MTY vs Sweden MTY
DESCRIPTION:U10 (8-9 yr olds) | Youth Soccer\nWillis Road Family YMCA\n
URL;VALUE=URI:https://ygametime.com/branch/willisroad/sports/2022-spring-youth-soccer/12683/?utm_medium=calendar&utm_source=team_cal&utm_content=league_url#game-296820
LOCATION:River Ridge - Field 2
BEGIN:VALARM
TRIGGER:-P2H
ACTION:DISPLAY
DESCRIPTION:Scotland MTY vs Sweden MTY
END:VALARM
END:VEVENT
BEGIN:VEVENT
UID:willisroad-296822@ygametime.com
DTSTAMP:20220514T165000Z
DTSTART;TZID=America/New_York:20220514T125000
DURATION:PT0H50M0S
SUMMARY:Scotland MTY vs Belgium MTY
DESCRIPTION:U10 (8-9 yr olds) | Youth Soccer\nWillis Road Family YMCA\n
URL;VALUE=URI:https://ygametime.com/branch/willisroad/sports/2022-spring-youth-soccer/12683/?utm_medium=calendar&utm_source=team_cal&utm_content=league_url#game-296822
LOCATION:River Ridge - Field 2
BEGIN:VALARM
TRIGGER:-P2H
ACTION:DISPLAY
DESCRIPTION:Scotland MTY vs Belgium MTY
END:VALARM
END:VEVENT
BEGIN:VEVENT
UID:willisroad-296824@ygametime.com
DTSTAMP:20220521T160000Z
DTSTART;TZID=America/New_York:20220521T120000
DURATION:PT0H50M0S
SUMMARY:Nigeria MTY vs Scotland MTY
DESCRIPTION:U10 (8-9 yr olds) | Youth Soccer\nWillis Road Family YMCA\n
URL;VALUE=URI:https://ygametime.com/branch/willisroad/sports/2022-spring-youth-soccer/12683/?utm_medium=calendar&utm_source=team_cal&utm_content=league_url#game-296824
LOCATION:River Ridge - Field 2
BEGIN:VALARM
TRIGGER:-P2H
ACTION:DISPLAY
DESCRIPTION:Nigeria MTY vs Scotland MTY
END:VALARM
END:VEVENT
END:VCALENDAR

