BEGIN:VCALENDAR
VERSION:2.0
PRODID:-//YGAMETIME.com//YGT iCal Creator//EN
METHOD:PUBLISH
X-PUBLISHED-TTL:PT6H
REFRESH-INTERVAL;VALUE=DURATION:PT6H
CALSCALE:GREGORIAN
X-WR-CALNAME:YGAMETIME CALENDAR
BEGIN:VTIMEZONE
TZID:America/New_York
X-LIC-LOCATION:America/New_York
BEGIN:DAYLIGHT
TZOFFSETFROM:-0500
TZOFFSETTO:-0400
TZNAME:EDT
DTSTART:19700308T020000
RRULE:FREQ=YEARLY;BYMONTH=3;BYDAY=2SU
END:DAYLIGHT
BEGIN:STANDARD
TZOFFSETFROM:-0400
TZOFFSETTO:-0500
TZNAME:EST
DTSTART:19701101T020000
RRULE:FREQ=YEARLY;BYMONTH=11;BYDAY=1SU
END:STANDARD
END:VTIMEZONE
BEGIN:VEVENT
UID:willisroad-296272@ygametime.com
DTSTAMP:20220409T134500Z
DTSTART;TZID=America/New_York:20220409T094500
DURATION:PT0H45M0S
SUMMARY:Arsenal (Black) vs Brazil MTY
DESCRIPTION:U8 (6-7yr olds) | Youth Soccer\nWillis Road Family YMCA\n
URL;VALUE=URI:https://ygametime.com/branch/willisroad/sports/2022-spring-youth-soccer/12682/?utm_medium=calendar&utm_source=team_cal&utm_content=league_url#game-296272
LOCATION:River Ridge - Field 2
BEGIN:VALARM
TRIGGER:-P2H
ACTION:DISPLAY
DESCRIPTION:Arsenal (Black) vs Brazil MTY
END:VALARM
END:VEVENT
BEGIN:VEVENT
UID:willisroad-296276@ygametime.com
DTSTAMP:20220416T143000Z
DTSTART;TZID=America/New_York:20220416T103000
DURATION:PT0H45M0S
SUMMARY:Brazil MTY vs Lions
DESCRIPTION:U8 (6-7yr olds) | Youth Soccer\nWillis Road Family YMCA\n
URL;VALUE=URI:https://ygametime.com/branch/willisroad/sports/2022-spring-youth-soccer/12682/?utm_medium=calendar&utm_source=team_cal&utm_content=league_url#game-296276
LOCATION:River Ridge - Field 2
BEGIN:VALARM
TRIGGER:-P2H
ACTION:DISPLAY
DESCRIPTION:Brazil MTY vs Lions
END:VALARM
END:VEVENT
BEGIN:VEVENT
UID:willisroad-296279@ygametime.com
DTSTAMP:20220423T134500Z
DTSTART;TZID=America/New_York:20220423T094500
DURATION:PT0H45M0S
SUMMARY:Brazil MTY vs England MTY
DESCRIPTION:U8 (6-7yr olds) | Youth Soccer\nWillis Road Family YMCA\n
URL;VALUE=URI:https://ygametime.com/branch/willisroad/sports/2022-spring-youth-soccer/12682/?utm_medium=calendar&utm_source=team_cal&utm_content=league_url#game-296279
LOCATION:River Ridge - Field 2
BEGIN:VALARM
TRIGGER:-P2H
ACTION:DISPLAY
DESCRIPTION:Brazil MTY vs England MTY
END:VALARM
END:VEVENT
BEGIN:VEVENT
UID:willisroad-296283@ygametime.com
DTSTAMP:20220430T141000Z
DTSTART;TZID=America/New_York:20220430T101000
DURATION:PT0H45M0S
SUMMARY:Brazil MTY vs Argentina MTY
DESCRIPTION:U8 (6-7yr olds) | Youth Soccer\nWillis Road Family YMCA\n
URL;VALUE=URI:https://ygametime.com/branch/willisroad/sports/2022-spring-youth-soccer/12682/?utm_medium=calendar&utm_source=team_cal&utm_content=league_url#game-296283
LOCATION:Thomas E. Hannah YMCA Field 2
BEGIN:VALARM
TRIGGER:-P2H
ACTION:DISPLAY
DESCRIPTION:Brazil MTY vs Argentina MTY
END:VALARM
END:VEVENT
BEGIN:VEVENT
UID:willisroad-296290@ygametime.com
DTSTAMP:20220507T151500Z
DTSTART;TZID=America/New_York:20220507T111500
DURATION:PT0H45M0S
SUMMARY:Egypt MTY vs Brazil MTY
DESCRIPTION:U8 (6-7yr olds) | Youth Soccer\nWillis Road Family YMCA\n
URL;VALUE=URI:https://ygametime.com/branch/willisroad/sports/2022-spring-youth-soccer/12682/?utm_medium=calendar&utm_source=team_cal&utm_content=league_url#game-296290
LOCATION:River Ridge - Field 2
BEGIN:VALARM
TRIGGER:-P2H
ACTION:DISPLAY
DESCRIPTION:Egypt MTY vs Brazil MTY
END:VALARM
END:VEVENT
BEGIN:VEVENT
UID:willisroad-296292@ygametime.com
DTSTAMP:20220514T143000Z
DTSTART;TZID=America/New_York:20220514T103000
DURATION:PT0H45M0S
SUMMARY:Brazil MTY vs Turkey (Neon Orange)
DESCRIPTION:U8 (6-7yr olds) | Youth Soccer\nWillis Road Family YMCA\n
URL;VALUE=URI:https://ygametime.com/branch/willisroad/sports/2022-spring-youth-soccer/12682/?utm_medium=calendar&utm_source=team_cal&utm_content=league_url#game-296292
LOCATION:River Ridge - Field 2
BEGIN:VALARM
TRIGGER:-P2H
ACTION:DISPLAY
DESCRIPTION:Brazil MTY vs Turkey (Neon Orange)
END:VALARM
END:VEVENT
BEGIN:VEVENT
UID:willisroad-296301@ygametime.com
DTSTAMP:20220528T130000Z
DTSTART;TZID=America/New_York:20220528T090000
DURATION:PT0H45M0S
SUMMARY:Brazil MTY vs Canada MTY
DESCRIPTION:U8 (6-7yr olds) | Youth Soccer\nWillis Road Family YMCA\n
URL;VALUE=URI:https://ygametime.com/branch/willisroad/sports/2022-spring-youth-soccer/12682/?utm_medium=calendar&utm_source=team_cal&utm_content=league_url#game-296301
LOCATION:River Ridge - Field 2
BEGIN:VALARM
TRIGGER:-P2H
ACTION:DISPLAY
DESCRIPTION:Brazil MTY vs Canada MTY
END:VALARM
END:VEVENT
END:VCALENDAR

