BEGIN:VCALENDAR
VERSION:2.0
PRODID:-//YGAMETIME.com//YGT iCal Creator//EN
METHOD:PUBLISH
X-PUBLISHED-TTL:PT6H
REFRESH-INTERVAL;VALUE=DURATION:PT6H
CALSCALE:GREGORIAN
X-WR-CALNAME:YGAMETIME CALENDAR
BEGIN:VTIMEZONE
TZID:America/New_York
X-LIC-LOCATION:America/New_York
BEGIN:DAYLIGHT
TZOFFSETFROM:-0500
TZOFFSETTO:-0400
TZNAME:EDT
DTSTART:19700308T020000
RRULE:FREQ=YEARLY;BYMONTH=3;BYDAY=2SU
END:DAYLIGHT
BEGIN:STANDARD
TZOFFSETFROM:-0400
TZOFFSETTO:-0500
TZNAME:EST
DTSTART:19701101T020000
RRULE:FREQ=YEARLY;BYMONTH=11;BYDAY=1SU
END:STANDARD
END:VTIMEZONE
BEGIN:VEVENT
UID:willisroad-296274@ygametime.com
DTSTAMP:20220409T151500Z
DTSTART;TZID=America/New_York:20220409T111500
DURATION:PT0H45M0S
SUMMARY:Lions vs Canada MTY
DESCRIPTION:U8 (6-7yr olds) | Youth Soccer\nWillis Road Family YMCA\n
URL;VALUE=URI:https://ygametime.com/branch/willisroad/sports/2022-spring-youth-soccer/12682/?utm_medium=calendar&utm_source=team_cal&utm_content=league_url#game-296274
LOCATION:River Ridge - Field 2
BEGIN:VALARM
TRIGGER:-P2H
ACTION:DISPLAY
DESCRIPTION:Lions vs Canada MTY
END:VALARM
END:VEVENT
BEGIN:VEVENT
UID:willisroad-296276@ygametime.com
DTSTAMP:20220416T143000Z
DTSTART;TZID=America/New_York:20220416T103000
DURATION:PT0H45M0S
SUMMARY:Brazil MTY vs Lions
DESCRIPTION:U8 (6-7yr olds) | Youth Soccer\nWillis Road Family YMCA\n
URL;VALUE=URI:https://ygametime.com/branch/willisroad/sports/2022-spring-youth-soccer/12682/?utm_medium=calendar&utm_source=team_cal&utm_content=league_url#game-296276
LOCATION:River Ridge - Field 2
BEGIN:VALARM
TRIGGER:-P2H
ACTION:DISPLAY
DESCRIPTION:Brazil MTY vs Lions
END:VALARM
END:VEVENT
BEGIN:VEVENT
UID:willisroad-296282@ygametime.com
DTSTAMP:20220423T151500Z
DTSTART;TZID=America/New_York:20220423T111500
DURATION:PT0H45M0S
SUMMARY:Lions vs Arsenal (Black)
DESCRIPTION:U8 (6-7yr olds) | Youth Soccer\nWillis Road Family YMCA\n
URL;VALUE=URI:https://ygametime.com/branch/willisroad/sports/2022-spring-youth-soccer/12682/?utm_medium=calendar&utm_source=team_cal&utm_content=league_url#game-296282
LOCATION:River Ridge - Field 2
BEGIN:VALARM
TRIGGER:-P2H
ACTION:DISPLAY
DESCRIPTION:Lions vs Arsenal (Black)
END:VALARM
END:VEVENT
BEGIN:VEVENT
UID:willisroad-296284@ygametime.com
DTSTAMP:20220430T141000Z
DTSTART;TZID=America/New_York:20220430T101000
DURATION:PT0H45M0S
SUMMARY:USA MTY vs Lions
DESCRIPTION:U8 (6-7yr olds) | Youth Soccer\nWillis Road Family YMCA\n
URL;VALUE=URI:https://ygametime.com/branch/willisroad/sports/2022-spring-youth-soccer/12682/?utm_medium=calendar&utm_source=team_cal&utm_content=league_url#game-296284
LOCATION:Thomas E. Hannah YMCA Field 1
BEGIN:VALARM
TRIGGER:-P2H
ACTION:DISPLAY
DESCRIPTION:USA MTY vs Lions
END:VALARM
END:VEVENT
BEGIN:VEVENT
UID:willisroad-296289@ygametime.com
DTSTAMP:20220507T143000Z
DTSTART;TZID=America/New_York:20220507T103000
DURATION:PT0H45M0S
SUMMARY:Lions vs Turkey (Neon Orange)
DESCRIPTION:U8 (6-7yr olds) | Youth Soccer\nWillis Road Family YMCA\n
URL;VALUE=URI:https://ygametime.com/branch/willisroad/sports/2022-spring-youth-soccer/12682/?utm_medium=calendar&utm_source=team_cal&utm_content=league_url#game-296289
LOCATION:River Ridge - Field 2
BEGIN:VALARM
TRIGGER:-P2H
ACTION:DISPLAY
DESCRIPTION:Lions vs Turkey (Neon Orange)
END:VALARM
END:VEVENT
BEGIN:VEVENT
UID:willisroad-296291@ygametime.com
DTSTAMP:20220514T134500Z
DTSTART;TZID=America/New_York:20220514T094500
DURATION:PT0H45M0S
SUMMARY:Lions vs Argentina MTY
DESCRIPTION:U8 (6-7yr olds) | Youth Soccer\nWillis Road Family YMCA\n
URL;VALUE=URI:https://ygametime.com/branch/willisroad/sports/2022-spring-youth-soccer/12682/?utm_medium=calendar&utm_source=team_cal&utm_content=league_url#game-296291
LOCATION:River Ridge - Field 2
BEGIN:VALARM
TRIGGER:-P2H
ACTION:DISPLAY
DESCRIPTION:Lions vs Argentina MTY
END:VALARM
END:VEVENT
BEGIN:VEVENT
UID:willisroad-296295@ygametime.com
DTSTAMP:20220521T130000Z
DTSTART;TZID=America/New_York:20220521T090000
DURATION:PT0H45M0S
SUMMARY:Egypt MTY vs Lions
DESCRIPTION:U8 (6-7yr olds) | Youth Soccer\nWillis Road Family YMCA\n
URL;VALUE=URI:https://ygametime.com/branch/willisroad/sports/2022-spring-youth-soccer/12682/?utm_medium=calendar&utm_source=team_cal&utm_content=league_url#game-296295
LOCATION:River Ridge - Field 2
BEGIN:VALARM
TRIGGER:-P2H
ACTION:DISPLAY
DESCRIPTION:Egypt MTY vs Lions
END:VALARM
END:VEVENT
BEGIN:VEVENT
UID:willisroad-296299@ygametime.com
DTSTAMP:20220528T134500Z
DTSTART;TZID=America/New_York:20220528T094500
DURATION:PT0H45M0S
SUMMARY:Lions vs Turkey (Neon Orange)
DESCRIPTION:U8 (6-7yr olds) | Youth Soccer\nWillis Road Family YMCA\n
URL;VALUE=URI:https://ygametime.com/branch/willisroad/sports/2022-spring-youth-soccer/12682/?utm_medium=calendar&utm_source=team_cal&utm_content=league_url#game-296299
LOCATION:River Ridge - Field 2
BEGIN:VALARM
TRIGGER:-P2H
ACTION:DISPLAY
DESCRIPTION:Lions vs Turkey (Neon Orange)
END:VALARM
END:VEVENT
END:VCALENDAR

