BEGIN:VCALENDAR
VERSION:2.0
PRODID:-//YGAMETIME.com//YGT iCal Creator//EN
METHOD:PUBLISH
X-PUBLISHED-TTL:PT6H
REFRESH-INTERVAL;VALUE=DURATION:PT6H
CALSCALE:GREGORIAN
X-WR-CALNAME:YGAMETIME CALENDAR
BEGIN:VTIMEZONE
TZID:America/New_York
X-LIC-LOCATION:America/New_York
BEGIN:DAYLIGHT
TZOFFSETFROM:-0500
TZOFFSETTO:-0400
TZNAME:EDT
DTSTART:19700308T020000
RRULE:FREQ=YEARLY;BYMONTH=3;BYDAY=2SU
END:DAYLIGHT
BEGIN:STANDARD
TZOFFSETFROM:-0400
TZOFFSETTO:-0500
TZNAME:EST
DTSTART:19701101T020000
RRULE:FREQ=YEARLY;BYMONTH=11;BYDAY=1SU
END:STANDARD
END:VTIMEZONE
BEGIN:VEVENT
UID:willisroad-296171@ygametime.com
DTSTAMP:20220409T130000Z
DTSTART;TZID=America/New_York:20220409T090000
DURATION:PT0H40M0S
SUMMARY:Leopards MTY vs Comets MTY
DESCRIPTION:U6 (4-5 yr olds) | Youth Soccer\nWillis Road Family YMCA\n
URL;VALUE=URI:https://ygametime.com/branch/willisroad/sports/2022-spring-youth-soccer/12681/?utm_medium=calendar&utm_source=team_cal&utm_content=league_url#game-296171
LOCATION:River Ridge - Field 4
BEGIN:VALARM
TRIGGER:-P2H
ACTION:DISPLAY
DESCRIPTION:Leopards MTY vs Comets MTY
END:VALARM
END:VEVENT
BEGIN:VEVENT
UID:willisroad-296178@ygametime.com
DTSTAMP:20220416T150000Z
DTSTART;TZID=America/New_York:20220416T110000
DURATION:PT0H40M0S
SUMMARY:Comets MTY vs Lizards (Navy)
DESCRIPTION:U6 (4-5 yr olds) | Youth Soccer\nWillis Road Family YMCA\n
URL;VALUE=URI:https://ygametime.com/branch/willisroad/sports/2022-spring-youth-soccer/12681/?utm_medium=calendar&utm_source=team_cal&utm_content=league_url#game-296178
LOCATION:River Ridge - Field 4
BEGIN:VALARM
TRIGGER:-P2H
ACTION:DISPLAY
DESCRIPTION:Comets MTY vs Lizards (Navy)
END:VALARM
END:VEVENT
BEGIN:VEVENT
UID:willisroad-296181@ygametime.com
DTSTAMP:20220423T142000Z
DTSTART;TZID=America/New_York:20220423T102000
DURATION:PT0H40M0S
SUMMARY:Panthers (Silver) vs Comets MTY
DESCRIPTION:U6 (4-5 yr olds) | Youth Soccer\nWillis Road Family YMCA\n
URL;VALUE=URI:https://ygametime.com/branch/willisroad/sports/2022-spring-youth-soccer/12681/?utm_medium=calendar&utm_source=team_cal&utm_content=league_url#game-296181
LOCATION:River Ridge - Field 4
BEGIN:VALARM
TRIGGER:-P2H
ACTION:DISPLAY
DESCRIPTION:Panthers (Silver) vs Comets MTY
END:VALARM
END:VEVENT
BEGIN:VEVENT
UID:willisroad-296184@ygametime.com
DTSTAMP:20220430T133000Z
DTSTART;TZID=America/New_York:20220430T093000
DURATION:PT0H40M0S
SUMMARY:Comets MTY vs Zebras (White)
DESCRIPTION:U6 (4-5 yr olds) | Youth Soccer\nWillis Road Family YMCA\n
URL;VALUE=URI:https://ygametime.com/branch/willisroad/sports/2022-spring-youth-soccer/12681/?utm_medium=calendar&utm_source=team_cal&utm_content=league_url#game-296184
LOCATION:Thomas E. Hannah YMCA Field 3
BEGIN:VALARM
TRIGGER:-P2H
ACTION:DISPLAY
DESCRIPTION:Comets MTY vs Zebras (White)
END:VALARM
END:VEVENT
BEGIN:VEVENT
UID:willisroad-296194@ygametime.com
DTSTAMP:20220514T150000Z
DTSTART;TZID=America/New_York:20220514T110000
DURATION:PT0H40M0S
SUMMARY:Comets MTY vs Foxes MTY
DESCRIPTION:U6 (4-5 yr olds) | Youth Soccer\nWillis Road Family YMCA\n
URL;VALUE=URI:https://ygametime.com/branch/willisroad/sports/2022-spring-youth-soccer/12681/?utm_medium=calendar&utm_source=team_cal&utm_content=league_url#game-296194
LOCATION:River Ridge - Field 4
BEGIN:VALARM
TRIGGER:-P2H
ACTION:DISPLAY
DESCRIPTION:Comets MTY vs Foxes MTY
END:VALARM
END:VEVENT
BEGIN:VEVENT
UID:willisroad-296197@ygametime.com
DTSTAMP:20220521T150000Z
DTSTART;TZID=America/New_York:20220521T110000
DURATION:PT0H40M0S
SUMMARY:Comets MTY vs Wolverines MTY
DESCRIPTION:U6 (4-5 yr olds) | Youth Soccer\nWillis Road Family YMCA\n
URL;VALUE=URI:https://ygametime.com/branch/willisroad/sports/2022-spring-youth-soccer/12681/?utm_medium=calendar&utm_source=team_cal&utm_content=league_url#game-296197
LOCATION:River Ridge - Field 4
BEGIN:VALARM
TRIGGER:-P2H
ACTION:DISPLAY
DESCRIPTION:Comets MTY vs Wolverines MTY
END:VALARM
END:VEVENT
BEGIN:VEVENT
UID:willisroad-296264@ygametime.com
DTSTAMP:20220528T134000Z
DTSTART;TZID=America/New_York:20220528T094000
DURATION:PT0H40M0S
SUMMARY:Comets MTY vs Sharks MTY
DESCRIPTION:U6 (4-5 yr olds) | Youth Soccer\nWillis Road Family YMCA\n
URL;VALUE=URI:https://ygametime.com/branch/willisroad/sports/2022-spring-youth-soccer/12681/?utm_medium=calendar&utm_source=team_cal&utm_content=league_url#game-296264
LOCATION:River Ridge - Field 4
BEGIN:VALARM
TRIGGER:-P2H
ACTION:DISPLAY
DESCRIPTION:Comets MTY vs Sharks MTY
END:VALARM
END:VEVENT
END:VCALENDAR

