BEGIN:VCALENDAR
VERSION:2.0
PRODID:-//YGAMETIME.com//YGT iCal Creator//EN
METHOD:PUBLISH
X-PUBLISHED-TTL:PT6H
REFRESH-INTERVAL;VALUE=DURATION:PT6H
CALSCALE:GREGORIAN
X-WR-CALNAME:YGAMETIME CALENDAR
BEGIN:VTIMEZONE
TZID:America/New_York
X-LIC-LOCATION:America/New_York
BEGIN:DAYLIGHT
TZOFFSETFROM:-0500
TZOFFSETTO:-0400
TZNAME:EDT
DTSTART:19700308T020000
RRULE:FREQ=YEARLY;BYMONTH=3;BYDAY=2SU
END:DAYLIGHT
BEGIN:STANDARD
TZOFFSETFROM:-0400
TZOFFSETTO:-0500
TZNAME:EST
DTSTART:19701101T020000
RRULE:FREQ=YEARLY;BYMONTH=11;BYDAY=1SU
END:STANDARD
END:VTIMEZONE
BEGIN:VEVENT
UID:willisroad-296172@ygametime.com
DTSTAMP:20220409T134000Z
DTSTART;TZID=America/New_York:20220409T094000
DURATION:PT0H40M0S
SUMMARY:Lizards (Navy) vs Dragons MTY
DESCRIPTION:U6 (4-5 yr olds) | Youth Soccer\nWillis Road Family YMCA\n
URL;VALUE=URI:https://ygametime.com/branch/willisroad/sports/2022-spring-youth-soccer/12681/?utm_medium=calendar&utm_source=team_cal&utm_content=league_url#game-296172
LOCATION:River Ridge - Field 4
BEGIN:VALARM
TRIGGER:-P2H
ACTION:DISPLAY
DESCRIPTION:Lizards (Navy) vs Dragons MTY
END:VALARM
END:VEVENT
BEGIN:VEVENT
UID:willisroad-296176@ygametime.com
DTSTAMP:20220416T134000Z
DTSTART;TZID=America/New_York:20220416T094000
DURATION:PT0H40M0S
SUMMARY:Dragons MTY vs Zebras (White)
DESCRIPTION:U6 (4-5 yr olds) | Youth Soccer\nWillis Road Family YMCA\n
URL;VALUE=URI:https://ygametime.com/branch/willisroad/sports/2022-spring-youth-soccer/12681/?utm_medium=calendar&utm_source=team_cal&utm_content=league_url#game-296176
LOCATION:River Ridge - Field 4
BEGIN:VALARM
TRIGGER:-P2H
ACTION:DISPLAY
DESCRIPTION:Dragons MTY vs Zebras (White)
END:VALARM
END:VEVENT
BEGIN:VEVENT
UID:willisroad-296179@ygametime.com
DTSTAMP:20220423T130000Z
DTSTART;TZID=America/New_York:20220423T090000
DURATION:PT0H40M0S
SUMMARY:Foxes MTY vs Dragons MTY
DESCRIPTION:U6 (4-5 yr olds) | Youth Soccer\nWillis Road Family YMCA\n
URL;VALUE=URI:https://ygametime.com/branch/willisroad/sports/2022-spring-youth-soccer/12681/?utm_medium=calendar&utm_source=team_cal&utm_content=league_url#game-296179
LOCATION:River Ridge - Field 4
BEGIN:VALARM
TRIGGER:-P2H
ACTION:DISPLAY
DESCRIPTION:Foxes MTY vs Dragons MTY
END:VALARM
END:VEVENT
BEGIN:VEVENT
UID:willisroad-296215@ygametime.com
DTSTAMP:20220430T133000Z
DTSTART;TZID=America/New_York:20220430T093000
DURATION:PT0H40M0S
SUMMARY:Dragons MTY vs Sharks MTY
DESCRIPTION:U6 (4-5 yr olds) | Youth Soccer\nWillis Road Family YMCA\n
URL;VALUE=URI:https://ygametime.com/branch/willisroad/sports/2022-spring-youth-soccer/12681/?utm_medium=calendar&utm_source=team_cal&utm_content=league_url#game-296215
LOCATION:Thomas E. Hannah YMCA Field 1
BEGIN:VALARM
TRIGGER:-P2H
ACTION:DISPLAY
DESCRIPTION:Dragons MTY vs Sharks MTY
END:VALARM
END:VEVENT
BEGIN:VEVENT
UID:willisroad-296190@ygametime.com
DTSTAMP:20220507T150000Z
DTSTART;TZID=America/New_York:20220507T110000
DURATION:PT0H40M0S
SUMMARY:Leopards MTY vs Dragons MTY
DESCRIPTION:U6 (4-5 yr olds) | Youth Soccer\nWillis Road Family YMCA\n
URL;VALUE=URI:https://ygametime.com/branch/willisroad/sports/2022-spring-youth-soccer/12681/?utm_medium=calendar&utm_source=team_cal&utm_content=league_url#game-296190
LOCATION:River Ridge - Field 4
BEGIN:VALARM
TRIGGER:-P2H
ACTION:DISPLAY
DESCRIPTION:Leopards MTY vs Dragons MTY
END:VALARM
END:VEVENT
BEGIN:VEVENT
UID:willisroad-296192@ygametime.com
DTSTAMP:20220514T134000Z
DTSTART;TZID=America/New_York:20220514T094000
DURATION:PT0H40M0S
SUMMARY:Dragons MTY vs Panthers (Silver)
DESCRIPTION:U6 (4-5 yr olds) | Youth Soccer\nWillis Road Family YMCA\n
URL;VALUE=URI:https://ygametime.com/branch/willisroad/sports/2022-spring-youth-soccer/12681/?utm_medium=calendar&utm_source=team_cal&utm_content=league_url#game-296192
LOCATION:River Ridge - Field 4
BEGIN:VALARM
TRIGGER:-P2H
ACTION:DISPLAY
DESCRIPTION:Dragons MTY vs Panthers (Silver)
END:VALARM
END:VEVENT
BEGIN:VEVENT
UID:willisroad-296265@ygametime.com
DTSTAMP:20220528T142000Z
DTSTART;TZID=America/New_York:20220528T102000
DURATION:PT0H40M0S
SUMMARY:Dragons MTY vs Wolverines MTY
DESCRIPTION:U6 (4-5 yr olds) | Youth Soccer\nWillis Road Family YMCA\n
URL;VALUE=URI:https://ygametime.com/branch/willisroad/sports/2022-spring-youth-soccer/12681/?utm_medium=calendar&utm_source=team_cal&utm_content=league_url#game-296265
LOCATION:River Ridge - Field 4
BEGIN:VALARM
TRIGGER:-P2H
ACTION:DISPLAY
DESCRIPTION:Dragons MTY vs Wolverines MTY
END:VALARM
END:VEVENT
END:VCALENDAR

