BEGIN:VCALENDAR
VERSION:2.0
PRODID:-//YGAMETIME.com//YGT iCal Creator//EN
METHOD:PUBLISH
X-PUBLISHED-TTL:PT6H
REFRESH-INTERVAL;VALUE=DURATION:PT6H
CALSCALE:GREGORIAN
X-WR-CALNAME:YGAMETIME CALENDAR
BEGIN:VTIMEZONE
TZID:America/New_York
X-LIC-LOCATION:America/New_York
BEGIN:DAYLIGHT
TZOFFSETFROM:-0500
TZOFFSETTO:-0400
TZNAME:EDT
DTSTART:19700308T020000
RRULE:FREQ=YEARLY;BYMONTH=3;BYDAY=2SU
END:DAYLIGHT
BEGIN:STANDARD
TZOFFSETFROM:-0400
TZOFFSETTO:-0500
TZNAME:EST
DTSTART:19701101T020000
RRULE:FREQ=YEARLY;BYMONTH=11;BYDAY=1SU
END:STANDARD
END:VTIMEZONE
BEGIN:VEVENT
UID:willisroad-296174@ygametime.com
DTSTAMP:20220409T150000Z
DTSTART;TZID=America/New_York:20220409T110000
DURATION:PT0H40M0S
SUMMARY:Wolverines MTY vs Zebras (White)
DESCRIPTION:U6 (4-5 yr olds) | Youth Soccer\nWillis Road Family YMCA\n
URL;VALUE=URI:https://ygametime.com/branch/willisroad/sports/2022-spring-youth-soccer/12681/?utm_medium=calendar&utm_source=team_cal&utm_content=league_url#game-296174
LOCATION:River Ridge - Field 4
BEGIN:VALARM
TRIGGER:-P2H
ACTION:DISPLAY
DESCRIPTION:Wolverines MTY vs Zebras (White)
END:VALARM
END:VEVENT
BEGIN:VEVENT
UID:willisroad-296209@ygametime.com
DTSTAMP:20220416T142000Z
DTSTART;TZID=America/New_York:20220416T102000
DURATION:PT0H40M0S
SUMMARY:Wolverines MTY vs Foxes MTY
DESCRIPTION:U6 (4-5 yr olds) | Youth Soccer\nWillis Road Family YMCA\n
URL;VALUE=URI:https://ygametime.com/branch/willisroad/sports/2022-spring-youth-soccer/12681/?utm_medium=calendar&utm_source=team_cal&utm_content=league_url#game-296209
LOCATION:River Ridge - Field 4
BEGIN:VALARM
TRIGGER:-P2H
ACTION:DISPLAY
DESCRIPTION:Wolverines MTY vs Foxes MTY
END:VALARM
END:VEVENT
BEGIN:VEVENT
UID:willisroad-296180@ygametime.com
DTSTAMP:20220423T134000Z
DTSTART;TZID=America/New_York:20220423T094000
DURATION:PT0H40M0S
SUMMARY:Sharks MTY vs Wolverines MTY
DESCRIPTION:U6 (4-5 yr olds) | Youth Soccer\nWillis Road Family YMCA\n
URL;VALUE=URI:https://ygametime.com/branch/willisroad/sports/2022-spring-youth-soccer/12681/?utm_medium=calendar&utm_source=team_cal&utm_content=league_url#game-296180
LOCATION:River Ridge - Field 4
BEGIN:VALARM
TRIGGER:-P2H
ACTION:DISPLAY
DESCRIPTION:Sharks MTY vs Wolverines MTY
END:VALARM
END:VEVENT
BEGIN:VEVENT
UID:willisroad-296186@ygametime.com
DTSTAMP:20220430T133000Z
DTSTART;TZID=America/New_York:20220430T093000
DURATION:PT0H40M0S
SUMMARY:Wolverines MTY vs Leopards MTY
DESCRIPTION:U6 (4-5 yr olds) | Youth Soccer\nWillis Road Family YMCA\n
URL;VALUE=URI:https://ygametime.com/branch/willisroad/sports/2022-spring-youth-soccer/12681/?utm_medium=calendar&utm_source=team_cal&utm_content=league_url#game-296186
LOCATION:Thomas E. Hannah YMCA Field 4
BEGIN:VALARM
TRIGGER:-P2H
ACTION:DISPLAY
DESCRIPTION:Wolverines MTY vs Leopards MTY
END:VALARM
END:VEVENT
BEGIN:VEVENT
UID:willisroad-296188@ygametime.com
DTSTAMP:20220507T134000Z
DTSTART;TZID=America/New_York:20220507T094000
DURATION:PT0H40M0S
SUMMARY:Panthers (Silver) vs Wolverines MTY
DESCRIPTION:U6 (4-5 yr olds) | Youth Soccer\nWillis Road Family YMCA\n
URL;VALUE=URI:https://ygametime.com/branch/willisroad/sports/2022-spring-youth-soccer/12681/?utm_medium=calendar&utm_source=team_cal&utm_content=league_url#game-296188
LOCATION:River Ridge - Field 4
BEGIN:VALARM
TRIGGER:-P2H
ACTION:DISPLAY
DESCRIPTION:Panthers (Silver) vs Wolverines MTY
END:VALARM
END:VEVENT
BEGIN:VEVENT
UID:willisroad-296197@ygametime.com
DTSTAMP:20220521T150000Z
DTSTART;TZID=America/New_York:20220521T110000
DURATION:PT0H40M0S
SUMMARY:Comets MTY vs Wolverines MTY
DESCRIPTION:U6 (4-5 yr olds) | Youth Soccer\nWillis Road Family YMCA\n
URL;VALUE=URI:https://ygametime.com/branch/willisroad/sports/2022-spring-youth-soccer/12681/?utm_medium=calendar&utm_source=team_cal&utm_content=league_url#game-296197
LOCATION:River Ridge - Field 4
BEGIN:VALARM
TRIGGER:-P2H
ACTION:DISPLAY
DESCRIPTION:Comets MTY vs Wolverines MTY
END:VALARM
END:VEVENT
BEGIN:VEVENT
UID:willisroad-296265@ygametime.com
DTSTAMP:20220528T142000Z
DTSTART;TZID=America/New_York:20220528T102000
DURATION:PT0H40M0S
SUMMARY:Dragons MTY vs Wolverines MTY
DESCRIPTION:U6 (4-5 yr olds) | Youth Soccer\nWillis Road Family YMCA\n
URL;VALUE=URI:https://ygametime.com/branch/willisroad/sports/2022-spring-youth-soccer/12681/?utm_medium=calendar&utm_source=team_cal&utm_content=league_url#game-296265
LOCATION:River Ridge - Field 4
BEGIN:VALARM
TRIGGER:-P2H
ACTION:DISPLAY
DESCRIPTION:Dragons MTY vs Wolverines MTY
END:VALARM
END:VEVENT
END:VCALENDAR

