BEGIN:VCALENDAR
VERSION:2.0
PRODID:-//YGAMETIME.com//YGT iCal Creator//EN
METHOD:PUBLISH
X-PUBLISHED-TTL:PT6H
REFRESH-INTERVAL;VALUE=DURATION:PT6H
CALSCALE:GREGORIAN
X-WR-CALNAME:YGAMETIME CALENDAR
BEGIN:VTIMEZONE
TZID:America/New_York
X-LIC-LOCATION:America/New_York
BEGIN:DAYLIGHT
TZOFFSETFROM:-0500
TZOFFSETTO:-0400
TZNAME:EDT
DTSTART:19700308T020000
RRULE:FREQ=YEARLY;BYMONTH=3;BYDAY=2SU
END:DAYLIGHT
BEGIN:STANDARD
TZOFFSETFROM:-0400
TZOFFSETTO:-0500
TZNAME:EST
DTSTART:19701101T020000
RRULE:FREQ=YEARLY;BYMONTH=11;BYDAY=1SU
END:STANDARD
END:VTIMEZONE
BEGIN:VEVENT
UID:willisroad-296120@ygametime.com
DTSTAMP:20220409T140000Z
DTSTART;TZID=America/New_York:20220409T100000
DURATION:PT0H30M0S
SUMMARY:Mini Panthers MTY vs Mini Ducks (Light Blue)
DESCRIPTION:U4 (3 year olds) | Youth Soccer\nWillis Road Family YMCA\n
URL;VALUE=URI:https://ygametime.com/branch/willisroad/sports/2022-spring-youth-soccer/12680/?utm_medium=calendar&utm_source=team_cal&utm_content=league_url#game-296120
LOCATION:River Ridge - Field 3
BEGIN:VALARM
TRIGGER:-P2H
ACTION:DISPLAY
DESCRIPTION:Mini Panthers MTY vs Mini Ducks (Light Blue)
END:VALARM
END:VEVENT
BEGIN:VEVENT
UID:willisroad-296124@ygametime.com
DTSTAMP:20220416T140000Z
DTSTART;TZID=America/New_York:20220416T100000
DURATION:PT0H30M0S
SUMMARY:Mini Zebras MTY vs Mini Panthers MTY
DESCRIPTION:U4 (3 year olds) | Youth Soccer\nWillis Road Family YMCA\n
URL;VALUE=URI:https://ygametime.com/branch/willisroad/sports/2022-spring-youth-soccer/12680/?utm_medium=calendar&utm_source=team_cal&utm_content=league_url#game-296124
LOCATION:River Ridge - Field 3
BEGIN:VALARM
TRIGGER:-P2H
ACTION:DISPLAY
DESCRIPTION:Mini Zebras MTY vs Mini Panthers MTY
END:VALARM
END:VEVENT
BEGIN:VEVENT
UID:willisroad-296127@ygametime.com
DTSTAMP:20220423T133000Z
DTSTART;TZID=America/New_York:20220423T093000
DURATION:PT0H30M0S
SUMMARY:Mini Panthers MTY vs Mini Lizards MTY
DESCRIPTION:U4 (3 year olds) | Youth Soccer\nWillis Road Family YMCA\n
URL;VALUE=URI:https://ygametime.com/branch/willisroad/sports/2022-spring-youth-soccer/12680/?utm_medium=calendar&utm_source=team_cal&utm_content=league_url#game-296127
LOCATION:River Ridge - Field 3
BEGIN:VALARM
TRIGGER:-P2H
ACTION:DISPLAY
DESCRIPTION:Mini Panthers MTY vs Mini Lizards MTY
END:VALARM
END:VEVENT
BEGIN:VEVENT
UID:willisroad-296133@ygametime.com
DTSTAMP:20220430T130000Z
DTSTART;TZID=America/New_York:20220430T090000
DURATION:PT0H30M0S
SUMMARY:Mini Tigers MTY vs Mini Panthers MTY
DESCRIPTION:U4 (3 year olds) | Youth Soccer\nWillis Road Family YMCA\n
URL;VALUE=URI:https://ygametime.com/branch/willisroad/sports/2022-spring-youth-soccer/12680/?utm_medium=calendar&utm_source=team_cal&utm_content=league_url#game-296133
LOCATION:Thomas E. Hannah YMCA Field 4
BEGIN:VALARM
TRIGGER:-P2H
ACTION:DISPLAY
DESCRIPTION:Mini Tigers MTY vs Mini Panthers MTY
END:VALARM
END:VEVENT
BEGIN:VEVENT
UID:willisroad-296135@ygametime.com
DTSTAMP:20220507T133000Z
DTSTART;TZID=America/New_York:20220507T093000
DURATION:PT0H30M0S
SUMMARY:Mini Panthers MTY vs Mini Dragons (Navy)
DESCRIPTION:U4 (3 year olds) | Youth Soccer\nWillis Road Family YMCA\n
URL;VALUE=URI:https://ygametime.com/branch/willisroad/sports/2022-spring-youth-soccer/12680/?utm_medium=calendar&utm_source=team_cal&utm_content=league_url#game-296135
LOCATION:River Ridge - Field 3
BEGIN:VALARM
TRIGGER:-P2H
ACTION:DISPLAY
DESCRIPTION:Mini Panthers MTY vs Mini Dragons (Navy)
END:VALARM
END:VEVENT
BEGIN:VEVENT
UID:willisroad-296141@ygametime.com
DTSTAMP:20220514T143000Z
DTSTART;TZID=America/New_York:20220514T103000
DURATION:PT0H30M0S
SUMMARY:Mini Lions MTY vs Mini Panthers MTY
DESCRIPTION:U4 (3 year olds) | Youth Soccer\nWillis Road Family YMCA\n
URL;VALUE=URI:https://ygametime.com/branch/willisroad/sports/2022-spring-youth-soccer/12680/?utm_medium=calendar&utm_source=team_cal&utm_content=league_url#game-296141
LOCATION:River Ridge - Field 3
BEGIN:VALARM
TRIGGER:-P2H
ACTION:DISPLAY
DESCRIPTION:Mini Lions MTY vs Mini Panthers MTY
END:VALARM
END:VEVENT
BEGIN:VEVENT
UID:willisroad-296145@ygametime.com
DTSTAMP:20220521T143000Z
DTSTART;TZID=America/New_York:20220521T103000
DURATION:PT0H30M0S
SUMMARY:Mini Cheetahs MTY vs Mini Panthers MTY
DESCRIPTION:U4 (3 year olds) | Youth Soccer\nWillis Road Family YMCA\n
URL;VALUE=URI:https://ygametime.com/branch/willisroad/sports/2022-spring-youth-soccer/12680/?utm_medium=calendar&utm_source=team_cal&utm_content=league_url#game-296145
LOCATION:River Ridge - Field 3
BEGIN:VALARM
TRIGGER:-P2H
ACTION:DISPLAY
DESCRIPTION:Mini Cheetahs MTY vs Mini Panthers MTY
END:VALARM
END:VEVENT
BEGIN:VEVENT
UID:willisroad-296149@ygametime.com
DTSTAMP:20220528T143000Z
DTSTART;TZID=America/New_York:20220528T103000
DURATION:PT0H30M0S
SUMMARY:Mini Panthers MTY vs Mini Ducks (Light Blue)
DESCRIPTION:U4 (3 year olds) | Youth Soccer\nWillis Road Family YMCA\n
URL;VALUE=URI:https://ygametime.com/branch/willisroad/sports/2022-spring-youth-soccer/12680/?utm_medium=calendar&utm_source=team_cal&utm_content=league_url#game-296149
LOCATION:River Ridge - Field 3
BEGIN:VALARM
TRIGGER:-P2H
ACTION:DISPLAY
DESCRIPTION:Mini Panthers MTY vs Mini Ducks (Light Blue)
END:VALARM
END:VEVENT
END:VCALENDAR

