BEGIN:VCALENDAR
VERSION:2.0
PRODID:-//YGAMETIME.com//YGT iCal Creator//EN
METHOD:PUBLISH
X-PUBLISHED-TTL:PT6H
REFRESH-INTERVAL;VALUE=DURATION:PT6H
CALSCALE:GREGORIAN
X-WR-CALNAME:YGAMETIME CALENDAR
BEGIN:VTIMEZONE
TZID:America/New_York
X-LIC-LOCATION:America/New_York
BEGIN:DAYLIGHT
TZOFFSETFROM:-0500
TZOFFSETTO:-0400
TZNAME:EDT
DTSTART:19700308T020000
RRULE:FREQ=YEARLY;BYMONTH=3;BYDAY=2SU
END:DAYLIGHT
BEGIN:STANDARD
TZOFFSETFROM:-0400
TZOFFSETTO:-0500
TZNAME:EST
DTSTART:19701101T020000
RRULE:FREQ=YEARLY;BYMONTH=11;BYDAY=1SU
END:STANDARD
END:VTIMEZONE
BEGIN:VEVENT
UID:willisroad-296118@ygametime.com
DTSTAMP:20220409T130000Z
DTSTART;TZID=America/New_York:20220409T090000
DURATION:PT0H30M0S
SUMMARY:Mini Cheetahs MTY vs Mini Lions MTY
DESCRIPTION:U4 (3 year olds) | Youth Soccer\nWillis Road Family YMCA\n
URL;VALUE=URI:https://ygametime.com/branch/willisroad/sports/2022-spring-youth-soccer/12680/?utm_medium=calendar&utm_source=team_cal&utm_content=league_url#game-296118
LOCATION:River Ridge - Field 3
BEGIN:VALARM
TRIGGER:-P2H
ACTION:DISPLAY
DESCRIPTION:Mini Cheetahs MTY vs Mini Lions MTY
END:VALARM
END:VEVENT
BEGIN:VEVENT
UID:willisroad-296122@ygametime.com
DTSTAMP:20220416T130000Z
DTSTART;TZID=America/New_York:20220416T090000
DURATION:PT0H30M0S
SUMMARY:Mini Ducks (Light Blue) vs Mini Lions MTY
DESCRIPTION:U4 (3 year olds) | Youth Soccer\nWillis Road Family YMCA\n
URL;VALUE=URI:https://ygametime.com/branch/willisroad/sports/2022-spring-youth-soccer/12680/?utm_medium=calendar&utm_source=team_cal&utm_content=league_url#game-296122
LOCATION:River Ridge - Field 3
BEGIN:VALARM
TRIGGER:-P2H
ACTION:DISPLAY
DESCRIPTION:Mini Ducks (Light Blue) vs Mini Lions MTY
END:VALARM
END:VEVENT
BEGIN:VEVENT
UID:willisroad-296125@ygametime.com
DTSTAMP:20220416T143000Z
DTSTART;TZID=America/New_York:20220416T103000
DURATION:PT0H30M0S
SUMMARY:Mini Lions MTY vs Mini Tigers MTY
DESCRIPTION:U4 (3 year olds) | Youth Soccer\nWillis Road Family YMCA\n
URL;VALUE=URI:https://ygametime.com/branch/willisroad/sports/2022-spring-youth-soccer/12680/?utm_medium=calendar&utm_source=team_cal&utm_content=league_url#game-296125
LOCATION:River Ridge - Field 3
BEGIN:VALARM
TRIGGER:-P2H
ACTION:DISPLAY
DESCRIPTION:Mini Lions MTY vs Mini Tigers MTY
END:VALARM
END:VEVENT
BEGIN:VEVENT
UID:willisroad-296128@ygametime.com
DTSTAMP:20220423T140000Z
DTSTART;TZID=America/New_York:20220423T100000
DURATION:PT0H30M0S
SUMMARY:Mini Ducks (Light Blue) vs Mini Lions MTY
DESCRIPTION:U4 (3 year olds) | Youth Soccer\nWillis Road Family YMCA\n
URL;VALUE=URI:https://ygametime.com/branch/willisroad/sports/2022-spring-youth-soccer/12680/?utm_medium=calendar&utm_source=team_cal&utm_content=league_url#game-296128
LOCATION:River Ridge - Field 3
BEGIN:VALARM
TRIGGER:-P2H
ACTION:DISPLAY
DESCRIPTION:Mini Ducks (Light Blue) vs Mini Lions MTY
END:VALARM
END:VEVENT
BEGIN:VEVENT
UID:willisroad-296131@ygametime.com
DTSTAMP:20220430T130000Z
DTSTART;TZID=America/New_York:20220430T090000
DURATION:PT0H30M0S
SUMMARY:Mini Dragons (Navy) vs Mini Lions MTY
DESCRIPTION:U4 (3 year olds) | Youth Soccer\nWillis Road Family YMCA\n
URL;VALUE=URI:https://ygametime.com/branch/willisroad/sports/2022-spring-youth-soccer/12680/?utm_medium=calendar&utm_source=team_cal&utm_content=league_url#game-296131
LOCATION:Thomas E. Hannah YMCA Field 2
BEGIN:VALARM
TRIGGER:-P2H
ACTION:DISPLAY
DESCRIPTION:Mini Dragons (Navy) vs Mini Lions MTY
END:VALARM
END:VEVENT
BEGIN:VEVENT
UID:willisroad-296134@ygametime.com
DTSTAMP:20220507T130000Z
DTSTART;TZID=America/New_York:20220507T090000
DURATION:PT0H30M0S
SUMMARY:Mini Zebras MTY vs Mini Lions MTY
DESCRIPTION:U4 (3 year olds) | Youth Soccer\nWillis Road Family YMCA\n
URL;VALUE=URI:https://ygametime.com/branch/willisroad/sports/2022-spring-youth-soccer/12680/?utm_medium=calendar&utm_source=team_cal&utm_content=league_url#game-296134
LOCATION:River Ridge - Field 3
BEGIN:VALARM
TRIGGER:-P2H
ACTION:DISPLAY
DESCRIPTION:Mini Zebras MTY vs Mini Lions MTY
END:VALARM
END:VEVENT
BEGIN:VEVENT
UID:willisroad-296141@ygametime.com
DTSTAMP:20220514T143000Z
DTSTART;TZID=America/New_York:20220514T103000
DURATION:PT0H30M0S
SUMMARY:Mini Lions MTY vs Mini Panthers MTY
DESCRIPTION:U4 (3 year olds) | Youth Soccer\nWillis Road Family YMCA\n
URL;VALUE=URI:https://ygametime.com/branch/willisroad/sports/2022-spring-youth-soccer/12680/?utm_medium=calendar&utm_source=team_cal&utm_content=league_url#game-296141
LOCATION:River Ridge - Field 3
BEGIN:VALARM
TRIGGER:-P2H
ACTION:DISPLAY
DESCRIPTION:Mini Lions MTY vs Mini Panthers MTY
END:VALARM
END:VEVENT
BEGIN:VEVENT
UID:willisroad-296144@ygametime.com
DTSTAMP:20220521T140000Z
DTSTART;TZID=America/New_York:20220521T100000
DURATION:PT0H30M0S
SUMMARY:Mini Lizards MTY vs Mini Lions MTY
DESCRIPTION:U4 (3 year olds) | Youth Soccer\nWillis Road Family YMCA\n
URL;VALUE=URI:https://ygametime.com/branch/willisroad/sports/2022-spring-youth-soccer/12680/?utm_medium=calendar&utm_source=team_cal&utm_content=league_url#game-296144
LOCATION:River Ridge - Field 3
BEGIN:VALARM
TRIGGER:-P2H
ACTION:DISPLAY
DESCRIPTION:Mini Lizards MTY vs Mini Lions MTY
END:VALARM
END:VEVENT
BEGIN:VEVENT
UID:willisroad-296147@ygametime.com
DTSTAMP:20220528T133000Z
DTSTART;TZID=America/New_York:20220528T093000
DURATION:PT0H30M0S
SUMMARY:Mini Cheetahs MTY vs Mini Lions MTY
DESCRIPTION:U4 (3 year olds) | Youth Soccer\nWillis Road Family YMCA\n
URL;VALUE=URI:https://ygametime.com/branch/willisroad/sports/2022-spring-youth-soccer/12680/?utm_medium=calendar&utm_source=team_cal&utm_content=league_url#game-296147
LOCATION:River Ridge - Field 3
BEGIN:VALARM
TRIGGER:-P2H
ACTION:DISPLAY
DESCRIPTION:Mini Cheetahs MTY vs Mini Lions MTY
END:VALARM
END:VEVENT
END:VCALENDAR

