BEGIN:VCALENDAR
VERSION:2.0
PRODID:-//YGAMETIME.com//YGT iCal Creator//EN
METHOD:PUBLISH
X-PUBLISHED-TTL:PT6H
REFRESH-INTERVAL;VALUE=DURATION:PT6H
CALSCALE:GREGORIAN
X-WR-CALNAME:YGAMETIME CALENDAR
BEGIN:VTIMEZONE
TZID:America/New_York
X-LIC-LOCATION:America/New_York
BEGIN:DAYLIGHT
TZOFFSETFROM:-0500
TZOFFSETTO:-0400
TZNAME:EDT
DTSTART:19700308T020000
RRULE:FREQ=YEARLY;BYMONTH=3;BYDAY=2SU
END:DAYLIGHT
BEGIN:STANDARD
TZOFFSETFROM:-0400
TZOFFSETTO:-0500
TZNAME:EST
DTSTART:19701101T020000
RRULE:FREQ=YEARLY;BYMONTH=11;BYDAY=1SU
END:STANDARD
END:VTIMEZONE
BEGIN:VEVENT
UID:wilson-600143@ygametime.com
DTSTAMP:20260325T210000Z
DTSTART;TZID=America/New_York:20260325T170000
DURATION:PT0H45M0S
SUMMARY:Buddies vs All- Stars
DESCRIPTION:Spring Soccer | Exceptional Soccer\nWilson Family YMCA\nPractice Dribbling
URL;VALUE=URI:https://ygametime.com/branch/wilson/sports/2026-spring-exceptional-soccer/25906/?utm_medium=calendar&utm_source=team_cal&utm_content=league_url#game-600143
LOCATION:Wilson Field 1
BEGIN:VALARM
TRIGGER:-P2H
ACTION:DISPLAY
DESCRIPTION:Buddies vs All- Stars
END:VALARM
END:VEVENT
BEGIN:VEVENT
UID:wilson-600144@ygametime.com
DTSTAMP:20260401T210000Z
DTSTART;TZID=America/New_York:20260401T170000
DURATION:PT0H45M0S
SUMMARY:Buddies vs All- Stars
DESCRIPTION:Spring Soccer | Exceptional Soccer\nWilson Family YMCA\nPractice Passing
URL;VALUE=URI:https://ygametime.com/branch/wilson/sports/2026-spring-exceptional-soccer/25906/?utm_medium=calendar&utm_source=team_cal&utm_content=league_url#game-600144
LOCATION:Wilson Field 1
BEGIN:VALARM
TRIGGER:-P2H
ACTION:DISPLAY
DESCRIPTION:Buddies vs All- Stars
END:VALARM
END:VEVENT
BEGIN:VEVENT
UID:wilson-600146@ygametime.com
DTSTAMP:20260415T210000Z
DTSTART;TZID=America/New_York:20260415T170000
DURATION:PT0H45M0S
SUMMARY:Buddies vs All- Stars
DESCRIPTION:Spring Soccer | Exceptional Soccer\nWilson Family YMCA\nPractice Shooting 
URL;VALUE=URI:https://ygametime.com/branch/wilson/sports/2026-spring-exceptional-soccer/25906/?utm_medium=calendar&utm_source=team_cal&utm_content=league_url#game-600146
LOCATION:Wilson Field 1
BEGIN:VALARM
TRIGGER:-P2H
ACTION:DISPLAY
DESCRIPTION:Buddies vs All- Stars
END:VALARM
END:VEVENT
BEGIN:VEVENT
UID:wilson-600147@ygametime.com
DTSTAMP:20260422T210000Z
DTSTART;TZID=America/New_York:20260422T170000
DURATION:PT0H45M0S
SUMMARY:Buddies vs All- Stars
DESCRIPTION:Spring Soccer | Exceptional Soccer\nWilson Family YMCA\nPractice Offence
URL;VALUE=URI:https://ygametime.com/branch/wilson/sports/2026-spring-exceptional-soccer/25906/?utm_medium=calendar&utm_source=team_cal&utm_content=league_url#game-600147
LOCATION:Wilson Field 1
BEGIN:VALARM
TRIGGER:-P2H
ACTION:DISPLAY
DESCRIPTION:Buddies vs All- Stars
END:VALARM
END:VEVENT
BEGIN:VEVENT
UID:wilson-600148@ygametime.com
DTSTAMP:20260429T210000Z
DTSTART;TZID=America/New_York:20260429T170000
DURATION:PT0H45M0S
SUMMARY:Buddies vs All- Stars
DESCRIPTION:Spring Soccer | Exceptional Soccer\nWilson Family YMCA\nPractice Defense 
URL;VALUE=URI:https://ygametime.com/branch/wilson/sports/2026-spring-exceptional-soccer/25906/?utm_medium=calendar&utm_source=team_cal&utm_content=league_url#game-600148
LOCATION:Wilson Field 1
BEGIN:VALARM
TRIGGER:-P2H
ACTION:DISPLAY
DESCRIPTION:Buddies vs All- Stars
END:VALARM
END:VEVENT
BEGIN:VEVENT
UID:wilson-600145@ygametime.com
DTSTAMP:20260506T210000Z
DTSTART;TZID=America/New_York:20260506T170000
DURATION:PT0H45M0S
SUMMARY:Buddies vs All- Stars
DESCRIPTION:Spring Soccer | Exceptional Soccer\nWilson Family YMCA\nGame Day
URL;VALUE=URI:https://ygametime.com/branch/wilson/sports/2026-spring-exceptional-soccer/25906/?utm_medium=calendar&utm_source=team_cal&utm_content=league_url#game-600145
LOCATION:Wilson Field 1
BEGIN:VALARM
TRIGGER:-P2H
ACTION:DISPLAY
DESCRIPTION:Buddies vs All- Stars
END:VALARM
END:VEVENT
END:VCALENDAR

