BEGIN:VCALENDAR
VERSION:2.0
PRODID:-//YGAMETIME.com//YGT iCal Creator//EN
METHOD:PUBLISH
X-PUBLISHED-TTL:PT6H
REFRESH-INTERVAL;VALUE=DURATION:PT6H
CALSCALE:GREGORIAN
X-WR-CALNAME:YGAMETIME CALENDAR
BEGIN:VTIMEZONE
TZID:America/New_York
X-LIC-LOCATION:America/New_York
BEGIN:DAYLIGHT
TZOFFSETFROM:-0500
TZOFFSETTO:-0400
TZNAME:EDT
DTSTART:19700308T020000
RRULE:FREQ=YEARLY;BYMONTH=3;BYDAY=2SU
END:DAYLIGHT
BEGIN:STANDARD
TZOFFSETFROM:-0400
TZOFFSETTO:-0500
TZNAME:EST
DTSTART:19701101T020000
RRULE:FREQ=YEARLY;BYMONTH=11;BYDAY=1SU
END:STANDARD
END:VTIMEZONE
BEGIN:VEVENT
UID:wolfcreek-591837@ygametime.com
DTSTAMP:20260321T150000Z
DTSTART;TZID=America/New_York:20260321T110000
DURATION:PT0H60M0S
SUMMARY:Grizzlies  vs 76ers 
DESCRIPTION:WC 7-8 | Winter 2 Basketball\nWolf Creek Ymca\n
URL;VALUE=URI:https://ygametime.com/branch/wolfcreek/sports/2026-winter-winter-2-basketball/25452/?utm_medium=calendar&utm_source=team_cal&utm_content=league_url#game-591837
LOCATION:Court B Wolf Creek
BEGIN:VALARM
TRIGGER:-P2H
ACTION:DISPLAY
DESCRIPTION:Grizzlies  vs 76ers 
END:VALARM
END:VEVENT
BEGIN:VEVENT
UID:wolfcreek-591838@ygametime.com
DTSTAMP:20260328T140000Z
DTSTART;TZID=America/New_York:20260328T100000
DURATION:PT0H60M0S
SUMMARY:Grizzlies  vs Pistons 
DESCRIPTION:WC 7-8 | Winter 2 Basketball\nWolf Creek Ymca\n
URL;VALUE=URI:https://ygametime.com/branch/wolfcreek/sports/2026-winter-winter-2-basketball/25452/?utm_medium=calendar&utm_source=team_cal&utm_content=league_url#game-591838
LOCATION:Court A Wolf Creek
BEGIN:VALARM
TRIGGER:-P2H
ACTION:DISPLAY
DESCRIPTION:Grizzlies  vs Pistons 
END:VALARM
END:VEVENT
BEGIN:VEVENT
UID:wolfcreek-591843@ygametime.com
DTSTAMP:20260411T150000Z
DTSTART;TZID=America/New_York:20260411T110000
DURATION:PT0H60M0S
SUMMARY:Grizzlies  vs Knicks 
DESCRIPTION:WC 7-8 | Winter 2 Basketball\nWolf Creek Ymca\n
URL;VALUE=URI:https://ygametime.com/branch/wolfcreek/sports/2026-winter-winter-2-basketball/25452/?utm_medium=calendar&utm_source=team_cal&utm_content=league_url#game-591843
LOCATION:Court B Wolf Creek
BEGIN:VALARM
TRIGGER:-P2H
ACTION:DISPLAY
DESCRIPTION:Grizzlies  vs Knicks 
END:VALARM
END:VEVENT
BEGIN:VEVENT
UID:wolfcreek-591844@ygametime.com
DTSTAMP:20260418T140000Z
DTSTART;TZID=America/New_York:20260418T100000
DURATION:PT0H60M0S
SUMMARY:Grizzlies  vs Pacers 
DESCRIPTION:WC 7-8 | Winter 2 Basketball\nWolf Creek Ymca\n
URL;VALUE=URI:https://ygametime.com/branch/wolfcreek/sports/2026-winter-winter-2-basketball/25452/?utm_medium=calendar&utm_source=team_cal&utm_content=league_url#game-591844
LOCATION:Court A Wolf Creek
BEGIN:VALARM
TRIGGER:-P2H
ACTION:DISPLAY
DESCRIPTION:Grizzlies  vs Pacers 
END:VALARM
END:VEVENT
BEGIN:VEVENT
UID:wolfcreek-591849@ygametime.com
DTSTAMP:20260425T150000Z
DTSTART;TZID=America/New_York:20260425T110000
DURATION:PT0H60M0S
SUMMARY:76ers  vs Grizzlies 
DESCRIPTION:WC 7-8 | Winter 2 Basketball\nWolf Creek Ymca\n
URL;VALUE=URI:https://ygametime.com/branch/wolfcreek/sports/2026-winter-winter-2-basketball/25452/?utm_medium=calendar&utm_source=team_cal&utm_content=league_url#game-591849
LOCATION:Court B Wolf Creek
BEGIN:VALARM
TRIGGER:-P2H
ACTION:DISPLAY
DESCRIPTION:76ers  vs Grizzlies 
END:VALARM
END:VEVENT
BEGIN:VEVENT
UID:wolfcreek-591833@ygametime.com
DTSTAMP:20260502T140000Z
DTSTART;TZID=America/New_York:20260502T100000
DURATION:PT0H60M0S
SUMMARY:Grizzlies  vs Cavs 
DESCRIPTION:WC 7-8 | Winter 2 Basketball\nWolf Creek Ymca\n
URL;VALUE=URI:https://ygametime.com/branch/wolfcreek/sports/2026-winter-winter-2-basketball/25452/?utm_medium=calendar&utm_source=team_cal&utm_content=league_url#game-591833
LOCATION:Court A Wolf Creek
BEGIN:VALARM
TRIGGER:-P2H
ACTION:DISPLAY
DESCRIPTION:Grizzlies  vs Cavs 
END:VALARM
END:VEVENT
END:VCALENDAR

