BEGIN:VCALENDAR
VERSION:2.0
PRODID:-//YGAMETIME.com//YGT iCal Creator//EN
METHOD:PUBLISH
X-PUBLISHED-TTL:PT6H
REFRESH-INTERVAL;VALUE=DURATION:PT6H
CALSCALE:GREGORIAN
X-WR-CALNAME:YGAMETIME CALENDAR
BEGIN:VTIMEZONE
TZID:America/New_York
X-LIC-LOCATION:America/New_York
BEGIN:DAYLIGHT
TZOFFSETFROM:-0500
TZOFFSETTO:-0400
TZNAME:EDT
DTSTART:19700308T020000
RRULE:FREQ=YEARLY;BYMONTH=3;BYDAY=2SU
END:DAYLIGHT
BEGIN:STANDARD
TZOFFSETFROM:-0400
TZOFFSETTO:-0500
TZNAME:EST
DTSTART:19701101T020000
RRULE:FREQ=YEARLY;BYMONTH=11;BYDAY=1SU
END:STANDARD
END:VTIMEZONE
BEGIN:VEVENT
UID:wolfcreek-591836@ygametime.com
DTSTAMP:20260321T140000Z
DTSTART;TZID=America/New_York:20260321T100000
DURATION:PT0H60M0S
SUMMARY:Pistons  vs Knicks 
DESCRIPTION:WC 7-8 | Winter 2 Basketball\nWolf Creek Ymca\n
URL;VALUE=URI:https://ygametime.com/branch/wolfcreek/sports/2026-winter-winter-2-basketball/25452/?utm_medium=calendar&utm_source=team_cal&utm_content=league_url#game-591836
LOCATION:Court B Wolf Creek
BEGIN:VALARM
TRIGGER:-P2H
ACTION:DISPLAY
DESCRIPTION:Pistons  vs Knicks 
END:VALARM
END:VEVENT
BEGIN:VEVENT
UID:wolfcreek-591839@ygametime.com
DTSTAMP:20260328T140000Z
DTSTART;TZID=America/New_York:20260328T100000
DURATION:PT0H60M0S
SUMMARY:Knicks  vs Cavs 
DESCRIPTION:WC 7-8 | Winter 2 Basketball\nWolf Creek Ymca\n
URL;VALUE=URI:https://ygametime.com/branch/wolfcreek/sports/2026-winter-winter-2-basketball/25452/?utm_medium=calendar&utm_source=team_cal&utm_content=league_url#game-591839
LOCATION:Court B Wolf Creek
BEGIN:VALARM
TRIGGER:-P2H
ACTION:DISPLAY
DESCRIPTION:Knicks  vs Cavs 
END:VALARM
END:VEVENT
BEGIN:VEVENT
UID:wolfcreek-591843@ygametime.com
DTSTAMP:20260411T150000Z
DTSTART;TZID=America/New_York:20260411T110000
DURATION:PT0H60M0S
SUMMARY:Grizzlies  vs Knicks 
DESCRIPTION:WC 7-8 | Winter 2 Basketball\nWolf Creek Ymca\n
URL;VALUE=URI:https://ygametime.com/branch/wolfcreek/sports/2026-winter-winter-2-basketball/25452/?utm_medium=calendar&utm_source=team_cal&utm_content=league_url#game-591843
LOCATION:Court B Wolf Creek
BEGIN:VALARM
TRIGGER:-P2H
ACTION:DISPLAY
DESCRIPTION:Grizzlies  vs Knicks 
END:VALARM
END:VEVENT
BEGIN:VEVENT
UID:wolfcreek-591846@ygametime.com
DTSTAMP:20260418T150000Z
DTSTART;TZID=America/New_York:20260418T110000
DURATION:PT0H60M0S
SUMMARY:Knicks  vs 76ers 
DESCRIPTION:WC 7-8 | Winter 2 Basketball\nWolf Creek Ymca\n
URL;VALUE=URI:https://ygametime.com/branch/wolfcreek/sports/2026-winter-winter-2-basketball/25452/?utm_medium=calendar&utm_source=team_cal&utm_content=league_url#game-591846
LOCATION:Court B Wolf Creek
BEGIN:VALARM
TRIGGER:-P2H
ACTION:DISPLAY
DESCRIPTION:Knicks  vs 76ers 
END:VALARM
END:VEVENT
BEGIN:VEVENT
UID:wolfcreek-591848@ygametime.com
DTSTAMP:20260425T140000Z
DTSTART;TZID=America/New_York:20260425T100000
DURATION:PT0H60M0S
SUMMARY:Knicks  vs Cavs 
DESCRIPTION:WC 7-8 | Winter 2 Basketball\nWolf Creek Ymca\n
URL;VALUE=URI:https://ygametime.com/branch/wolfcreek/sports/2026-winter-winter-2-basketball/25452/?utm_medium=calendar&utm_source=team_cal&utm_content=league_url#game-591848
LOCATION:Court B Wolf Creek
BEGIN:VALARM
TRIGGER:-P2H
ACTION:DISPLAY
DESCRIPTION:Knicks  vs Cavs 
END:VALARM
END:VEVENT
BEGIN:VEVENT
UID:wolfcreek-591834@ygametime.com
DTSTAMP:20260502T150000Z
DTSTART;TZID=America/New_York:20260502T110000
DURATION:PT0H60M0S
SUMMARY:Pacers  vs Knicks 
DESCRIPTION:WC 7-8 | Winter 2 Basketball\nWolf Creek Ymca\n
URL;VALUE=URI:https://ygametime.com/branch/wolfcreek/sports/2026-winter-winter-2-basketball/25452/?utm_medium=calendar&utm_source=team_cal&utm_content=league_url#game-591834
LOCATION:Court B Wolf Creek
BEGIN:VALARM
TRIGGER:-P2H
ACTION:DISPLAY
DESCRIPTION:Pacers  vs Knicks 
END:VALARM
END:VEVENT
END:VCALENDAR

