BEGIN:VCALENDAR
VERSION:2.0
PRODID:-//YGAMETIME.com//YGT iCal Creator//EN
METHOD:PUBLISH
X-PUBLISHED-TTL:PT6H
REFRESH-INTERVAL;VALUE=DURATION:PT6H
CALSCALE:GREGORIAN
X-WR-CALNAME:YGAMETIME CALENDAR
BEGIN:VEVENT
UID:ymcacnm-598682@ygametime.com
DTSTAMP:20260328T170000Z
DTSTART;TZID=America/Denver:20260328T110000
DURATION:PT0H60M0S
SUMMARY:Eagles vs Tigers
DESCRIPTION:6-7u | Basketball\nYMCA of Central New Mexico\nForfeit
URL;VALUE=URI:https://ygametime.com/branch/ymcacnm/sports/2026-spring-basketball/25853/?utm_medium=calendar&utm_source=team_cal&utm_content=league_url#game-598682
LOCATION: The Field House Basketball Court 1
BEGIN:VALARM
TRIGGER:-P2H
ACTION:DISPLAY
DESCRIPTION:Eagles vs Tigers
END:VALARM
END:VEVENT
END:VCALENDAR

