BEGIN:VCALENDAR
VERSION:2.0
PRODID:-//YGAMETIME.com//YGT iCal Creator//EN
METHOD:PUBLISH
X-PUBLISHED-TTL:PT6H
REFRESH-INTERVAL;VALUE=DURATION:PT6H
CALSCALE:GREGORIAN
X-WR-CALNAME:YGAMETIME CALENDAR
BEGIN:VEVENT
UID:ymcacnm-598683@ygametime.com
DTSTAMP:20260404T160000Z
DTSTART;TZID=America/Denver:20260404T100000
DURATION:PT0H60M0S
SUMMARY:Raptors vs Bolts
DESCRIPTION:6-7u | Basketball\nYMCA of Central New Mexico\n
URL;VALUE=URI:https://ygametime.com/branch/ymcacnm/sports/2026-spring-basketball/25853/?utm_medium=calendar&utm_source=team_cal&utm_content=league_url#game-598683
LOCATION: The Field House Basketball Court 1
BEGIN:VALARM
TRIGGER:-P2H
ACTION:DISPLAY
DESCRIPTION:Raptors vs Bolts
END:VALARM
END:VEVENT
BEGIN:VEVENT
UID:ymcacnm-598685@ygametime.com
DTSTAMP:20260411T160000Z
DTSTART;TZID=America/Denver:20260411T100000
DURATION:PT0H60M0S
SUMMARY:Bolts vs Eagles
DESCRIPTION:6-7u | Basketball\nYMCA of Central New Mexico\n
URL;VALUE=URI:https://ygametime.com/branch/ymcacnm/sports/2026-spring-basketball/25853/?utm_medium=calendar&utm_source=team_cal&utm_content=league_url#game-598685
LOCATION:Netherwood Park Church
BEGIN:VALARM
TRIGGER:-P2H
ACTION:DISPLAY
DESCRIPTION:Bolts vs Eagles
END:VALARM
END:VEVENT
BEGIN:VEVENT
UID:ymcacnm-598688@ygametime.com
DTSTAMP:20260418T170000Z
DTSTART;TZID=America/Denver:20260418T110000
DURATION:PT0H60M0S
SUMMARY:Bombers vs Bolts
DESCRIPTION:6-7u | Basketball\nYMCA of Central New Mexico\n
URL;VALUE=URI:https://ygametime.com/branch/ymcacnm/sports/2026-spring-basketball/25853/?utm_medium=calendar&utm_source=team_cal&utm_content=league_url#game-598688
LOCATION: The Field House Basketball Court 1
BEGIN:VALARM
TRIGGER:-P2H
ACTION:DISPLAY
DESCRIPTION:Bombers vs Bolts
END:VALARM
END:VEVENT
BEGIN:VEVENT
UID:ymcacnm-598690@ygametime.com
DTSTAMP:20260425T160000Z
DTSTART;TZID=America/Denver:20260425T100000
DURATION:PT0H60M0S
SUMMARY:Bolts vs Raptors
DESCRIPTION:6-7u | Basketball\nYMCA of Central New Mexico\n
URL;VALUE=URI:https://ygametime.com/branch/ymcacnm/sports/2026-spring-basketball/25853/?utm_medium=calendar&utm_source=team_cal&utm_content=league_url#game-598690
LOCATION: The Field House Basketball Court 1
BEGIN:VALARM
TRIGGER:-P2H
ACTION:DISPLAY
DESCRIPTION:Bolts vs Raptors
END:VALARM
END:VEVENT
BEGIN:VEVENT
UID:ymcacnm-598701@ygametime.com
DTSTAMP:20260425T180000Z
DTSTART;TZID=America/Denver:20260425T120000
DURATION:PT0H60M0S
SUMMARY:Eagles vs Bolts
DESCRIPTION:6-7u | Basketball\nYMCA of Central New Mexico\n
URL;VALUE=URI:https://ygametime.com/branch/ymcacnm/sports/2026-spring-basketball/25853/?utm_medium=calendar&utm_source=team_cal&utm_content=league_url#game-598701
LOCATION: The Field House Basketball Court 1
BEGIN:VALARM
TRIGGER:-P2H
ACTION:DISPLAY
DESCRIPTION:Eagles vs Bolts
END:VALARM
END:VEVENT
BEGIN:VEVENT
UID:ymcacnm-598694@ygametime.com
DTSTAMP:20260509T160000Z
DTSTART;TZID=America/Denver:20260509T100000
DURATION:PT0H60M0S
SUMMARY:Raptors vs Bolts
DESCRIPTION:6-7u | Basketball\nYMCA of Central New Mexico\n
URL;VALUE=URI:https://ygametime.com/branch/ymcacnm/sports/2026-spring-basketball/25853/?utm_medium=calendar&utm_source=team_cal&utm_content=league_url#game-598694
LOCATION: The Field House Basketball Court 1
BEGIN:VALARM
TRIGGER:-P2H
ACTION:DISPLAY
DESCRIPTION:Raptors vs Bolts
END:VALARM
END:VEVENT
BEGIN:VEVENT
UID:ymcacnm-598702@ygametime.com
DTSTAMP:20260509T180000Z
DTSTART;TZID=America/Denver:20260509T120000
DURATION:PT0H60M0S
SUMMARY:Bolts vs Bombers
DESCRIPTION:6-7u | Basketball\nYMCA of Central New Mexico\n
URL;VALUE=URI:https://ygametime.com/branch/ymcacnm/sports/2026-spring-basketball/25853/?utm_medium=calendar&utm_source=team_cal&utm_content=league_url#game-598702
LOCATION: The Field House Basketball Court 1
BEGIN:VALARM
TRIGGER:-P2H
ACTION:DISPLAY
DESCRIPTION:Bolts vs Bombers
END:VALARM
END:VEVENT
BEGIN:VEVENT
UID:ymcacnm-598696@ygametime.com
DTSTAMP:20260516T170000Z
DTSTART;TZID=America/Denver:20260516T110000
DURATION:PT0H60M0S
SUMMARY:Bolts vs Eagles
DESCRIPTION:6-7u | Basketball\nYMCA of Central New Mexico\n
URL;VALUE=URI:https://ygametime.com/branch/ymcacnm/sports/2026-spring-basketball/25853/?utm_medium=calendar&utm_source=team_cal&utm_content=league_url#game-598696
LOCATION: The Field House Basketball Court 1
BEGIN:VALARM
TRIGGER:-P2H
ACTION:DISPLAY
DESCRIPTION:Bolts vs Eagles
END:VALARM
END:VEVENT
BEGIN:VEVENT
UID:ymcacnm-598697@ygametime.com
DTSTAMP:20260523T160000Z
DTSTART;TZID=America/Denver:20260523T100000
DURATION:PT0H60M0S
SUMMARY:Bombers vs Bolts
DESCRIPTION:6-7u | Basketball\nYMCA of Central New Mexico\n
URL;VALUE=URI:https://ygametime.com/branch/ymcacnm/sports/2026-spring-basketball/25853/?utm_medium=calendar&utm_source=team_cal&utm_content=league_url#game-598697
LOCATION: The Field House Basketball Court 1
BEGIN:VALARM
TRIGGER:-P2H
ACTION:DISPLAY
DESCRIPTION:Bombers vs Bolts
END:VALARM
END:VEVENT
BEGIN:VEVENT
UID:ymcacnm-598699@ygametime.com
DTSTAMP:20260530T140000Z
DTSTART;TZID=America/Denver:20260530T080000
DURATION:PT0H60M0S
SUMMARY:Bolts vs Raptors
DESCRIPTION:6-7u | Basketball\nYMCA of Central New Mexico\n
URL;VALUE=URI:https://ygametime.com/branch/ymcacnm/sports/2026-spring-basketball/25853/?utm_medium=calendar&utm_source=team_cal&utm_content=league_url#game-598699
LOCATION: The Field House Basketball Court 1
BEGIN:VALARM
TRIGGER:-P2H
ACTION:DISPLAY
DESCRIPTION:Bolts vs Raptors
END:VALARM
END:VEVENT
END:VCALENDAR

