BEGIN:VCALENDAR
VERSION:2.0
PRODID:-//YGAMETIME.com//YGT iCal Creator//EN
METHOD:PUBLISH
X-PUBLISHED-TTL:PT6H
REFRESH-INTERVAL;VALUE=DURATION:PT6H
CALSCALE:GREGORIAN
X-WR-CALNAME:YGAMETIME CALENDAR
BEGIN:VEVENT
UID:ymcacnm-598682@ygametime.com
DTSTAMP:20260328T170000Z
DTSTART;TZID=America/Denver:20260328T110000
DURATION:PT0H60M0S
SUMMARY:Eagles vs Tigers
DESCRIPTION:6-7u | Basketball\nYMCA of Central New Mexico\nForfeit
URL;VALUE=URI:https://ygametime.com/branch/ymcacnm/sports/2026-spring-basketball/25853/?utm_medium=calendar&utm_source=team_cal&utm_content=league_url#game-598682
LOCATION: The Field House Basketball Court 1
BEGIN:VALARM
TRIGGER:-P2H
ACTION:DISPLAY
DESCRIPTION:Eagles vs Tigers
END:VALARM
END:VEVENT
BEGIN:VEVENT
UID:ymcacnm-598684@ygametime.com
DTSTAMP:20260404T170000Z
DTSTART;TZID=America/Denver:20260404T110000
DURATION:PT0H60M0S
SUMMARY:Bombers vs Eagles
DESCRIPTION:6-7u | Basketball\nYMCA of Central New Mexico\n
URL;VALUE=URI:https://ygametime.com/branch/ymcacnm/sports/2026-spring-basketball/25853/?utm_medium=calendar&utm_source=team_cal&utm_content=league_url#game-598684
LOCATION: The Field House Basketball Court 1
BEGIN:VALARM
TRIGGER:-P2H
ACTION:DISPLAY
DESCRIPTION:Bombers vs Eagles
END:VALARM
END:VEVENT
BEGIN:VEVENT
UID:ymcacnm-598685@ygametime.com
DTSTAMP:20260411T160000Z
DTSTART;TZID=America/Denver:20260411T100000
DURATION:PT0H60M0S
SUMMARY:Bolts vs Eagles
DESCRIPTION:6-7u | Basketball\nYMCA of Central New Mexico\n
URL;VALUE=URI:https://ygametime.com/branch/ymcacnm/sports/2026-spring-basketball/25853/?utm_medium=calendar&utm_source=team_cal&utm_content=league_url#game-598685
LOCATION:Netherwood Park Church
BEGIN:VALARM
TRIGGER:-P2H
ACTION:DISPLAY
DESCRIPTION:Bolts vs Eagles
END:VALARM
END:VEVENT
BEGIN:VEVENT
UID:ymcacnm-598687@ygametime.com
DTSTAMP:20260418T160000Z
DTSTART;TZID=America/Denver:20260418T100000
DURATION:PT0H60M0S
SUMMARY:Eagles vs Raptors
DESCRIPTION:6-7u | Basketball\nYMCA of Central New Mexico\n
URL;VALUE=URI:https://ygametime.com/branch/ymcacnm/sports/2026-spring-basketball/25853/?utm_medium=calendar&utm_source=team_cal&utm_content=league_url#game-598687
LOCATION: The Field House Basketball Court 1
BEGIN:VALARM
TRIGGER:-P2H
ACTION:DISPLAY
DESCRIPTION:Eagles vs Raptors
END:VALARM
END:VEVENT
BEGIN:VEVENT
UID:ymcacnm-598689@ygametime.com
DTSTAMP:20260425T170000Z
DTSTART;TZID=America/Denver:20260425T110000
DURATION:PT0H60M0S
SUMMARY:Eagles vs Bombers
DESCRIPTION:6-7u | Basketball\nYMCA of Central New Mexico\n
URL;VALUE=URI:https://ygametime.com/branch/ymcacnm/sports/2026-spring-basketball/25853/?utm_medium=calendar&utm_source=team_cal&utm_content=league_url#game-598689
LOCATION: The Field House Basketball Court 1
BEGIN:VALARM
TRIGGER:-P2H
ACTION:DISPLAY
DESCRIPTION:Eagles vs Bombers
END:VALARM
END:VEVENT
BEGIN:VEVENT
UID:ymcacnm-598701@ygametime.com
DTSTAMP:20260425T180000Z
DTSTART;TZID=America/Denver:20260425T120000
DURATION:PT0H60M0S
SUMMARY:Eagles vs Bolts
DESCRIPTION:6-7u | Basketball\nYMCA of Central New Mexico\n
URL;VALUE=URI:https://ygametime.com/branch/ymcacnm/sports/2026-spring-basketball/25853/?utm_medium=calendar&utm_source=team_cal&utm_content=league_url#game-598701
LOCATION: The Field House Basketball Court 1
BEGIN:VALARM
TRIGGER:-P2H
ACTION:DISPLAY
DESCRIPTION:Eagles vs Bolts
END:VALARM
END:VEVENT
BEGIN:VEVENT
UID:ymcacnm-598693@ygametime.com
DTSTAMP:20260509T170000Z
DTSTART;TZID=America/Denver:20260509T110000
DURATION:PT0H60M0S
SUMMARY:Bombers vs Eagles
DESCRIPTION:6-7u | Basketball\nYMCA of Central New Mexico\n
URL;VALUE=URI:https://ygametime.com/branch/ymcacnm/sports/2026-spring-basketball/25853/?utm_medium=calendar&utm_source=team_cal&utm_content=league_url#game-598693
LOCATION: The Field House Basketball Court 1
BEGIN:VALARM
TRIGGER:-P2H
ACTION:DISPLAY
DESCRIPTION:Bombers vs Eagles
END:VALARM
END:VEVENT
BEGIN:VEVENT
UID:ymcacnm-598696@ygametime.com
DTSTAMP:20260516T170000Z
DTSTART;TZID=America/Denver:20260516T110000
DURATION:PT0H60M0S
SUMMARY:Bolts vs Eagles
DESCRIPTION:6-7u | Basketball\nYMCA of Central New Mexico\n
URL;VALUE=URI:https://ygametime.com/branch/ymcacnm/sports/2026-spring-basketball/25853/?utm_medium=calendar&utm_source=team_cal&utm_content=league_url#game-598696
LOCATION: The Field House Basketball Court 1
BEGIN:VALARM
TRIGGER:-P2H
ACTION:DISPLAY
DESCRIPTION:Bolts vs Eagles
END:VALARM
END:VEVENT
BEGIN:VEVENT
UID:ymcacnm-598698@ygametime.com
DTSTAMP:20260523T170000Z
DTSTART;TZID=America/Denver:20260523T110000
DURATION:PT0H60M0S
SUMMARY:Eagles vs Raptors
DESCRIPTION:6-7u | Basketball\nYMCA of Central New Mexico\n
URL;VALUE=URI:https://ygametime.com/branch/ymcacnm/sports/2026-spring-basketball/25853/?utm_medium=calendar&utm_source=team_cal&utm_content=league_url#game-598698
LOCATION: The Field House Basketball Court 1
BEGIN:VALARM
TRIGGER:-P2H
ACTION:DISPLAY
DESCRIPTION:Eagles vs Raptors
END:VALARM
END:VEVENT
BEGIN:VEVENT
UID:ymcacnm-598700@ygametime.com
DTSTAMP:20260530T150000Z
DTSTART;TZID=America/Denver:20260530T090000
DURATION:PT0H60M0S
SUMMARY:Eagles vs Bombers
DESCRIPTION:6-7u | Basketball\nYMCA of Central New Mexico\n
URL;VALUE=URI:https://ygametime.com/branch/ymcacnm/sports/2026-spring-basketball/25853/?utm_medium=calendar&utm_source=team_cal&utm_content=league_url#game-598700
LOCATION: The Field House Basketball Court 1
BEGIN:VALARM
TRIGGER:-P2H
ACTION:DISPLAY
DESCRIPTION:Eagles vs Bombers
END:VALARM
END:VEVENT
END:VCALENDAR

