BEGIN:VCALENDAR
VERSION:2.0
PRODID:-//YGAMETIME.com//YGT iCal Creator//EN
METHOD:PUBLISH
X-PUBLISHED-TTL:PT6H
REFRESH-INTERVAL;VALUE=DURATION:PT6H
CALSCALE:GREGORIAN
X-WR-CALNAME:YGAMETIME CALENDAR
BEGIN:VEVENT
UID:ymcacnm-598666@ygametime.com
DTSTAMP:20260328T150000Z
DTSTART;TZID=America/Denver:20260328T090000
DURATION:PT0H60M0S
SUMMARY:Warriors vs Hawks
DESCRIPTION:8-9u | Basketball\nYMCA of Central New Mexico\n
URL;VALUE=URI:https://ygametime.com/branch/ymcacnm/sports/2026-spring-basketball/25857/?utm_medium=calendar&utm_source=team_cal&utm_content=league_url#game-598666
LOCATION: The Field House Basketball Court 1
BEGIN:VALARM
TRIGGER:-P2H
ACTION:DISPLAY
DESCRIPTION:Warriors vs Hawks
END:VALARM
END:VEVENT
BEGIN:VEVENT
UID:ymcacnm-598667@ygametime.com
DTSTAMP:20260404T140000Z
DTSTART;TZID=America/Denver:20260404T080000
DURATION:PT0H60M0S
SUMMARY:Hawks vs Kobe
DESCRIPTION:8-9u | Basketball\nYMCA of Central New Mexico\n
URL;VALUE=URI:https://ygametime.com/branch/ymcacnm/sports/2026-spring-basketball/25857/?utm_medium=calendar&utm_source=team_cal&utm_content=league_url#game-598667
LOCATION: The Field House Basketball Court 1
BEGIN:VALARM
TRIGGER:-P2H
ACTION:DISPLAY
DESCRIPTION:Hawks vs Kobe
END:VALARM
END:VEVENT
BEGIN:VEVENT
UID:ymcacnm-598669@ygametime.com
DTSTAMP:20260411T140000Z
DTSTART;TZID=America/Denver:20260411T080000
DURATION:PT0H60M0S
SUMMARY:Hawks vs Havoc
DESCRIPTION:8-9u | Basketball\nYMCA of Central New Mexico\n
URL;VALUE=URI:https://ygametime.com/branch/ymcacnm/sports/2026-spring-basketball/25857/?utm_medium=calendar&utm_source=team_cal&utm_content=league_url#game-598669
LOCATION:Netherwood Park Church
BEGIN:VALARM
TRIGGER:-P2H
ACTION:DISPLAY
DESCRIPTION:Hawks vs Havoc
END:VALARM
END:VEVENT
BEGIN:VEVENT
UID:ymcacnm-598671@ygametime.com
DTSTAMP:20260418T150000Z
DTSTART;TZID=America/Denver:20260418T090000
DURATION:PT0H60M0S
SUMMARY:Warriors vs Hawks
DESCRIPTION:8-9u | Basketball\nYMCA of Central New Mexico\n
URL;VALUE=URI:https://ygametime.com/branch/ymcacnm/sports/2026-spring-basketball/25857/?utm_medium=calendar&utm_source=team_cal&utm_content=league_url#game-598671
LOCATION: The Field House Basketball Court 1
BEGIN:VALARM
TRIGGER:-P2H
ACTION:DISPLAY
DESCRIPTION:Warriors vs Hawks
END:VALARM
END:VEVENT
BEGIN:VEVENT
UID:ymcacnm-598674@ygametime.com
DTSTAMP:20260425T150000Z
DTSTART;TZID=America/Denver:20260425T090000
DURATION:PT0H60M0S
SUMMARY:Hawks vs Kobe
DESCRIPTION:8-9u | Basketball\nYMCA of Central New Mexico\n
URL;VALUE=URI:https://ygametime.com/branch/ymcacnm/sports/2026-spring-basketball/25857/?utm_medium=calendar&utm_source=team_cal&utm_content=league_url#game-598674
LOCATION: The Field House Basketball Court 1
BEGIN:VALARM
TRIGGER:-P2H
ACTION:DISPLAY
DESCRIPTION:Hawks vs Kobe
END:VALARM
END:VEVENT
BEGIN:VEVENT
UID:ymcacnm-598678@ygametime.com
DTSTAMP:20260509T150000Z
DTSTART;TZID=America/Denver:20260509T090000
DURATION:PT0H60M0S
SUMMARY:Warriors vs Hawks
DESCRIPTION:8-9u | Basketball\nYMCA of Central New Mexico\n
URL;VALUE=URI:https://ygametime.com/branch/ymcacnm/sports/2026-spring-basketball/25857/?utm_medium=calendar&utm_source=team_cal&utm_content=league_url#game-598678
LOCATION: The Field House Basketball Court 1
BEGIN:VALARM
TRIGGER:-P2H
ACTION:DISPLAY
DESCRIPTION:Warriors vs Hawks
END:VALARM
END:VEVENT
BEGIN:VEVENT
UID:ymcacnm-598679@ygametime.com
DTSTAMP:20260516T140000Z
DTSTART;TZID=America/Denver:20260516T080000
DURATION:PT0H60M0S
SUMMARY:Hawks vs Kobe
DESCRIPTION:8-9u | Basketball\nYMCA of Central New Mexico\n
URL;VALUE=URI:https://ygametime.com/branch/ymcacnm/sports/2026-spring-basketball/25857/?utm_medium=calendar&utm_source=team_cal&utm_content=league_url#game-598679
LOCATION: The Field House Basketball Court 1
BEGIN:VALARM
TRIGGER:-P2H
ACTION:DISPLAY
DESCRIPTION:Hawks vs Kobe
END:VALARM
END:VEVENT
BEGIN:VEVENT
UID:ymcacnm-598676@ygametime.com
DTSTAMP:20260523T150000Z
DTSTART;TZID=America/Denver:20260523T090000
DURATION:PT0H60M0S
SUMMARY:Hawks vs Havoc
DESCRIPTION:8-9u | Basketball\nYMCA of Central New Mexico\n
URL;VALUE=URI:https://ygametime.com/branch/ymcacnm/sports/2026-spring-basketball/25857/?utm_medium=calendar&utm_source=team_cal&utm_content=league_url#game-598676
LOCATION: The Field House Basketball Court 1
BEGIN:VALARM
TRIGGER:-P2H
ACTION:DISPLAY
DESCRIPTION:Hawks vs Havoc
END:VALARM
END:VEVENT
END:VCALENDAR

