BEGIN:VCALENDAR
VERSION:2.0
PRODID:-//YGAMETIME.com//YGT iCal Creator//EN
METHOD:PUBLISH
X-PUBLISHED-TTL:PT6H
REFRESH-INTERVAL;VALUE=DURATION:PT6H
CALSCALE:GREGORIAN
X-WR-CALNAME:YGAMETIME CALENDAR
BEGIN:VEVENT
UID:ymcacnm-598666@ygametime.com
DTSTAMP:20260328T150000Z
DTSTART;TZID=America/Denver:20260328T090000
DURATION:PT0H60M0S
SUMMARY:Warriors vs Hawks
DESCRIPTION:8-9u | Basketball\nYMCA of Central New Mexico\n
URL;VALUE=URI:https://ygametime.com/branch/ymcacnm/sports/2026-spring-basketball/25857/?utm_medium=calendar&utm_source=team_cal&utm_content=league_url#game-598666
LOCATION: The Field House Basketball Court 1
BEGIN:VALARM
TRIGGER:-P2H
ACTION:DISPLAY
DESCRIPTION:Warriors vs Hawks
END:VALARM
END:VEVENT
BEGIN:VEVENT
UID:ymcacnm-598668@ygametime.com
DTSTAMP:20260404T150000Z
DTSTART;TZID=America/Denver:20260404T090000
DURATION:PT0H60M0S
SUMMARY:Havoc vs Warriors
DESCRIPTION:8-9u | Basketball\nYMCA of Central New Mexico\n
URL;VALUE=URI:https://ygametime.com/branch/ymcacnm/sports/2026-spring-basketball/25857/?utm_medium=calendar&utm_source=team_cal&utm_content=league_url#game-598668
LOCATION: The Field House Basketball Court 1
BEGIN:VALARM
TRIGGER:-P2H
ACTION:DISPLAY
DESCRIPTION:Havoc vs Warriors
END:VALARM
END:VEVENT
BEGIN:VEVENT
UID:ymcacnm-598670@ygametime.com
DTSTAMP:20260411T150000Z
DTSTART;TZID=America/Denver:20260411T090000
DURATION:PT0H60M0S
SUMMARY:Kobe vs Warriors
DESCRIPTION:8-9u | Basketball\nYMCA of Central New Mexico\n
URL;VALUE=URI:https://ygametime.com/branch/ymcacnm/sports/2026-spring-basketball/25857/?utm_medium=calendar&utm_source=team_cal&utm_content=league_url#game-598670
LOCATION:Netherwood Park Church
BEGIN:VALARM
TRIGGER:-P2H
ACTION:DISPLAY
DESCRIPTION:Kobe vs Warriors
END:VALARM
END:VEVENT
BEGIN:VEVENT
UID:ymcacnm-598671@ygametime.com
DTSTAMP:20260418T150000Z
DTSTART;TZID=America/Denver:20260418T090000
DURATION:PT0H60M0S
SUMMARY:Warriors vs Hawks
DESCRIPTION:8-9u | Basketball\nYMCA of Central New Mexico\n
URL;VALUE=URI:https://ygametime.com/branch/ymcacnm/sports/2026-spring-basketball/25857/?utm_medium=calendar&utm_source=team_cal&utm_content=league_url#game-598671
LOCATION: The Field House Basketball Court 1
BEGIN:VALARM
TRIGGER:-P2H
ACTION:DISPLAY
DESCRIPTION:Warriors vs Hawks
END:VALARM
END:VEVENT
BEGIN:VEVENT
UID:ymcacnm-598673@ygametime.com
DTSTAMP:20260425T140000Z
DTSTART;TZID=America/Denver:20260425T080000
DURATION:PT0H60M0S
SUMMARY:Havoc vs Warriors
DESCRIPTION:8-9u | Basketball\nYMCA of Central New Mexico\n
URL;VALUE=URI:https://ygametime.com/branch/ymcacnm/sports/2026-spring-basketball/25857/?utm_medium=calendar&utm_source=team_cal&utm_content=league_url#game-598673
LOCATION: The Field House Basketball Court 1
BEGIN:VALARM
TRIGGER:-P2H
ACTION:DISPLAY
DESCRIPTION:Havoc vs Warriors
END:VALARM
END:VEVENT
BEGIN:VEVENT
UID:ymcacnm-598678@ygametime.com
DTSTAMP:20260509T150000Z
DTSTART;TZID=America/Denver:20260509T090000
DURATION:PT0H60M0S
SUMMARY:Warriors vs Hawks
DESCRIPTION:8-9u | Basketball\nYMCA of Central New Mexico\n
URL;VALUE=URI:https://ygametime.com/branch/ymcacnm/sports/2026-spring-basketball/25857/?utm_medium=calendar&utm_source=team_cal&utm_content=league_url#game-598678
LOCATION: The Field House Basketball Court 1
BEGIN:VALARM
TRIGGER:-P2H
ACTION:DISPLAY
DESCRIPTION:Warriors vs Hawks
END:VALARM
END:VEVENT
BEGIN:VEVENT
UID:ymcacnm-598680@ygametime.com
DTSTAMP:20260516T150000Z
DTSTART;TZID=America/Denver:20260516T090000
DURATION:PT0H60M0S
SUMMARY:Havoc vs Warriors
DESCRIPTION:8-9u | Basketball\nYMCA of Central New Mexico\n
URL;VALUE=URI:https://ygametime.com/branch/ymcacnm/sports/2026-spring-basketball/25857/?utm_medium=calendar&utm_source=team_cal&utm_content=league_url#game-598680
LOCATION: The Field House Basketball Court 1
BEGIN:VALARM
TRIGGER:-P2H
ACTION:DISPLAY
DESCRIPTION:Havoc vs Warriors
END:VALARM
END:VEVENT
BEGIN:VEVENT
UID:ymcacnm-598675@ygametime.com
DTSTAMP:20260523T140000Z
DTSTART;TZID=America/Denver:20260523T080000
DURATION:PT0H60M0S
SUMMARY:Kobe vs Warriors
DESCRIPTION:8-9u | Basketball\nYMCA of Central New Mexico\n
URL;VALUE=URI:https://ygametime.com/branch/ymcacnm/sports/2026-spring-basketball/25857/?utm_medium=calendar&utm_source=team_cal&utm_content=league_url#game-598675
LOCATION: The Field House Basketball Court 1
BEGIN:VALARM
TRIGGER:-P2H
ACTION:DISPLAY
DESCRIPTION:Kobe vs Warriors
END:VALARM
END:VEVENT
END:VCALENDAR

