BEGIN:VCALENDAR
VERSION:2.0
PRODID:-//YGAMETIME.com//YGT iCal Creator//EN
METHOD:PUBLISH
X-PUBLISHED-TTL:PT6H
REFRESH-INTERVAL;VALUE=DURATION:PT6H
CALSCALE:GREGORIAN
X-WR-CALNAME:YGAMETIME CALENDAR
BEGIN:VEVENT
UID:ymcacnm-598703@ygametime.com
DTSTAMP:20260328T150000Z
DTSTART;TZID=America/Denver:20260328T090000
DURATION:PT0H60M0S
SUMMARY:Spartans vs Gladiators
DESCRIPTION:10-11u | Basketball\nYMCA of Central New Mexico\n
URL;VALUE=URI:https://ygametime.com/branch/ymcacnm/sports/2026-spring-basketball/25862/?utm_medium=calendar&utm_source=team_cal&utm_content=league_url#game-598703
LOCATION:The Field House Basketball Court 2 (Big Court)
BEGIN:VALARM
TRIGGER:-P2H
ACTION:DISPLAY
DESCRIPTION:Spartans vs Gladiators
END:VALARM
END:VEVENT
BEGIN:VEVENT
UID:ymcacnm-598708@ygametime.com
DTSTAMP:20260404T150000Z
DTSTART;TZID=America/Denver:20260404T090000
DURATION:PT0H60M0S
SUMMARY:Gladiators vs Falcons
DESCRIPTION:10-11u | Basketball\nYMCA of Central New Mexico\n
URL;VALUE=URI:https://ygametime.com/branch/ymcacnm/sports/2026-spring-basketball/25862/?utm_medium=calendar&utm_source=team_cal&utm_content=league_url#game-598708
LOCATION:The Field House Basketball Court 2 (Big Court)
BEGIN:VALARM
TRIGGER:-P2H
ACTION:DISPLAY
DESCRIPTION:Gladiators vs Falcons
END:VALARM
END:VEVENT
BEGIN:VEVENT
UID:ymcacnm-598712@ygametime.com
DTSTAMP:20260418T160000Z
DTSTART;TZID=America/Denver:20260418T100000
DURATION:PT0H60M0S
SUMMARY:Gladiators vs Thundercats
DESCRIPTION:10-11u | Basketball\nYMCA of Central New Mexico\n
URL;VALUE=URI:https://ygametime.com/branch/ymcacnm/sports/2026-spring-basketball/25862/?utm_medium=calendar&utm_source=team_cal&utm_content=league_url#game-598712
LOCATION:The Field House Basketball Court 2 (Big Court)
BEGIN:VALARM
TRIGGER:-P2H
ACTION:DISPLAY
DESCRIPTION:Gladiators vs Thundercats
END:VALARM
END:VEVENT
BEGIN:VEVENT
UID:ymcacnm-598716@ygametime.com
DTSTAMP:20260425T140000Z
DTSTART;TZID=America/Denver:20260425T080000
DURATION:PT0H60M0S
SUMMARY:Gladiators vs Falcons
DESCRIPTION:10-11u | Basketball\nYMCA of Central New Mexico\n
URL;VALUE=URI:https://ygametime.com/branch/ymcacnm/sports/2026-spring-basketball/25862/?utm_medium=calendar&utm_source=team_cal&utm_content=league_url#game-598716
LOCATION:The Field House Basketball Court 2 (Big Court)
BEGIN:VALARM
TRIGGER:-P2H
ACTION:DISPLAY
DESCRIPTION:Gladiators vs Falcons
END:VALARM
END:VEVENT
BEGIN:VEVENT
UID:ymcacnm-598717@ygametime.com
DTSTAMP:20260425T150000Z
DTSTART;TZID=America/Denver:20260425T090000
DURATION:PT0H60M0S
SUMMARY:Crushers vs Gladiators
DESCRIPTION:10-11u | Basketball\nYMCA of Central New Mexico\n
URL;VALUE=URI:https://ygametime.com/branch/ymcacnm/sports/2026-spring-basketball/25862/?utm_medium=calendar&utm_source=team_cal&utm_content=league_url#game-598717
LOCATION:The Field House Basketball Court 2 (Big Court)
BEGIN:VALARM
TRIGGER:-P2H
ACTION:DISPLAY
DESCRIPTION:Crushers vs Gladiators
END:VALARM
END:VEVENT
BEGIN:VEVENT
UID:ymcacnm-598721@ygametime.com
DTSTAMP:20260509T140000Z
DTSTART;TZID=America/Denver:20260509T080000
DURATION:PT0H60M0S
SUMMARY:Gladiators vs Falcons
DESCRIPTION:10-11u | Basketball\nYMCA of Central New Mexico\n
URL;VALUE=URI:https://ygametime.com/branch/ymcacnm/sports/2026-spring-basketball/25862/?utm_medium=calendar&utm_source=team_cal&utm_content=league_url#game-598721
LOCATION:The Field House Basketball Court 2 (Big Court)
BEGIN:VALARM
TRIGGER:-P2H
ACTION:DISPLAY
DESCRIPTION:Gladiators vs Falcons
END:VALARM
END:VEVENT
BEGIN:VEVENT
UID:ymcacnm-598710@ygametime.com
DTSTAMP:20260516T150000Z
DTSTART;TZID=America/Denver:20260516T090000
DURATION:PT0H60M0S
SUMMARY:Crushers vs Gladiators
DESCRIPTION:10-11u | Basketball\nYMCA of Central New Mexico\n
URL;VALUE=URI:https://ygametime.com/branch/ymcacnm/sports/2026-spring-basketball/25862/?utm_medium=calendar&utm_source=team_cal&utm_content=league_url#game-598710
LOCATION:The Field House Basketball Court 2 (Big Court)
BEGIN:VALARM
TRIGGER:-P2H
ACTION:DISPLAY
DESCRIPTION:Crushers vs Gladiators
END:VALARM
END:VEVENT
BEGIN:VEVENT
UID:ymcacnm-598719@ygametime.com
DTSTAMP:20260523T150000Z
DTSTART;TZID=America/Denver:20260523T090000
DURATION:PT0H60M0S
SUMMARY:Spartans vs Gladiators
DESCRIPTION:10-11u | Basketball\nYMCA of Central New Mexico\n
URL;VALUE=URI:https://ygametime.com/branch/ymcacnm/sports/2026-spring-basketball/25862/?utm_medium=calendar&utm_source=team_cal&utm_content=league_url#game-598719
LOCATION:The Field House Basketball Court 2 (Big Court)
BEGIN:VALARM
TRIGGER:-P2H
ACTION:DISPLAY
DESCRIPTION:Spartans vs Gladiators
END:VALARM
END:VEVENT
END:VCALENDAR

