BEGIN:VCALENDAR
VERSION:2.0
PRODID:-//YGAMETIME.com//YGT iCal Creator//EN
METHOD:PUBLISH
X-PUBLISHED-TTL:PT6H
REFRESH-INTERVAL;VALUE=DURATION:PT6H
CALSCALE:GREGORIAN
X-WR-CALNAME:YGAMETIME CALENDAR
BEGIN:VEVENT
UID:ymcacnm-598705@ygametime.com
DTSTAMP:20260328T160000Z
DTSTART;TZID=America/Denver:20260328T100000
DURATION:PT0H60M0S
SUMMARY:Thundercats vs Spartans
DESCRIPTION:10-11u | Basketball\nYMCA of Central New Mexico\n
URL;VALUE=URI:https://ygametime.com/branch/ymcacnm/sports/2026-spring-basketball/25862/?utm_medium=calendar&utm_source=team_cal&utm_content=league_url#game-598705
LOCATION:The Field House Basketball Court 2 (Big Court)
BEGIN:VALARM
TRIGGER:-P2H
ACTION:DISPLAY
DESCRIPTION:Thundercats vs Spartans
END:VALARM
END:VEVENT
BEGIN:VEVENT
UID:ymcacnm-598707@ygametime.com
DTSTAMP:20260404T160000Z
DTSTART;TZID=America/Denver:20260404T100000
DURATION:PT0H60M0S
SUMMARY:Crushers vs Thundercats
DESCRIPTION:10-11u | Basketball\nYMCA of Central New Mexico\nForfeit
URL;VALUE=URI:https://ygametime.com/branch/ymcacnm/sports/2026-spring-basketball/25862/?utm_medium=calendar&utm_source=team_cal&utm_content=league_url#game-598707
LOCATION:The Field House Basketball Court 2 (Big Court)
BEGIN:VALARM
TRIGGER:-P2H
ACTION:DISPLAY
DESCRIPTION:Crushers vs Thundercats
END:VALARM
END:VEVENT
BEGIN:VEVENT
UID:ymcacnm-598713@ygametime.com
DTSTAMP:20260418T150000Z
DTSTART;TZID=America/Denver:20260418T090000
DURATION:PT0H60M0S
SUMMARY:Crushers vs Thundercats
DESCRIPTION:10-11u | Basketball\nYMCA of Central New Mexico\n
URL;VALUE=URI:https://ygametime.com/branch/ymcacnm/sports/2026-spring-basketball/25862/?utm_medium=calendar&utm_source=team_cal&utm_content=league_url#game-598713
LOCATION:The Field House Basketball Court 2 (Big Court)
BEGIN:VALARM
TRIGGER:-P2H
ACTION:DISPLAY
DESCRIPTION:Crushers vs Thundercats
END:VALARM
END:VEVENT
BEGIN:VEVENT
UID:ymcacnm-598712@ygametime.com
DTSTAMP:20260418T160000Z
DTSTART;TZID=America/Denver:20260418T100000
DURATION:PT0H60M0S
SUMMARY:Gladiators vs Thundercats
DESCRIPTION:10-11u | Basketball\nYMCA of Central New Mexico\n
URL;VALUE=URI:https://ygametime.com/branch/ymcacnm/sports/2026-spring-basketball/25862/?utm_medium=calendar&utm_source=team_cal&utm_content=league_url#game-598712
LOCATION:The Field House Basketball Court 2 (Big Court)
BEGIN:VALARM
TRIGGER:-P2H
ACTION:DISPLAY
DESCRIPTION:Gladiators vs Thundercats
END:VALARM
END:VEVENT
BEGIN:VEVENT
UID:ymcacnm-598715@ygametime.com
DTSTAMP:20260425T160000Z
DTSTART;TZID=America/Denver:20260425T100000
DURATION:PT0H60M0S
SUMMARY:Spartans vs Thundercats
DESCRIPTION:10-11u | Basketball\nYMCA of Central New Mexico\n
URL;VALUE=URI:https://ygametime.com/branch/ymcacnm/sports/2026-spring-basketball/25862/?utm_medium=calendar&utm_source=team_cal&utm_content=league_url#game-598715
LOCATION:The Field House Basketball Court 2 (Big Court)
BEGIN:VALARM
TRIGGER:-P2H
ACTION:DISPLAY
DESCRIPTION:Spartans vs Thundercats
END:VALARM
END:VEVENT
BEGIN:VEVENT
UID:ymcacnm-598722@ygametime.com
DTSTAMP:20260509T150000Z
DTSTART;TZID=America/Denver:20260509T090000
DURATION:PT0H60M0S
SUMMARY:Crushers vs Thundercats
DESCRIPTION:10-11u | Basketball\nYMCA of Central New Mexico\n
URL;VALUE=URI:https://ygametime.com/branch/ymcacnm/sports/2026-spring-basketball/25862/?utm_medium=calendar&utm_source=team_cal&utm_content=league_url#game-598722
LOCATION:The Field House Basketball Court 2 (Big Court)
BEGIN:VALARM
TRIGGER:-P2H
ACTION:DISPLAY
DESCRIPTION:Crushers vs Thundercats
END:VALARM
END:VEVENT
BEGIN:VEVENT
UID:ymcacnm-598711@ygametime.com
DTSTAMP:20260516T160000Z
DTSTART;TZID=America/Denver:20260516T100000
DURATION:PT0H60M0S
SUMMARY:Thundercats vs Falcons
DESCRIPTION:10-11u | Basketball\nYMCA of Central New Mexico\n
URL;VALUE=URI:https://ygametime.com/branch/ymcacnm/sports/2026-spring-basketball/25862/?utm_medium=calendar&utm_source=team_cal&utm_content=league_url#game-598711
LOCATION:The Field House Basketball Court 2 (Big Court)
BEGIN:VALARM
TRIGGER:-P2H
ACTION:DISPLAY
DESCRIPTION:Thundercats vs Falcons
END:VALARM
END:VEVENT
BEGIN:VEVENT
UID:ymcacnm-598718@ygametime.com
DTSTAMP:20260523T160000Z
DTSTART;TZID=America/Denver:20260523T100000
DURATION:PT0H60M0S
SUMMARY:Thundercats vs Spartans
DESCRIPTION:10-11u | Basketball\nYMCA of Central New Mexico\n
URL;VALUE=URI:https://ygametime.com/branch/ymcacnm/sports/2026-spring-basketball/25862/?utm_medium=calendar&utm_source=team_cal&utm_content=league_url#game-598718
LOCATION:The Field House Basketball Court 2 (Big Court)
BEGIN:VALARM
TRIGGER:-P2H
ACTION:DISPLAY
DESCRIPTION:Thundercats vs Spartans
END:VALARM
END:VEVENT
END:VCALENDAR

