BEGIN:VCALENDAR
VERSION:2.0
PRODID:-//YGAMETIME.com//YGT iCal Creator//EN
METHOD:PUBLISH
X-PUBLISHED-TTL:PT6H
REFRESH-INTERVAL;VALUE=DURATION:PT6H
CALSCALE:GREGORIAN
X-WR-CALNAME:YGAMETIME CALENDAR
BEGIN:VEVENT
UID:ymcacnm-598703@ygametime.com
DTSTAMP:20260328T150000Z
DTSTART;TZID=America/Denver:20260328T090000
DURATION:PT0H60M0S
SUMMARY:Spartans vs Gladiators
DESCRIPTION:10-11u | Basketball\nYMCA of Central New Mexico\n
URL;VALUE=URI:https://ygametime.com/branch/ymcacnm/sports/2026-spring-basketball/25862/?utm_medium=calendar&utm_source=team_cal&utm_content=league_url#game-598703
LOCATION:The Field House Basketball Court 2 (Big Court)
BEGIN:VALARM
TRIGGER:-P2H
ACTION:DISPLAY
DESCRIPTION:Spartans vs Gladiators
END:VALARM
END:VEVENT
BEGIN:VEVENT
UID:ymcacnm-598705@ygametime.com
DTSTAMP:20260328T160000Z
DTSTART;TZID=America/Denver:20260328T100000
DURATION:PT0H60M0S
SUMMARY:Thundercats vs Spartans
DESCRIPTION:10-11u | Basketball\nYMCA of Central New Mexico\n
URL;VALUE=URI:https://ygametime.com/branch/ymcacnm/sports/2026-spring-basketball/25862/?utm_medium=calendar&utm_source=team_cal&utm_content=league_url#game-598705
LOCATION:The Field House Basketball Court 2 (Big Court)
BEGIN:VALARM
TRIGGER:-P2H
ACTION:DISPLAY
DESCRIPTION:Thundercats vs Spartans
END:VALARM
END:VEVENT
BEGIN:VEVENT
UID:ymcacnm-598706@ygametime.com
DTSTAMP:20260404T140000Z
DTSTART;TZID=America/Denver:20260404T080000
DURATION:PT0H60M0S
SUMMARY:Falcons vs Spartans
DESCRIPTION:10-11u | Basketball\nYMCA of Central New Mexico\n
URL;VALUE=URI:https://ygametime.com/branch/ymcacnm/sports/2026-spring-basketball/25862/?utm_medium=calendar&utm_source=team_cal&utm_content=league_url#game-598706
LOCATION:The Field House Basketball Court 2 (Big Court)
BEGIN:VALARM
TRIGGER:-P2H
ACTION:DISPLAY
DESCRIPTION:Falcons vs Spartans
END:VALARM
END:VEVENT
BEGIN:VEVENT
UID:ymcacnm-598714@ygametime.com
DTSTAMP:20260418T140000Z
DTSTART;TZID=America/Denver:20260418T080000
DURATION:PT0H60M0S
SUMMARY:Falcons vs Spartans
DESCRIPTION:10-11u | Basketball\nYMCA of Central New Mexico\n
URL;VALUE=URI:https://ygametime.com/branch/ymcacnm/sports/2026-spring-basketball/25862/?utm_medium=calendar&utm_source=team_cal&utm_content=league_url#game-598714
LOCATION:The Field House Basketball Court 2 (Big Court)
BEGIN:VALARM
TRIGGER:-P2H
ACTION:DISPLAY
DESCRIPTION:Falcons vs Spartans
END:VALARM
END:VEVENT
BEGIN:VEVENT
UID:ymcacnm-598715@ygametime.com
DTSTAMP:20260425T160000Z
DTSTART;TZID=America/Denver:20260425T100000
DURATION:PT0H60M0S
SUMMARY:Spartans vs Thundercats
DESCRIPTION:10-11u | Basketball\nYMCA of Central New Mexico\n
URL;VALUE=URI:https://ygametime.com/branch/ymcacnm/sports/2026-spring-basketball/25862/?utm_medium=calendar&utm_source=team_cal&utm_content=league_url#game-598715
LOCATION:The Field House Basketball Court 2 (Big Court)
BEGIN:VALARM
TRIGGER:-P2H
ACTION:DISPLAY
DESCRIPTION:Spartans vs Thundercats
END:VALARM
END:VEVENT
BEGIN:VEVENT
UID:ymcacnm-598709@ygametime.com
DTSTAMP:20260516T140000Z
DTSTART;TZID=America/Denver:20260516T080000
DURATION:PT0H60M0S
SUMMARY:Spartans vs Crushers
DESCRIPTION:10-11u | Basketball\nYMCA of Central New Mexico\n
URL;VALUE=URI:https://ygametime.com/branch/ymcacnm/sports/2026-spring-basketball/25862/?utm_medium=calendar&utm_source=team_cal&utm_content=league_url#game-598709
LOCATION:The Field House Basketball Court 2 (Big Court)
BEGIN:VALARM
TRIGGER:-P2H
ACTION:DISPLAY
DESCRIPTION:Spartans vs Crushers
END:VALARM
END:VEVENT
BEGIN:VEVENT
UID:ymcacnm-598719@ygametime.com
DTSTAMP:20260523T150000Z
DTSTART;TZID=America/Denver:20260523T090000
DURATION:PT0H60M0S
SUMMARY:Spartans vs Gladiators
DESCRIPTION:10-11u | Basketball\nYMCA of Central New Mexico\n
URL;VALUE=URI:https://ygametime.com/branch/ymcacnm/sports/2026-spring-basketball/25862/?utm_medium=calendar&utm_source=team_cal&utm_content=league_url#game-598719
LOCATION:The Field House Basketball Court 2 (Big Court)
BEGIN:VALARM
TRIGGER:-P2H
ACTION:DISPLAY
DESCRIPTION:Spartans vs Gladiators
END:VALARM
END:VEVENT
BEGIN:VEVENT
UID:ymcacnm-598718@ygametime.com
DTSTAMP:20260523T160000Z
DTSTART;TZID=America/Denver:20260523T100000
DURATION:PT0H60M0S
SUMMARY:Thundercats vs Spartans
DESCRIPTION:10-11u | Basketball\nYMCA of Central New Mexico\n
URL;VALUE=URI:https://ygametime.com/branch/ymcacnm/sports/2026-spring-basketball/25862/?utm_medium=calendar&utm_source=team_cal&utm_content=league_url#game-598718
LOCATION:The Field House Basketball Court 2 (Big Court)
BEGIN:VALARM
TRIGGER:-P2H
ACTION:DISPLAY
DESCRIPTION:Thundercats vs Spartans
END:VALARM
END:VEVENT
END:VCALENDAR

