BEGIN:VCALENDAR
VERSION:2.0
PRODID:-//YGAMETIME.com//YGT iCal Creator//EN
METHOD:PUBLISH
X-PUBLISHED-TTL:PT6H
REFRESH-INTERVAL;VALUE=DURATION:PT6H
CALSCALE:GREGORIAN
X-WR-CALNAME:YGAMETIME CALENDAR
BEGIN:VEVENT
UID:ymcacnm-599535@ygametime.com
DTSTAMP:20260328T170000Z
DTSTART;TZID=America/Denver:20260328T110000
DURATION:PT0H60M0S
SUMMARY:Venom vs Outlaws
DESCRIPTION:12-13u | Basketball\nYMCA of Central New Mexico\n
URL;VALUE=URI:https://ygametime.com/branch/ymcacnm/sports/2026-spring-basketball/25864/?utm_medium=calendar&utm_source=team_cal&utm_content=league_url#game-599535
LOCATION:The Field House Basketball Court 2 (Big Court)
BEGIN:VALARM
TRIGGER:-P2H
ACTION:DISPLAY
DESCRIPTION:Venom vs Outlaws
END:VALARM
END:VEVENT
BEGIN:VEVENT
UID:ymcacnm-599544@ygametime.com
DTSTAMP:20260418T170000Z
DTSTART;TZID=America/Denver:20260418T110000
DURATION:PT0H60M0S
SUMMARY:Outlaws vs Maulers
DESCRIPTION:12-13u | Basketball\nYMCA of Central New Mexico\n
URL;VALUE=URI:https://ygametime.com/branch/ymcacnm/sports/2026-spring-basketball/25864/?utm_medium=calendar&utm_source=team_cal&utm_content=league_url#game-599544
LOCATION:The Field House Basketball Court 2 (Big Court)
BEGIN:VALARM
TRIGGER:-P2H
ACTION:DISPLAY
DESCRIPTION:Outlaws vs Maulers
END:VALARM
END:VEVENT
BEGIN:VEVENT
UID:ymcacnm-599545@ygametime.com
DTSTAMP:20260418T180000Z
DTSTART;TZID=America/Denver:20260418T120000
DURATION:PT0H60M0S
SUMMARY:Venom vs Outlaws
DESCRIPTION:12-13u | Basketball\nYMCA of Central New Mexico\n
URL;VALUE=URI:https://ygametime.com/branch/ymcacnm/sports/2026-spring-basketball/25864/?utm_medium=calendar&utm_source=team_cal&utm_content=league_url#game-599545
LOCATION:The Field House Basketball Court 2 (Big Court)
BEGIN:VALARM
TRIGGER:-P2H
ACTION:DISPLAY
DESCRIPTION:Venom vs Outlaws
END:VALARM
END:VEVENT
BEGIN:VEVENT
UID:ymcacnm-599549@ygametime.com
DTSTAMP:20260425T180000Z
DTSTART;TZID=America/Denver:20260425T120000
DURATION:PT0H60M0S
SUMMARY:Kraken vs Outlaws
DESCRIPTION:12-13u | Basketball\nYMCA of Central New Mexico\n
URL;VALUE=URI:https://ygametime.com/branch/ymcacnm/sports/2026-spring-basketball/25864/?utm_medium=calendar&utm_source=team_cal&utm_content=league_url#game-599549
LOCATION:The Field House Basketball Court 2 (Big Court)
BEGIN:VALARM
TRIGGER:-P2H
ACTION:DISPLAY
DESCRIPTION:Kraken vs Outlaws
END:VALARM
END:VEVENT
BEGIN:VEVENT
UID:ymcacnm-599553@ygametime.com
DTSTAMP:20260509T190000Z
DTSTART;TZID=America/Denver:20260509T130000
DURATION:PT0H60M0S
SUMMARY:Outlaws vs Kraken
DESCRIPTION:12-13u | Basketball\nYMCA of Central New Mexico\n
URL;VALUE=URI:https://ygametime.com/branch/ymcacnm/sports/2026-spring-basketball/25864/?utm_medium=calendar&utm_source=team_cal&utm_content=league_url#game-599553
LOCATION:The Field House Basketball Court 2 (Big Court)
BEGIN:VALARM
TRIGGER:-P2H
ACTION:DISPLAY
DESCRIPTION:Outlaws vs Kraken
END:VALARM
END:VEVENT
BEGIN:VEVENT
UID:ymcacnm-599552@ygametime.com
DTSTAMP:20260516T170000Z
DTSTART;TZID=America/Denver:20260516T110000
DURATION:PT0H60M0S
SUMMARY:Venom vs Outlaws
DESCRIPTION:12-13u | Basketball\nYMCA of Central New Mexico\n
URL;VALUE=URI:https://ygametime.com/branch/ymcacnm/sports/2026-spring-basketball/25864/?utm_medium=calendar&utm_source=team_cal&utm_content=league_url#game-599552
LOCATION:The Field House Basketball Court 2 (Big Court)
BEGIN:VALARM
TRIGGER:-P2H
ACTION:DISPLAY
DESCRIPTION:Venom vs Outlaws
END:VALARM
END:VEVENT
BEGIN:VEVENT
UID:ymcacnm-599543@ygametime.com
DTSTAMP:20260523T170000Z
DTSTART;TZID=America/Denver:20260523T110000
DURATION:PT0H60M0S
SUMMARY:Kraken vs Outlaws
DESCRIPTION:12-13u | Basketball\nYMCA of Central New Mexico\n
URL;VALUE=URI:https://ygametime.com/branch/ymcacnm/sports/2026-spring-basketball/25864/?utm_medium=calendar&utm_source=team_cal&utm_content=league_url#game-599543
LOCATION:The Field House Basketball Court 2 (Big Court)
BEGIN:VALARM
TRIGGER:-P2H
ACTION:DISPLAY
DESCRIPTION:Kraken vs Outlaws
END:VALARM
END:VEVENT
BEGIN:VEVENT
UID:ymcacnm-599542@ygametime.com
DTSTAMP:20260523T190000Z
DTSTART;TZID=America/Denver:20260523T130000
DURATION:PT0H60M0S
SUMMARY:Rebels vs Outlaws
DESCRIPTION:12-13u | Basketball\nYMCA of Central New Mexico\n
URL;VALUE=URI:https://ygametime.com/branch/ymcacnm/sports/2026-spring-basketball/25864/?utm_medium=calendar&utm_source=team_cal&utm_content=league_url#game-599542
LOCATION:The Field House Basketball Court 2 (Big Court)
BEGIN:VALARM
TRIGGER:-P2H
ACTION:DISPLAY
DESCRIPTION:Rebels vs Outlaws
END:VALARM
END:VEVENT
END:VCALENDAR

