BEGIN:VCALENDAR
VERSION:2.0
PRODID:-//YGAMETIME.com//YGT iCal Creator//EN
METHOD:PUBLISH
X-PUBLISHED-TTL:PT6H
REFRESH-INTERVAL;VALUE=DURATION:PT6H
CALSCALE:GREGORIAN
X-WR-CALNAME:YGAMETIME CALENDAR
BEGIN:VEVENT
UID:ymcacnm-599537@ygametime.com
DTSTAMP:20260328T190000Z
DTSTART;TZID=America/Denver:20260328T130000
DURATION:PT0H60M0S
SUMMARY:Maulers vs Rebels
DESCRIPTION:12-13u | Basketball\nYMCA of Central New Mexico\n
URL;VALUE=URI:https://ygametime.com/branch/ymcacnm/sports/2026-spring-basketball/25864/?utm_medium=calendar&utm_source=team_cal&utm_content=league_url#game-599537
LOCATION:The Field House Basketball Court 2 (Big Court)
BEGIN:VALARM
TRIGGER:-P2H
ACTION:DISPLAY
DESCRIPTION:Maulers vs Rebels
END:VALARM
END:VEVENT
BEGIN:VEVENT
UID:ymcacnm-599538@ygametime.com
DTSTAMP:20260404T170000Z
DTSTART;TZID=America/Denver:20260404T110000
DURATION:PT0H60M0S
SUMMARY:Venom vs Maulers
DESCRIPTION:12-13u | Basketball\nYMCA of Central New Mexico\n
URL;VALUE=URI:https://ygametime.com/branch/ymcacnm/sports/2026-spring-basketball/25864/?utm_medium=calendar&utm_source=team_cal&utm_content=league_url#game-599538
LOCATION:The Field House Basketball Court 2 (Big Court)
BEGIN:VALARM
TRIGGER:-P2H
ACTION:DISPLAY
DESCRIPTION:Venom vs Maulers
END:VALARM
END:VEVENT
BEGIN:VEVENT
UID:ymcacnm-599539@ygametime.com
DTSTAMP:20260404T180000Z
DTSTART;TZID=America/Denver:20260404T120000
DURATION:PT0H60M0S
SUMMARY:Rebels vs Maulers
DESCRIPTION:12-13u | Basketball\nYMCA of Central New Mexico\n
URL;VALUE=URI:https://ygametime.com/branch/ymcacnm/sports/2026-spring-basketball/25864/?utm_medium=calendar&utm_source=team_cal&utm_content=league_url#game-599539
LOCATION:The Field House Basketball Court 2 (Big Court)
BEGIN:VALARM
TRIGGER:-P2H
ACTION:DISPLAY
DESCRIPTION:Rebels vs Maulers
END:VALARM
END:VEVENT
BEGIN:VEVENT
UID:ymcacnm-599544@ygametime.com
DTSTAMP:20260418T170000Z
DTSTART;TZID=America/Denver:20260418T110000
DURATION:PT0H60M0S
SUMMARY:Outlaws vs Maulers
DESCRIPTION:12-13u | Basketball\nYMCA of Central New Mexico\n
URL;VALUE=URI:https://ygametime.com/branch/ymcacnm/sports/2026-spring-basketball/25864/?utm_medium=calendar&utm_source=team_cal&utm_content=league_url#game-599544
LOCATION:The Field House Basketball Court 2 (Big Court)
BEGIN:VALARM
TRIGGER:-P2H
ACTION:DISPLAY
DESCRIPTION:Outlaws vs Maulers
END:VALARM
END:VEVENT
BEGIN:VEVENT
UID:ymcacnm-599554@ygametime.com
DTSTAMP:20260509T170000Z
DTSTART;TZID=America/Denver:20260509T110000
DURATION:PT0H60M0S
SUMMARY:Rebels vs Maulers
DESCRIPTION:12-13u | Basketball\nYMCA of Central New Mexico\n
URL;VALUE=URI:https://ygametime.com/branch/ymcacnm/sports/2026-spring-basketball/25864/?utm_medium=calendar&utm_source=team_cal&utm_content=league_url#game-599554
LOCATION:The Field House Basketball Court 2 (Big Court)
BEGIN:VALARM
TRIGGER:-P2H
ACTION:DISPLAY
DESCRIPTION:Rebels vs Maulers
END:VALARM
END:VEVENT
BEGIN:VEVENT
UID:ymcacnm-599555@ygametime.com
DTSTAMP:20260509T180000Z
DTSTART;TZID=America/Denver:20260509T120000
DURATION:PT0H60M0S
SUMMARY:Maulers vs Kraken
DESCRIPTION:12-13u | Basketball\nYMCA of Central New Mexico\n
URL;VALUE=URI:https://ygametime.com/branch/ymcacnm/sports/2026-spring-basketball/25864/?utm_medium=calendar&utm_source=team_cal&utm_content=league_url#game-599555
LOCATION:The Field House Basketball Court 2 (Big Court)
BEGIN:VALARM
TRIGGER:-P2H
ACTION:DISPLAY
DESCRIPTION:Maulers vs Kraken
END:VALARM
END:VEVENT
BEGIN:VEVENT
UID:ymcacnm-599551@ygametime.com
DTSTAMP:20260516T180000Z
DTSTART;TZID=America/Denver:20260516T120000
DURATION:PT0H60M0S
SUMMARY:Maulers vs Venom
DESCRIPTION:12-13u | Basketball\nYMCA of Central New Mexico\n
URL;VALUE=URI:https://ygametime.com/branch/ymcacnm/sports/2026-spring-basketball/25864/?utm_medium=calendar&utm_source=team_cal&utm_content=league_url#game-599551
LOCATION:The Field House Basketball Court 2 (Big Court)
BEGIN:VALARM
TRIGGER:-P2H
ACTION:DISPLAY
DESCRIPTION:Maulers vs Venom
END:VALARM
END:VEVENT
BEGIN:VEVENT
UID:ymcacnm-599550@ygametime.com
DTSTAMP:20260516T190000Z
DTSTART;TZID=America/Denver:20260516T130000
DURATION:PT0H60M0S
SUMMARY:Maulers vs Kraken
DESCRIPTION:12-13u | Basketball\nYMCA of Central New Mexico\n
URL;VALUE=URI:https://ygametime.com/branch/ymcacnm/sports/2026-spring-basketball/25864/?utm_medium=calendar&utm_source=team_cal&utm_content=league_url#game-599550
LOCATION:The Field House Basketball Court 2 (Big Court)
BEGIN:VALARM
TRIGGER:-P2H
ACTION:DISPLAY
DESCRIPTION:Maulers vs Kraken
END:VALARM
END:VEVENT
END:VCALENDAR

