BEGIN:VCALENDAR
VERSION:2.0
PRODID:-//YGAMETIME.com//YGT iCal Creator//EN
METHOD:PUBLISH
X-PUBLISHED-TTL:PT6H
REFRESH-INTERVAL;VALUE=DURATION:PT6H
CALSCALE:GREGORIAN
X-WR-CALNAME:YGAMETIME CALENDAR
BEGIN:VEVENT
UID:ymcacnm-599535@ygametime.com
DTSTAMP:20260328T170000Z
DTSTART;TZID=America/Denver:20260328T110000
DURATION:PT0H60M0S
SUMMARY:Venom vs Outlaws
DESCRIPTION:12-13u | Basketball\nYMCA of Central New Mexico\n
URL;VALUE=URI:https://ygametime.com/branch/ymcacnm/sports/2026-spring-basketball/25864/?utm_medium=calendar&utm_source=team_cal&utm_content=league_url#game-599535
LOCATION:The Field House Basketball Court 2 (Big Court)
BEGIN:VALARM
TRIGGER:-P2H
ACTION:DISPLAY
DESCRIPTION:Venom vs Outlaws
END:VALARM
END:VEVENT
BEGIN:VEVENT
UID:ymcacnm-599536@ygametime.com
DTSTAMP:20260328T180000Z
DTSTART;TZID=America/Denver:20260328T120000
DURATION:PT0H60M0S
SUMMARY:Venom vs Rebels
DESCRIPTION:12-13u | Basketball\nYMCA of Central New Mexico\n
URL;VALUE=URI:https://ygametime.com/branch/ymcacnm/sports/2026-spring-basketball/25864/?utm_medium=calendar&utm_source=team_cal&utm_content=league_url#game-599536
LOCATION:The Field House Basketball Court 2 (Big Court)
BEGIN:VALARM
TRIGGER:-P2H
ACTION:DISPLAY
DESCRIPTION:Venom vs Rebels
END:VALARM
END:VEVENT
BEGIN:VEVENT
UID:ymcacnm-599538@ygametime.com
DTSTAMP:20260404T170000Z
DTSTART;TZID=America/Denver:20260404T110000
DURATION:PT0H60M0S
SUMMARY:Venom vs Maulers
DESCRIPTION:12-13u | Basketball\nYMCA of Central New Mexico\n
URL;VALUE=URI:https://ygametime.com/branch/ymcacnm/sports/2026-spring-basketball/25864/?utm_medium=calendar&utm_source=team_cal&utm_content=league_url#game-599538
LOCATION:The Field House Basketball Court 2 (Big Court)
BEGIN:VALARM
TRIGGER:-P2H
ACTION:DISPLAY
DESCRIPTION:Venom vs Maulers
END:VALARM
END:VEVENT
BEGIN:VEVENT
UID:ymcacnm-599540@ygametime.com
DTSTAMP:20260404T190000Z
DTSTART;TZID=America/Denver:20260404T130000
DURATION:PT0H60M0S
SUMMARY:Kraken vs Venom
DESCRIPTION:12-13u | Basketball\nYMCA of Central New Mexico\n
URL;VALUE=URI:https://ygametime.com/branch/ymcacnm/sports/2026-spring-basketball/25864/?utm_medium=calendar&utm_source=team_cal&utm_content=league_url#game-599540
LOCATION:The Field House Basketball Court 2 (Big Court)
BEGIN:VALARM
TRIGGER:-P2H
ACTION:DISPLAY
DESCRIPTION:Kraken vs Venom
END:VALARM
END:VEVENT
BEGIN:VEVENT
UID:ymcacnm-599545@ygametime.com
DTSTAMP:20260418T180000Z
DTSTART;TZID=America/Denver:20260418T120000
DURATION:PT0H60M0S
SUMMARY:Venom vs Outlaws
DESCRIPTION:12-13u | Basketball\nYMCA of Central New Mexico\n
URL;VALUE=URI:https://ygametime.com/branch/ymcacnm/sports/2026-spring-basketball/25864/?utm_medium=calendar&utm_source=team_cal&utm_content=league_url#game-599545
LOCATION:The Field House Basketball Court 2 (Big Court)
BEGIN:VALARM
TRIGGER:-P2H
ACTION:DISPLAY
DESCRIPTION:Venom vs Outlaws
END:VALARM
END:VEVENT
BEGIN:VEVENT
UID:ymcacnm-599548@ygametime.com
DTSTAMP:20260425T170000Z
DTSTART;TZID=America/Denver:20260425T110000
DURATION:PT0H60M0S
SUMMARY:Rebels vs Venom
DESCRIPTION:12-13u | Basketball\nYMCA of Central New Mexico\n
URL;VALUE=URI:https://ygametime.com/branch/ymcacnm/sports/2026-spring-basketball/25864/?utm_medium=calendar&utm_source=team_cal&utm_content=league_url#game-599548
LOCATION:The Field House Basketball Court 2 (Big Court)
BEGIN:VALARM
TRIGGER:-P2H
ACTION:DISPLAY
DESCRIPTION:Rebels vs Venom
END:VALARM
END:VEVENT
BEGIN:VEVENT
UID:ymcacnm-599552@ygametime.com
DTSTAMP:20260516T170000Z
DTSTART;TZID=America/Denver:20260516T110000
DURATION:PT0H60M0S
SUMMARY:Venom vs Outlaws
DESCRIPTION:12-13u | Basketball\nYMCA of Central New Mexico\n
URL;VALUE=URI:https://ygametime.com/branch/ymcacnm/sports/2026-spring-basketball/25864/?utm_medium=calendar&utm_source=team_cal&utm_content=league_url#game-599552
LOCATION:The Field House Basketball Court 2 (Big Court)
BEGIN:VALARM
TRIGGER:-P2H
ACTION:DISPLAY
DESCRIPTION:Venom vs Outlaws
END:VALARM
END:VEVENT
BEGIN:VEVENT
UID:ymcacnm-599551@ygametime.com
DTSTAMP:20260516T180000Z
DTSTART;TZID=America/Denver:20260516T120000
DURATION:PT0H60M0S
SUMMARY:Maulers vs Venom
DESCRIPTION:12-13u | Basketball\nYMCA of Central New Mexico\n
URL;VALUE=URI:https://ygametime.com/branch/ymcacnm/sports/2026-spring-basketball/25864/?utm_medium=calendar&utm_source=team_cal&utm_content=league_url#game-599551
LOCATION:The Field House Basketball Court 2 (Big Court)
BEGIN:VALARM
TRIGGER:-P2H
ACTION:DISPLAY
DESCRIPTION:Maulers vs Venom
END:VALARM
END:VEVENT
END:VCALENDAR

