BEGIN:VCALENDAR
VERSION:2.0
PRODID:-//YGAMETIME.com//YGT iCal Creator//EN
METHOD:PUBLISH
X-PUBLISHED-TTL:PT6H
REFRESH-INTERVAL;VALUE=DURATION:PT6H
CALSCALE:GREGORIAN
X-WR-CALNAME:YGAMETIME CALENDAR
BEGIN:VEVENT
UID:ymcacnm-599556@ygametime.com
DTSTAMP:20260328T140000Z
DTSTART;TZID=America/Denver:20260328T080000
DURATION:PT0H60M0S
SUMMARY:Spike Stars vs Sugar & Spikes
DESCRIPTION:8-10u | Volleyball\nYMCA of Central New Mexico\n
URL;VALUE=URI:https://ygametime.com/branch/ymcacnm/sports/2026-spring-volleyball/25882/?utm_medium=calendar&utm_source=team_cal&utm_content=league_url#game-599556
LOCATION:The Field House Volleyball Court 1
BEGIN:VALARM
TRIGGER:-P2H
ACTION:DISPLAY
DESCRIPTION:Spike Stars vs Sugar & Spikes
END:VALARM
END:VEVENT
BEGIN:VEVENT
UID:ymcacnm-599581@ygametime.com
DTSTAMP:20260328T150000Z
DTSTART;TZID=America/Denver:20260328T090000
DURATION:PT0H60M0S
SUMMARY:Red Ravens vs Sugar & Spikes
DESCRIPTION:8-10u | Volleyball\nYMCA of Central New Mexico\n
URL;VALUE=URI:https://ygametime.com/branch/ymcacnm/sports/2026-spring-volleyball/25882/?utm_medium=calendar&utm_source=team_cal&utm_content=league_url#game-599581
LOCATION:The Field House Volleyball Court 1
BEGIN:VALARM
TRIGGER:-P2H
ACTION:DISPLAY
DESCRIPTION:Red Ravens vs Sugar & Spikes
END:VALARM
END:VEVENT
BEGIN:VEVENT
UID:ymcacnm-599561@ygametime.com
DTSTAMP:20260404T160000Z
DTSTART;TZID=America/Denver:20260404T100000
DURATION:PT0H60M0S
SUMMARY:Sugar & Spikes vs Set Crushers
DESCRIPTION:8-10u | Volleyball\nYMCA of Central New Mexico\n
URL;VALUE=URI:https://ygametime.com/branch/ymcacnm/sports/2026-spring-volleyball/25882/?utm_medium=calendar&utm_source=team_cal&utm_content=league_url#game-599561
LOCATION:The Field House Volleyball Court 1
BEGIN:VALARM
TRIGGER:-P2H
ACTION:DISPLAY
DESCRIPTION:Sugar & Spikes vs Set Crushers
END:VALARM
END:VEVENT
BEGIN:VEVENT
UID:ymcacnm-599565@ygametime.com
DTSTAMP:20260418T140000Z
DTSTART;TZID=America/Denver:20260418T080000
DURATION:PT0H60M0S
SUMMARY:Sugar & Spikes vs Court Commanders
DESCRIPTION:8-10u | Volleyball\nYMCA of Central New Mexico\n
URL;VALUE=URI:https://ygametime.com/branch/ymcacnm/sports/2026-spring-volleyball/25882/?utm_medium=calendar&utm_source=team_cal&utm_content=league_url#game-599565
LOCATION:The Field House Volleyball Court 1
BEGIN:VALARM
TRIGGER:-P2H
ACTION:DISPLAY
DESCRIPTION:Sugar & Spikes vs Court Commanders
END:VALARM
END:VEVENT
BEGIN:VEVENT
UID:ymcacnm-599570@ygametime.com
DTSTAMP:20260425T160000Z
DTSTART;TZID=America/Denver:20260425T100000
DURATION:PT0H60M0S
SUMMARY:Pizza Hut vs Sugar & Spikes
DESCRIPTION:8-10u | Volleyball\nYMCA of Central New Mexico\n
URL;VALUE=URI:https://ygametime.com/branch/ymcacnm/sports/2026-spring-volleyball/25882/?utm_medium=calendar&utm_source=team_cal&utm_content=league_url#game-599570
LOCATION:The Field House Volleyball Court 1
BEGIN:VALARM
TRIGGER:-P2H
ACTION:DISPLAY
DESCRIPTION:Pizza Hut vs Sugar & Spikes
END:VALARM
END:VEVENT
BEGIN:VEVENT
UID:ymcacnm-599574@ygametime.com
DTSTAMP:20260509T140000Z
DTSTART;TZID=America/Denver:20260509T080000
DURATION:PT0H60M0S
SUMMARY:Sugar & Spikes vs Set Crushers
DESCRIPTION:8-10u | Volleyball\nYMCA of Central New Mexico\n
URL;VALUE=URI:https://ygametime.com/branch/ymcacnm/sports/2026-spring-volleyball/25882/?utm_medium=calendar&utm_source=team_cal&utm_content=league_url#game-599574
LOCATION:The Field House Volleyball Court 1
BEGIN:VALARM
TRIGGER:-P2H
ACTION:DISPLAY
DESCRIPTION:Sugar & Spikes vs Set Crushers
END:VALARM
END:VEVENT
BEGIN:VEVENT
UID:ymcacnm-599579@ygametime.com
DTSTAMP:20260516T160000Z
DTSTART;TZID=America/Denver:20260516T100000
DURATION:PT0H60M0S
SUMMARY:Red Ravens vs Sugar & Spikes
DESCRIPTION:8-10u | Volleyball\nYMCA of Central New Mexico\n
URL;VALUE=URI:https://ygametime.com/branch/ymcacnm/sports/2026-spring-volleyball/25882/?utm_medium=calendar&utm_source=team_cal&utm_content=league_url#game-599579
LOCATION:The Field House Volleyball Court 1
BEGIN:VALARM
TRIGGER:-P2H
ACTION:DISPLAY
DESCRIPTION:Red Ravens vs Sugar & Spikes
END:VALARM
END:VEVENT
BEGIN:VEVENT
UID:ymcacnm-599585@ygametime.com
DTSTAMP:20260516T170000Z
DTSTART;TZID=America/Denver:20260516T110000
DURATION:PT0H60M0S
SUMMARY:Spike Stars vs Sugar & Spikes
DESCRIPTION:8-10u | Volleyball\nYMCA of Central New Mexico\n
URL;VALUE=URI:https://ygametime.com/branch/ymcacnm/sports/2026-spring-volleyball/25882/?utm_medium=calendar&utm_source=team_cal&utm_content=league_url#game-599585
LOCATION:The Field House Volleyball Court 1
BEGIN:VALARM
TRIGGER:-P2H
ACTION:DISPLAY
DESCRIPTION:Spike Stars vs Sugar & Spikes
END:VALARM
END:VEVENT
END:VCALENDAR

