BEGIN:VCALENDAR
VERSION:2.0
PRODID:-//YGAMETIME.com//YGT iCal Creator//EN
METHOD:PUBLISH
X-PUBLISHED-TTL:PT6H
REFRESH-INTERVAL;VALUE=DURATION:PT6H
CALSCALE:GREGORIAN
X-WR-CALNAME:YGAMETIME CALENDAR
BEGIN:VEVENT
UID:ymcacnm-599558@ygametime.com
DTSTAMP:20260328T160000Z
DTSTART;TZID=America/Denver:20260328T100000
DURATION:PT0H60M0S
SUMMARY:Court Commanders vs Red Ravens
DESCRIPTION:8-10u | Volleyball\nYMCA of Central New Mexico\n
URL;VALUE=URI:https://ygametime.com/branch/ymcacnm/sports/2026-spring-volleyball/25882/?utm_medium=calendar&utm_source=team_cal&utm_content=league_url#game-599558
LOCATION:The Field House Volleyball Court 1
BEGIN:VALARM
TRIGGER:-P2H
ACTION:DISPLAY
DESCRIPTION:Court Commanders vs Red Ravens
END:VALARM
END:VEVENT
BEGIN:VEVENT
UID:ymcacnm-599560@ygametime.com
DTSTAMP:20260404T150000Z
DTSTART;TZID=America/Denver:20260404T090000
DURATION:PT0H60M0S
SUMMARY:Pizza Hut vs Court Commanders
DESCRIPTION:8-10u | Volleyball\nYMCA of Central New Mexico\n
URL;VALUE=URI:https://ygametime.com/branch/ymcacnm/sports/2026-spring-volleyball/25882/?utm_medium=calendar&utm_source=team_cal&utm_content=league_url#game-599560
LOCATION:The Field House Volleyball Court 1
BEGIN:VALARM
TRIGGER:-P2H
ACTION:DISPLAY
DESCRIPTION:Pizza Hut vs Court Commanders
END:VALARM
END:VEVENT
BEGIN:VEVENT
UID:ymcacnm-599580@ygametime.com
DTSTAMP:20260404T170000Z
DTSTART;TZID=America/Denver:20260404T110000
DURATION:PT0H60M0S
SUMMARY:Court Commanders vs Set Crushers
DESCRIPTION:8-10u | Volleyball\nYMCA of Central New Mexico\n
URL;VALUE=URI:https://ygametime.com/branch/ymcacnm/sports/2026-spring-volleyball/25882/?utm_medium=calendar&utm_source=team_cal&utm_content=league_url#game-599580
LOCATION:The Field House Volleyball Court 1
BEGIN:VALARM
TRIGGER:-P2H
ACTION:DISPLAY
DESCRIPTION:Court Commanders vs Set Crushers
END:VALARM
END:VEVENT
BEGIN:VEVENT
UID:ymcacnm-599565@ygametime.com
DTSTAMP:20260418T140000Z
DTSTART;TZID=America/Denver:20260418T080000
DURATION:PT0H60M0S
SUMMARY:Sugar & Spikes vs Court Commanders
DESCRIPTION:8-10u | Volleyball\nYMCA of Central New Mexico\n
URL;VALUE=URI:https://ygametime.com/branch/ymcacnm/sports/2026-spring-volleyball/25882/?utm_medium=calendar&utm_source=team_cal&utm_content=league_url#game-599565
LOCATION:The Field House Volleyball Court 1
BEGIN:VALARM
TRIGGER:-P2H
ACTION:DISPLAY
DESCRIPTION:Sugar & Spikes vs Court Commanders
END:VALARM
END:VEVENT
BEGIN:VEVENT
UID:ymcacnm-599568@ygametime.com
DTSTAMP:20260425T140000Z
DTSTART;TZID=America/Denver:20260425T080000
DURATION:PT0H60M0S
SUMMARY:Spike Stars vs Court Commanders
DESCRIPTION:8-10u | Volleyball\nYMCA of Central New Mexico\n
URL;VALUE=URI:https://ygametime.com/branch/ymcacnm/sports/2026-spring-volleyball/25882/?utm_medium=calendar&utm_source=team_cal&utm_content=league_url#game-599568
LOCATION:The Field House Volleyball Court 1
BEGIN:VALARM
TRIGGER:-P2H
ACTION:DISPLAY
DESCRIPTION:Spike Stars vs Court Commanders
END:VALARM
END:VEVENT
BEGIN:VEVENT
UID:ymcacnm-599576@ygametime.com
DTSTAMP:20260509T160000Z
DTSTART;TZID=America/Denver:20260509T100000
DURATION:PT0H60M0S
SUMMARY:Pizza Hut vs Court Commanders
DESCRIPTION:8-10u | Volleyball\nYMCA of Central New Mexico\n
URL;VALUE=URI:https://ygametime.com/branch/ymcacnm/sports/2026-spring-volleyball/25882/?utm_medium=calendar&utm_source=team_cal&utm_content=league_url#game-599576
LOCATION:The Field House Volleyball Court 1
BEGIN:VALARM
TRIGGER:-P2H
ACTION:DISPLAY
DESCRIPTION:Pizza Hut vs Court Commanders
END:VALARM
END:VEVENT
BEGIN:VEVENT
UID:ymcacnm-599584@ygametime.com
DTSTAMP:20260509T170000Z
DTSTART;TZID=America/Denver:20260509T110000
DURATION:PT0H60M0S
SUMMARY:Court Commanders vs Red Ravens
DESCRIPTION:8-10u | Volleyball\nYMCA of Central New Mexico\n
URL;VALUE=URI:https://ygametime.com/branch/ymcacnm/sports/2026-spring-volleyball/25882/?utm_medium=calendar&utm_source=team_cal&utm_content=league_url#game-599584
LOCATION:The Field House Volleyball Court 1
BEGIN:VALARM
TRIGGER:-P2H
ACTION:DISPLAY
DESCRIPTION:Court Commanders vs Red Ravens
END:VALARM
END:VEVENT
BEGIN:VEVENT
UID:ymcacnm-599577@ygametime.com
DTSTAMP:20260516T140000Z
DTSTART;TZID=America/Denver:20260516T080000
DURATION:PT0H60M0S
SUMMARY:Court Commanders vs Set Crushers
DESCRIPTION:8-10u | Volleyball\nYMCA of Central New Mexico\n
URL;VALUE=URI:https://ygametime.com/branch/ymcacnm/sports/2026-spring-volleyball/25882/?utm_medium=calendar&utm_source=team_cal&utm_content=league_url#game-599577
LOCATION:The Field House Volleyball Court 1
BEGIN:VALARM
TRIGGER:-P2H
ACTION:DISPLAY
DESCRIPTION:Court Commanders vs Set Crushers
END:VALARM
END:VEVENT
END:VCALENDAR

