BEGIN:VCALENDAR
VERSION:2.0
PRODID:-//YGAMETIME.com//YGT iCal Creator//EN
METHOD:PUBLISH
X-PUBLISHED-TTL:PT6H
REFRESH-INTERVAL;VALUE=DURATION:PT6H
CALSCALE:GREGORIAN
X-WR-CALNAME:YGAMETIME CALENDAR
BEGIN:VEVENT
UID:ymcacnm-599581@ygametime.com
DTSTAMP:20260328T150000Z
DTSTART;TZID=America/Denver:20260328T090000
DURATION:PT0H60M0S
SUMMARY:Red Ravens vs Sugar & Spikes
DESCRIPTION:8-10u | Volleyball\nYMCA of Central New Mexico\n
URL;VALUE=URI:https://ygametime.com/branch/ymcacnm/sports/2026-spring-volleyball/25882/?utm_medium=calendar&utm_source=team_cal&utm_content=league_url#game-599581
LOCATION:The Field House Volleyball Court 1
BEGIN:VALARM
TRIGGER:-P2H
ACTION:DISPLAY
DESCRIPTION:Red Ravens vs Sugar & Spikes
END:VALARM
END:VEVENT
BEGIN:VEVENT
UID:ymcacnm-599558@ygametime.com
DTSTAMP:20260328T160000Z
DTSTART;TZID=America/Denver:20260328T100000
DURATION:PT0H60M0S
SUMMARY:Court Commanders vs Red Ravens
DESCRIPTION:8-10u | Volleyball\nYMCA of Central New Mexico\n
URL;VALUE=URI:https://ygametime.com/branch/ymcacnm/sports/2026-spring-volleyball/25882/?utm_medium=calendar&utm_source=team_cal&utm_content=league_url#game-599558
LOCATION:The Field House Volleyball Court 1
BEGIN:VALARM
TRIGGER:-P2H
ACTION:DISPLAY
DESCRIPTION:Court Commanders vs Red Ravens
END:VALARM
END:VEVENT
BEGIN:VEVENT
UID:ymcacnm-599559@ygametime.com
DTSTAMP:20260404T140000Z
DTSTART;TZID=America/Denver:20260404T080000
DURATION:PT0H60M0S
SUMMARY:Red Ravens vs Spike Stars
DESCRIPTION:8-10u | Volleyball\nYMCA of Central New Mexico\n
URL;VALUE=URI:https://ygametime.com/branch/ymcacnm/sports/2026-spring-volleyball/25882/?utm_medium=calendar&utm_source=team_cal&utm_content=league_url#game-599559
LOCATION:The Field House Volleyball Court 1
BEGIN:VALARM
TRIGGER:-P2H
ACTION:DISPLAY
DESCRIPTION:Red Ravens vs Spike Stars
END:VALARM
END:VEVENT
BEGIN:VEVENT
UID:ymcacnm-599566@ygametime.com
DTSTAMP:20260418T150000Z
DTSTART;TZID=America/Denver:20260418T090000
DURATION:PT0H60M0S
SUMMARY:Pizza Hut vs Red Ravens
DESCRIPTION:8-10u | Volleyball\nYMCA of Central New Mexico\n
URL;VALUE=URI:https://ygametime.com/branch/ymcacnm/sports/2026-spring-volleyball/25882/?utm_medium=calendar&utm_source=team_cal&utm_content=league_url#game-599566
LOCATION:The Field House Volleyball Court 1
BEGIN:VALARM
TRIGGER:-P2H
ACTION:DISPLAY
DESCRIPTION:Pizza Hut vs Red Ravens
END:VALARM
END:VEVENT
BEGIN:VEVENT
UID:ymcacnm-599569@ygametime.com
DTSTAMP:20260425T150000Z
DTSTART;TZID=America/Denver:20260425T090000
DURATION:PT0H60M0S
SUMMARY:Red Ravens vs Set Crushers
DESCRIPTION:8-10u | Volleyball\nYMCA of Central New Mexico\n
URL;VALUE=URI:https://ygametime.com/branch/ymcacnm/sports/2026-spring-volleyball/25882/?utm_medium=calendar&utm_source=team_cal&utm_content=league_url#game-599569
LOCATION:The Field House Volleyball Court 1
BEGIN:VALARM
TRIGGER:-P2H
ACTION:DISPLAY
DESCRIPTION:Red Ravens vs Set Crushers
END:VALARM
END:VEVENT
BEGIN:VEVENT
UID:ymcacnm-599575@ygametime.com
DTSTAMP:20260509T150000Z
DTSTART;TZID=America/Denver:20260509T090000
DURATION:PT0H60M0S
SUMMARY:Red Ravens vs Spike Stars
DESCRIPTION:8-10u | Volleyball\nYMCA of Central New Mexico\n
URL;VALUE=URI:https://ygametime.com/branch/ymcacnm/sports/2026-spring-volleyball/25882/?utm_medium=calendar&utm_source=team_cal&utm_content=league_url#game-599575
LOCATION:The Field House Volleyball Court 1
BEGIN:VALARM
TRIGGER:-P2H
ACTION:DISPLAY
DESCRIPTION:Red Ravens vs Spike Stars
END:VALARM
END:VEVENT
BEGIN:VEVENT
UID:ymcacnm-599584@ygametime.com
DTSTAMP:20260509T170000Z
DTSTART;TZID=America/Denver:20260509T110000
DURATION:PT0H60M0S
SUMMARY:Court Commanders vs Red Ravens
DESCRIPTION:8-10u | Volleyball\nYMCA of Central New Mexico\n
URL;VALUE=URI:https://ygametime.com/branch/ymcacnm/sports/2026-spring-volleyball/25882/?utm_medium=calendar&utm_source=team_cal&utm_content=league_url#game-599584
LOCATION:The Field House Volleyball Court 1
BEGIN:VALARM
TRIGGER:-P2H
ACTION:DISPLAY
DESCRIPTION:Court Commanders vs Red Ravens
END:VALARM
END:VEVENT
BEGIN:VEVENT
UID:ymcacnm-599579@ygametime.com
DTSTAMP:20260516T160000Z
DTSTART;TZID=America/Denver:20260516T100000
DURATION:PT0H60M0S
SUMMARY:Red Ravens vs Sugar & Spikes
DESCRIPTION:8-10u | Volleyball\nYMCA of Central New Mexico\n
URL;VALUE=URI:https://ygametime.com/branch/ymcacnm/sports/2026-spring-volleyball/25882/?utm_medium=calendar&utm_source=team_cal&utm_content=league_url#game-599579
LOCATION:The Field House Volleyball Court 1
BEGIN:VALARM
TRIGGER:-P2H
ACTION:DISPLAY
DESCRIPTION:Red Ravens vs Sugar & Spikes
END:VALARM
END:VEVENT
END:VCALENDAR

